BEGIN:VCALENDAR
VERSION:2.0
PRODID:-//Long Beach Moms - ECPv6.15.20//NONSGML v1.0//EN
CALSCALE:GREGORIAN
METHOD:PUBLISH
X-ORIGINAL-URL:https://lbmoms.com
X-WR-CALDESC:Events for Long Beach Moms
REFRESH-INTERVAL;VALUE=DURATION:PT1H
X-Robots-Tag:noindex
X-PUBLISHED-TTL:PT1H
BEGIN:VTIMEZONE
TZID:America/Los_Angeles
BEGIN:DAYLIGHT
TZOFFSETFROM:-0800
TZOFFSETTO:-0700
TZNAME:PDT
DTSTART:20250309T100000
END:DAYLIGHT
BEGIN:STANDARD
TZOFFSETFROM:-0700
TZOFFSETTO:-0800
TZNAME:PST
DTSTART:20251102T090000
END:STANDARD
BEGIN:DAYLIGHT
TZOFFSETFROM:-0800
TZOFFSETTO:-0700
TZNAME:PDT
DTSTART:20260308T100000
END:DAYLIGHT
BEGIN:STANDARD
TZOFFSETFROM:-0700
TZOFFSETTO:-0800
TZNAME:PST
DTSTART:20261101T090000
END:STANDARD
BEGIN:DAYLIGHT
TZOFFSETFROM:-0800
TZOFFSETTO:-0700
TZNAME:PDT
DTSTART:20270314T100000
END:DAYLIGHT
BEGIN:STANDARD
TZOFFSETFROM:-0700
TZOFFSETTO:-0800
TZNAME:PST
DTSTART:20271107T090000
END:STANDARD
END:VTIMEZONE
BEGIN:VEVENT
DTSTART;TZID=America/Los_Angeles:20260423T080000
DTEND;TZID=America/Los_Angeles:20260426T170000
DTSTAMP:20260420T053343
CREATED:20260312T212850Z
LAST-MODIFIED:20260312T212850Z
UID:19419-1776931200-1777222800@lbmoms.com
SUMMARY:Elevate & Exhale Retreat
DESCRIPTION:Elevate & Exhale | Big Bear Lake | April 23–26 \nAn intimate four-day women’s retreat for clarity\, strategy\, and soulful connection.\nThursday — Arrive & Open Settle in\, sip wine or mocktails on the deck\, enjoy a grazing table\, and open the circle with intention setting.\nFriday — Strategy & Alignment Morning lakeside walk\, mastermind sessions on energy protection and client boundaries\, afternoon strategy game play\, and an evening of honest conversation and hot tub connection.\nSaturday — Leadership & Letting Go A leadership hike at Castle Rock Trail\, participant-led afternoon sessions\, watercolor reflection exercise\, and an evening soundbath followed by a fire release ceremony.\nSunday — Integrate & Depart Slow breakfast\, closing commitments\, accountability pairings\, and a peaceful departure by noon. \nInvestment: $600 per person | Includes accommodations\, breakfasts\, dinners\, and all guided sessions. Private bedroom upgrade available for $200 — one remaining. Space is limited to six women. Spots are filling fast.  Email angelica@pacificbp.com to learn more
URL:https://lbmoms.com/event/elevate-exhale-retreat/
CATEGORIES:Events
ATTACH;FMTTYPE=image/png:https://lbmoms.com/wp-content/uploads/2026/03/MNO-IG-FEED-VIEW-3.png
END:VEVENT
END:VCALENDAR