BEGIN:VCALENDAR
VERSION:2.0
PRODID:-//Long Beach Moms - ECPv6.15.20//NONSGML v1.0//EN
CALSCALE:GREGORIAN
METHOD:PUBLISH
X-ORIGINAL-URL:https://lbmoms.com
X-WR-CALDESC:Events for Long Beach Moms
REFRESH-INTERVAL;VALUE=DURATION:PT1H
X-Robots-Tag:noindex
X-PUBLISHED-TTL:PT1H
BEGIN:VTIMEZONE
TZID:America/Los_Angeles
BEGIN:DAYLIGHT
TZOFFSETFROM:-0800
TZOFFSETTO:-0700
TZNAME:PDT
DTSTART:20200308T100000
END:DAYLIGHT
BEGIN:STANDARD
TZOFFSETFROM:-0700
TZOFFSETTO:-0800
TZNAME:PST
DTSTART:20201101T090000
END:STANDARD
BEGIN:DAYLIGHT
TZOFFSETFROM:-0800
TZOFFSETTO:-0700
TZNAME:PDT
DTSTART:20210314T100000
END:DAYLIGHT
BEGIN:STANDARD
TZOFFSETFROM:-0700
TZOFFSETTO:-0800
TZNAME:PST
DTSTART:20211107T090000
END:STANDARD
BEGIN:DAYLIGHT
TZOFFSETFROM:-0800
TZOFFSETTO:-0700
TZNAME:PDT
DTSTART:20220313T100000
END:DAYLIGHT
BEGIN:STANDARD
TZOFFSETFROM:-0700
TZOFFSETTO:-0800
TZNAME:PST
DTSTART:20221106T090000
END:STANDARD
BEGIN:DAYLIGHT
TZOFFSETFROM:-0800
TZOFFSETTO:-0700
TZNAME:PDT
DTSTART:20230312T100000
END:DAYLIGHT
BEGIN:STANDARD
TZOFFSETFROM:-0700
TZOFFSETTO:-0800
TZNAME:PST
DTSTART:20231105T090000
END:STANDARD
BEGIN:DAYLIGHT
TZOFFSETFROM:-0800
TZOFFSETTO:-0700
TZNAME:PDT
DTSTART:20240310T100000
END:DAYLIGHT
BEGIN:STANDARD
TZOFFSETFROM:-0700
TZOFFSETTO:-0800
TZNAME:PST
DTSTART:20241103T090000
END:STANDARD
BEGIN:DAYLIGHT
TZOFFSETFROM:-0800
TZOFFSETTO:-0700
TZNAME:PDT
DTSTART:20250309T100000
END:DAYLIGHT
BEGIN:STANDARD
TZOFFSETFROM:-0700
TZOFFSETTO:-0800
TZNAME:PST
DTSTART:20251102T090000
END:STANDARD
BEGIN:DAYLIGHT
TZOFFSETFROM:-0800
TZOFFSETTO:-0700
TZNAME:PDT
DTSTART:20260308T100000
END:DAYLIGHT
BEGIN:STANDARD
TZOFFSETFROM:-0700
TZOFFSETTO:-0800
TZNAME:PST
DTSTART:20261101T090000
END:STANDARD
END:VTIMEZONE
BEGIN:VEVENT
DTSTART;TZID=America/Los_Angeles:20250621T110000
DTEND;TZID=America/Los_Angeles:20250621T130000
DTSTAMP:20260421T165138
CREATED:20250529T035137Z
LAST-MODIFIED:20250529T035137Z
UID:16628-1750503600-1750510800@lbmoms.com
SUMMARY:Long Beach Family Arts Festival
DESCRIPTION:The Long Beach Youth Chorus is proud to announce their 3rd annual Long Beach Family Arts Festival\, to be held on Saturday\, June 21 at 11am on the grounds of Grace First Presbyterian Church. Performing alongside the LBYC will be other arts organizations serving youth and children from the region. Come join in this free\, family friendly event celebrating the organizations that train kids into the arts in Long Beach! The event is the culmination of their Summer Arts Institute. More information available at longbeachyouthchorus.org
URL:https://lbmoms.com/event/long-beach-family-arts-festival/
LOCATION:Grace First\, 3955 N. Studebaker Road\, Long Beach\, CA\, 90803\, United States
CATEGORIES:Concerts,Free Events
ATTACH;FMTTYPE=image/jpeg:https://lbmoms.com/wp-content/uploads/2025/05/image0.jpeg
END:VEVENT
BEGIN:VEVENT
DTSTART;TZID=America/Los_Angeles:20250524T160000
DTEND;TZID=America/Los_Angeles:20250524T190000
DTSTAMP:20260421T165138
CREATED:20250515T043843Z
LAST-MODIFIED:20250515T044014Z
UID:16484-1748102400-1748113200@lbmoms.com
SUMMARY:Live at The Shell
DESCRIPTION:2025 Schedule​\n\n\n\n\nMay 24\, 4 – 7 pm:      High School Battle of the Bands Contest \nMay 31\, 5 – 6:30 pm:   Sing-a-Long Beach! w Long Beach Youth Chorus \nJun 13\, 14\, 7-10 pm:  Shakespeare by the Sea – As You Like It \nJun 20\, 21\, 7-10 pm:  Shakespeare by the Sea – Julius Caesar \n7 Saturdays of Summer \n\nJuly 12\, 6-8 pm: Wk 1 – Knyght Ryder\nJuly 19\, 11 am – 8 pm: Wk 2 – Long Beach Bluegrass Festival\nJuly 26\, 6-8 pm: Wk 3 – Rock-a-Billy\nAug 2\, 5:30-7:30 pm: Wk 4 – Jazz at The Shell​​\nAug 9\, 6-7:30 pm: Wk 5 – Long Beach Camerata Singers\nAug 16\, 4-7 pm: Wk 6 – Country Line Dancing w Cindi M and Daniel Bonte & The Bona Fide​​​​\nAug 23\, 4-7 pm: Wk 7 – Long Beach Gospel Music Festival\nSept 14\, 2-5 pm: Long Beach Gives Live! – Expo & Festival
URL:https://lbmoms.com/event/live-at-the-shell/
LOCATION:701-939 Federation Drive\, 701-939 Federation Drive\, Long Beach\, CA\, 90804\, United States
CATEGORIES:Concerts,Events,Free Events
ATTACH;FMTTYPE=image/png:https://lbmoms.com/wp-content/uploads/2025/05/Shell.png
END:VEVENT
BEGIN:VEVENT
DTSTART;TZID=America/Los_Angeles:20231026T170000
DTEND;TZID=America/Los_Angeles:20231026T200000
DTSTAMP:20260421T165138
CREATED:20231026T060804Z
LAST-MODIFIED:20231026T061640Z
UID:13906-1698339600-1698350400@lbmoms.com
SUMMARY:Beach Side Beats Fest & Thriller Dance Flash Mob
DESCRIPTION:Beachside Beats Fest – Ghouls Night Out Tribute to Michael Jackson’s Thriller \nJoin us for an electrifying night at 2ND & PCH\, Pacific Coast Highway\, Long Beach\, CA\, USA! Get ready to groove and pay homage to the King of Pop\, Michael Jackson\, with our chilling tribute to his iconic album\, Thriller. It’s time to dust off your dancing shoes and unleash your inner ghoul! This in-person event promises to be a thrilling experience you won’t want to miss. So grab your friends\, put on your spookiest outfit\, and get ready to dance the night away to the beat of Michael Jackson’s timeless hits. Let’s make this Ghouls Night Out an unforgettable celebration of music and memories! \nArrive at 5 PM for the THRILLER DANCE TUTORIAL and join us at approximately 7 PM for the first ever thriller dance flash mob at 2ND & PCH! \nThe featured band is BROWNDITION\, an all-Filipino band to pay homage to Filipino American History Month for the month of October! \nRSVP now to receive an exclusive Halloween trick or treat tote when you check in during the event at the 2ND & PCH booth. \nThis event is weather permitting. Please be sure to subscribe to 2ND & PCH CIRCLE to receive the latest updates on upcoming events.
URL:https://lbmoms.com/event/beach-side-beats-fest-thriller-dance-flash-mob/
LOCATION:2nd & PCH\, 6400 Pacific Coast Hwy\, Long Beach\, CA\, 90803\, United States
CATEGORIES:City of Long Beach,Concerts
ATTACH;FMTTYPE=image/png:https://lbmoms.com/wp-content/uploads/2023/10/Screenshot-2023-10-25-11.06.23-PM.png
END:VEVENT
BEGIN:VEVENT
DTSTART;TZID=America/Los_Angeles:20220905T130000
DTEND;TZID=America/Los_Angeles:20220905T170000
DTSTAMP:20260421T165138
CREATED:20220826T175836Z
LAST-MODIFIED:20220826T184520Z
UID:11161-1662382800-1662397200@lbmoms.com
SUMMARY:Labor Day Weekend Seaside Concerts
DESCRIPTION:Celebrate Summertime at Shoreline Village with our FREE summer concerts \nJoin us September 4th and 5th where we will offer free live music from 1-5 pm to celebrate Labor Day weekend and top off our Summertime Seaside Concerts right!\n\nSeptember\n4 – The Pedro Reis Band (Pop/Rock/R&B)\n5 – 8Tease (80’s)\n\nConcerts take place at the Boardwalk Theater (by the Funnel House) . Concerts are FREE and require NO TICKETS. Parking additional (rates posted as you enter) For discounted parking make sure to validate your parking ticket at one of our shops or restaurants.
URL:https://lbmoms.com/event/labor-day-weekend-seaside-concerts-2022-09-05/
LOCATION:Shoreline Village\, 401-435 Shoreline Village Drive\, Long Beach\, CA\, 90802\, United States
CATEGORIES:Concerts,Free Events
ATTACH;FMTTYPE=image/jpeg:https://lbmoms.com/wp-content/uploads/2022/08/IMG_2566.jpg
END:VEVENT
BEGIN:VEVENT
DTSTART;TZID=America/Los_Angeles:20220904T130000
DTEND;TZID=America/Los_Angeles:20220904T170000
DTSTAMP:20260421T165138
CREATED:20220826T175836Z
LAST-MODIFIED:20220826T184520Z
UID:11158-1662296400-1662310800@lbmoms.com
SUMMARY:Labor Day Weekend Seaside Concerts
DESCRIPTION:Celebrate Summertime at Shoreline Village with our FREE summer concerts \nJoin us September 4th and 5th where we will offer free live music from 1-5 pm to celebrate Labor Day weekend and top off our Summertime Seaside Concerts right!\n\nSeptember\n4 – The Pedro Reis Band (Pop/Rock/R&B)\n5 – 8Tease (80’s)\n\nConcerts take place at the Boardwalk Theater (by the Funnel House) . Concerts are FREE and require NO TICKETS. Parking additional (rates posted as you enter) For discounted parking make sure to validate your parking ticket at one of our shops or restaurants.
URL:https://lbmoms.com/event/labor-day-weekend-seaside-concerts/
LOCATION:Shoreline Village\, 401-435 Shoreline Village Drive\, Long Beach\, CA\, 90802\, United States
CATEGORIES:Concerts,Free Events
ATTACH;FMTTYPE=image/jpeg:https://lbmoms.com/wp-content/uploads/2022/08/IMG_2566.jpg
END:VEVENT
BEGIN:VEVENT
DTSTART;TZID=America/Los_Angeles:20210708T183000
DTEND;TZID=America/Los_Angeles:20210708T200000
DTSTAMP:20260421T165138
CREATED:20210707T234450Z
LAST-MODIFIED:20210707T234450Z
UID:8323-1625769000-1625774400@lbmoms.com
SUMMARY:El Dorado Nature Center: Summer Concerts Series
DESCRIPTION:July 8 – Corday (classic rock)\nJuly 22 – The Salty Suites (acoustic and instrumental)\nAugust 5 – Big City Hillbillies (dance and swing)\nAugust 19 – Steel Parade (island and calypso)\nSeptember 2 – Sligo Rags (Celtic\, jazz and Bluegrass)\nSeptember 16 – JP McDermott & Western Bop (rockabilly)\n\nEvents are free\, but a $5 donation towards the El Dorado Nature Center is encouraged! \nPlease bring low chairs\, or a blanket\, and a picnic dinner.
URL:https://lbmoms.com/event/el-dorado-nature-center-summer-concerts-series/
LOCATION:El Dorado Nature Center\, 7550 E Spring St\, Long Beach\, CA\, 90815\, United States
CATEGORIES:City of Long Beach,Concerts
ATTACH;FMTTYPE=image/png:https://lbmoms.com/wp-content/uploads/2021/07/Copy-of-Copy-of-CITY-OF-LONG-BEACH-PRESENTS-MOVIES-IN-THE-PARK-4.png
END:VEVENT
END:VCALENDAR