BEGIN:VCALENDAR
VERSION:2.0
PRODID:-//Long Beach Moms - ECPv6.15.20//NONSGML v1.0//EN
CALSCALE:GREGORIAN
METHOD:PUBLISH
X-ORIGINAL-URL:https://lbmoms.com
X-WR-CALDESC:Events for Long Beach Moms
REFRESH-INTERVAL;VALUE=DURATION:PT1H
X-Robots-Tag:noindex
X-PUBLISHED-TTL:PT1H
BEGIN:VTIMEZONE
TZID:America/Los_Angeles
BEGIN:DAYLIGHT
TZOFFSETFROM:-0800
TZOFFSETTO:-0700
TZNAME:PDT
DTSTART:20240310T100000
END:DAYLIGHT
BEGIN:STANDARD
TZOFFSETFROM:-0700
TZOFFSETTO:-0800
TZNAME:PST
DTSTART:20241103T090000
END:STANDARD
BEGIN:DAYLIGHT
TZOFFSETFROM:-0800
TZOFFSETTO:-0700
TZNAME:PDT
DTSTART:20250309T100000
END:DAYLIGHT
BEGIN:STANDARD
TZOFFSETFROM:-0700
TZOFFSETTO:-0800
TZNAME:PST
DTSTART:20251102T090000
END:STANDARD
BEGIN:DAYLIGHT
TZOFFSETFROM:-0800
TZOFFSETTO:-0700
TZNAME:PDT
DTSTART:20260308T100000
END:DAYLIGHT
BEGIN:STANDARD
TZOFFSETFROM:-0700
TZOFFSETTO:-0800
TZNAME:PST
DTSTART:20261101T090000
END:STANDARD
END:VTIMEZONE
BEGIN:VEVENT
DTSTART;TZID=America/Los_Angeles:20250305T150000
DTEND;TZID=America/Los_Angeles:20250305T190000
DTSTAMP:20260424T052538
CREATED:20231025T055643Z
LAST-MODIFIED:20231025T055643Z
UID:14104-1741186800-1741201200@lbmoms.com
SUMMARY:Local Harvest Farmers Market
DESCRIPTION:This traditional farmers market favorite occurs from 3-7 p.m.\, at Marine Stadium (5255 Paoli Way). Farm fresh\, California-grown fruits and vegetables are a staple as are stunning selections of fresh cut flowers. As the Marine Stadium market has evolved\, so has the selection of artisanal items\, ranging from bread to honey to vinegar as has the selection of gourmet specialty foods and coffee. Located by the water of historic Marine Stadium\, which hosted the rowing events of the 1932 Olympics\, it makes for a wonderful afternoon/evening out\, whether shopping for food\, jewelry or something to eat right away while you groove to live music.
URL:https://lbmoms.com/event/local-harvest-farmers-market-2025-03-05/
LOCATION:Marine Stadium\, 5255 E Paoli Way\, Long Beach\, CA\, 90803\, United States
CATEGORIES:City of Long Beach,Events,Free Events
ATTACH;FMTTYPE=image/png:https://lbmoms.com/wp-content/uploads/2023/10/Local-Harvest.png
END:VEVENT
BEGIN:VEVENT
DTSTART;TZID=America/Los_Angeles:20250311T180000
DTEND;TZID=America/Los_Angeles:20250311T200000
DTSTAMP:20260424T052538
CREATED:20250302T075332Z
LAST-MODIFIED:20250302T075332Z
UID:15900-1741716000-1741723200@lbmoms.com
SUMMARY:Dance Downtown Revolution
DESCRIPTION:✨💃 Dance Downtown Revolution is Here! 🕺✨ \nGet ready to strike a pose and own the runway—our first FREE DDR lesson is all about VOGUING! Learn the fierce\, expressive movements of this iconic dance style with @justdestiny and @houseoflongbeach. No experience needed—just bring your confidence and energy! And this is just the beginning! \nEvery Tuesday through May\, we’re bringing you a wide variety of dance styles and instructors!
URL:https://lbmoms.com/event/dance-downtown-revolution/
CATEGORIES:Free Events
ATTACH;FMTTYPE=image/jpeg:https://lbmoms.com/wp-content/uploads/2025/03/Dance-Downtown.jpg
END:VEVENT
BEGIN:VEVENT
DTSTART;TZID=America/Los_Angeles:20250312T150000
DTEND;TZID=America/Los_Angeles:20250312T190000
DTSTAMP:20260424T052538
CREATED:20231025T055643Z
LAST-MODIFIED:20231025T055643Z
UID:14105-1741791600-1741806000@lbmoms.com
SUMMARY:Local Harvest Farmers Market
DESCRIPTION:This traditional farmers market favorite occurs from 3-7 p.m.\, at Marine Stadium (5255 Paoli Way). Farm fresh\, California-grown fruits and vegetables are a staple as are stunning selections of fresh cut flowers. As the Marine Stadium market has evolved\, so has the selection of artisanal items\, ranging from bread to honey to vinegar as has the selection of gourmet specialty foods and coffee. Located by the water of historic Marine Stadium\, which hosted the rowing events of the 1932 Olympics\, it makes for a wonderful afternoon/evening out\, whether shopping for food\, jewelry or something to eat right away while you groove to live music.
URL:https://lbmoms.com/event/local-harvest-farmers-market-2025-03-12/
LOCATION:Marine Stadium\, 5255 E Paoli Way\, Long Beach\, CA\, 90803\, United States
CATEGORIES:City of Long Beach,Events,Free Events
ATTACH;FMTTYPE=image/png:https://lbmoms.com/wp-content/uploads/2023/10/Local-Harvest.png
END:VEVENT
BEGIN:VEVENT
DTSTART;TZID=America/Los_Angeles:20250315T090000
DTEND;TZID=America/Los_Angeles:20250315T120000
DTSTAMP:20260424T052538
CREATED:20250313T022252Z
LAST-MODIFIED:20250313T022252Z
UID:15961-1742029200-1742040000@lbmoms.com
SUMMARY:Queens in the Making: Empowering Girls\, Shaping Leaders
DESCRIPTION:This March\, the Queen Mary will honor Women’s History Month by celebrating the incredible achievements and contributions of women. The inaugural “Queens in the Making” Women’s Empowerment Summit\, a free event\, will take place on March 15. Designed to inspire\, uplift\, and empower women in all stages of their journeys\, the summit will feature keynote addresses\, speaker sessions\, interactive workshops\, panel discussions\, and networking opportunities. \nThe event will bring together a diverse group of influential women from various industries to foster meaningful conversations\, mentorship\, and leadership development. The keynote speaker is LaTanya Sheffield\, Olympic Gold medalist\, and track and field head coach at Cal State Long Beach University. Among the featured speakers are Koco McAboy\, Emmy award-winning Journalist and Reporter\, Mary Zendejas\, District 1 Councilwoman of Long Beach\, Riji Raja\, Founder of Affirmation Darling\, Stacey Lewis\, CEO & Founder of HR Interrupted\, Samantha Mehlinger\, Vice President of Communication and Marketing for Visit Long Beach\, and Keichun Graves\, Speaker\, Author and Innovator\, with additional speakers to be announced in early March. \nAttendees will have the opportunity to participate in engaging discussions\, hands-on learning sessions\, interactive workshops\, and networking moments over coffee and lunch. The event will also showcase exhibiting vendors\, providing further resources and inspiration for professional and personal growth.
URL:https://lbmoms.com/event/queens-in-the-making-empowering-girls-shaping-leaders/
CATEGORIES:Free Events
ATTACH;FMTTYPE=image/png:https://lbmoms.com/wp-content/uploads/2025/03/Newsletter-Event-Graphics-6.png
END:VEVENT
BEGIN:VEVENT
DTSTART;TZID=America/Los_Angeles:20250316T110000
DTEND;TZID=America/Los_Angeles:20250316T120000
DTSTAMP:20260424T052538
CREATED:20250313T022908Z
LAST-MODIFIED:20250313T022908Z
UID:15968-1742122800-1742126400@lbmoms.com
SUMMARY:Family Art Making Workshop
DESCRIPTION:The Long Beach Museum of Art hosts a Family Artmaking Workshop on the 3rd Sunday of each month with themes inspired by current exhibitions at the museum. Projects are designed for all ages and skill levels. Family ArtMaking is free; no sign-ups are required. Children must be accompanied by an adult at all times.
URL:https://lbmoms.com/event/family-art-making-workshop/
CATEGORIES:Free Events
ATTACH;FMTTYPE=image/png:https://lbmoms.com/wp-content/uploads/2025/03/Newsletter-Event-Graphics-7.png
END:VEVENT
BEGIN:VEVENT
DTSTART;TZID=America/Los_Angeles:20250316T110000
DTEND;TZID=America/Los_Angeles:20250316T120000
DTSTAMP:20260424T052538
CREATED:20250313T022535Z
LAST-MODIFIED:20250313T022535Z
UID:15965-1742122800-1742126400@lbmoms.com
SUMMARY:Kidical Mass Bike Ride
DESCRIPTION:Get ready to roll into spring with the Bixby Knolls March Kidical Mass Bike Ride! This month\, we’re bringing the luck—so wear green or your favorite lucky outfit/accessory and join us for a fun community ride. We’ll be keeping an eye on the weather since rain is in the forecast this week\, but fingers crossed for clear skies on ride day! \nRide leaves at 11AM from Pixie Toys’ back parking lot at 3914 Atlantic Ave. \nKids & adults of all ages welcome.\nPlease don’t forget your helmets! \nBring a friend or make new ones along the way. Plus\, enjoy free treats during the ride! Let’s ride\, celebrate\, and spread some good luck vibes together.
URL:https://lbmoms.com/event/kidical-mass-bike-ride-2/
CATEGORIES:Free Events
ATTACH;FMTTYPE=image/png:https://lbmoms.com/wp-content/uploads/2025/03/Kidical-Mass.png
END:VEVENT
BEGIN:VEVENT
DTSTART;TZID=America/Los_Angeles:20250316T130000
DTEND;TZID=America/Los_Angeles:20250316T180000
DTSTAMP:20260424T052538
CREATED:20250313T023215Z
LAST-MODIFIED:20250313T023215Z
UID:15971-1742130000-1742148000@lbmoms.com
SUMMARY:ShamRock On Pine
DESCRIPTION:ShamRock On Pine: Join us on Sunday\, March 16\, from 1 PM to 6 PM for a FREE St. Patrick’s Day celebration above Shannon’s On Pine Irish Sports Pub in Downtown Long Beach. Enjoy live music\, Irish food\, green beer\, and all the Irish cheer you can handle. Performances by Long Beach Irish Men and Magickly Delishush will bring the best in Irish tunes and lively entertainment. Don your green and get ready for an afternoon of great music\, festive vibes\, and a true Irish party you won’t want to miss. RSVP now at atthetop.shannonscorner.com!
URL:https://lbmoms.com/event/shamrock-on-pine/
CATEGORIES:Events,Free Events
ATTACH;FMTTYPE=image/png:https://lbmoms.com/wp-content/uploads/2025/03/Shamrock.png
END:VEVENT
BEGIN:VEVENT
DTSTART;TZID=America/Los_Angeles:20250319T150000
DTEND;TZID=America/Los_Angeles:20250319T190000
DTSTAMP:20260424T052538
CREATED:20231025T055643Z
LAST-MODIFIED:20231025T055643Z
UID:14106-1742396400-1742410800@lbmoms.com
SUMMARY:Local Harvest Farmers Market
DESCRIPTION:This traditional farmers market favorite occurs from 3-7 p.m.\, at Marine Stadium (5255 Paoli Way). Farm fresh\, California-grown fruits and vegetables are a staple as are stunning selections of fresh cut flowers. As the Marine Stadium market has evolved\, so has the selection of artisanal items\, ranging from bread to honey to vinegar as has the selection of gourmet specialty foods and coffee. Located by the water of historic Marine Stadium\, which hosted the rowing events of the 1932 Olympics\, it makes for a wonderful afternoon/evening out\, whether shopping for food\, jewelry or something to eat right away while you groove to live music.
URL:https://lbmoms.com/event/local-harvest-farmers-market-2025-03-19/
LOCATION:Marine Stadium\, 5255 E Paoli Way\, Long Beach\, CA\, 90803\, United States
CATEGORIES:City of Long Beach,Events,Free Events
ATTACH;FMTTYPE=image/png:https://lbmoms.com/wp-content/uploads/2023/10/Local-Harvest.png
END:VEVENT
BEGIN:VEVENT
DTSTART;TZID=America/Los_Angeles:20250322T110000
DTEND;TZID=America/Los_Angeles:20250322T140000
DTSTAMP:20260424T052538
CREATED:20250320T205011Z
LAST-MODIFIED:20250320T205011Z
UID:16010-1742641200-1742652000@lbmoms.com
SUMMARY:Cherry Blossom Festival
DESCRIPTION:2ND & PCH hosts Dreamers Market for a special Cherry Blossom Festival edition. Celebrate the beauty of cherry blossoms with this culturally inspired market featuring unique vendors\, live entertainment with Japanese taiko drummers\, special character appearances\, and festive activities.
URL:https://lbmoms.com/event/cherry-blossom-festival/
CATEGORIES:Free Events
ATTACH;FMTTYPE=image/png:https://lbmoms.com/wp-content/uploads/2025/03/Newsletter-Event-Graphics.png
END:VEVENT
BEGIN:VEVENT
DTSTART;TZID=America/Los_Angeles:20250322T150000
DTEND;TZID=America/Los_Angeles:20250322T200000
DTSTAMP:20260424T052538
CREATED:20250320T205451Z
LAST-MODIFIED:20250320T205451Z
UID:16014-1742655600-1742673600@lbmoms.com
SUMMARY:Via Zaferia!
DESCRIPTION:Via Zaferia is a District wide celebration featuring live music\, food and drink specials\, shopping\, and more! Let the Big Red Bus shuttle you around the district for FREE and celebrate the Spring Equinox with us. Live musical performances\, food & drink specials\, shopping deals and more are happening at participating businesses all throughout the district! \nFeaturing big red bus rides\, a nature station with live baby chicks\, sound bath\, artist market\, henna art\, hair tinsel\, kids music mix lab\, collage art craft\, DJs\, live music\, a bounce house\, free parking\, and more! Follow the Zaferia Business Association on Instagram or check the website for updates and more info!
URL:https://lbmoms.com/event/via-zaferia/
CATEGORIES:Events,Free Events
ATTACH;FMTTYPE=image/png:https://lbmoms.com/wp-content/uploads/2025/03/Via-Zaferia.png
END:VEVENT
BEGIN:VEVENT
DTSTART;TZID=America/Los_Angeles:20250326T150000
DTEND;TZID=America/Los_Angeles:20250326T190000
DTSTAMP:20260424T052538
CREATED:20231025T055643Z
LAST-MODIFIED:20231025T055643Z
UID:14107-1743001200-1743015600@lbmoms.com
SUMMARY:Local Harvest Farmers Market
DESCRIPTION:This traditional farmers market favorite occurs from 3-7 p.m.\, at Marine Stadium (5255 Paoli Way). Farm fresh\, California-grown fruits and vegetables are a staple as are stunning selections of fresh cut flowers. As the Marine Stadium market has evolved\, so has the selection of artisanal items\, ranging from bread to honey to vinegar as has the selection of gourmet specialty foods and coffee. Located by the water of historic Marine Stadium\, which hosted the rowing events of the 1932 Olympics\, it makes for a wonderful afternoon/evening out\, whether shopping for food\, jewelry or something to eat right away while you groove to live music.
URL:https://lbmoms.com/event/local-harvest-farmers-market-2025-03-26/
LOCATION:Marine Stadium\, 5255 E Paoli Way\, Long Beach\, CA\, 90803\, United States
CATEGORIES:City of Long Beach,Events,Free Events
ATTACH;FMTTYPE=image/png:https://lbmoms.com/wp-content/uploads/2023/10/Local-Harvest.png
END:VEVENT
BEGIN:VEVENT
DTSTART;TZID=America/Los_Angeles:20250327T140000
DTEND;TZID=America/Los_Angeles:20250327T160000
DTSTAMP:20260424T052538
CREATED:20250320T210221Z
LAST-MODIFIED:20250320T210221Z
UID:16017-1743084000-1743091200@lbmoms.com
SUMMARY:Art Workshop: Mini Tapestries
DESCRIPTION:The Kleefeld Contemporary Art Museum on the campus of Cal State Long Beach will host a free drop-in art workshop on March 27. \nLed by the CSULB Fiber Arts Club\, participants will hand-weave mini tapestries using mini looms\, yarn\, beads\, and more! You can sketch a plan or freestyle as you create. Your DIY tapestries are yours to keep! \nThis workshop is inspired by artist Terri Friedman’s work Green Placebo (2019) on display in Inner Vision: Abstraction and Cognition. Free and open to the public\, no RSVP required.
URL:https://lbmoms.com/event/art-workshop-mini-tapestries/
CATEGORIES:Free Events
ATTACH;FMTTYPE=image/png:https://lbmoms.com/wp-content/uploads/2025/03/Newsletter-Event-Graphics-2.png
END:VEVENT
END:VCALENDAR