BEGIN:VCALENDAR
VERSION:2.0
PRODID:-//Long Beach Moms - ECPv6.15.20//NONSGML v1.0//EN
CALSCALE:GREGORIAN
METHOD:PUBLISH
X-WR-CALNAME:Long Beach Moms
X-ORIGINAL-URL:https://lbmoms.com
X-WR-CALDESC:Events for Long Beach Moms
REFRESH-INTERVAL;VALUE=DURATION:PT1H
X-Robots-Tag:noindex
X-PUBLISHED-TTL:PT1H
BEGIN:VTIMEZONE
TZID:America/Los_Angeles
BEGIN:DAYLIGHT
TZOFFSETFROM:-0800
TZOFFSETTO:-0700
TZNAME:PDT
DTSTART:20240310T100000
END:DAYLIGHT
BEGIN:STANDARD
TZOFFSETFROM:-0700
TZOFFSETTO:-0800
TZNAME:PST
DTSTART:20241103T090000
END:STANDARD
BEGIN:DAYLIGHT
TZOFFSETFROM:-0800
TZOFFSETTO:-0700
TZNAME:PDT
DTSTART:20250309T100000
END:DAYLIGHT
BEGIN:STANDARD
TZOFFSETFROM:-0700
TZOFFSETTO:-0800
TZNAME:PST
DTSTART:20251102T090000
END:STANDARD
BEGIN:DAYLIGHT
TZOFFSETFROM:-0800
TZOFFSETTO:-0700
TZNAME:PDT
DTSTART:20260308T100000
END:DAYLIGHT
BEGIN:STANDARD
TZOFFSETFROM:-0700
TZOFFSETTO:-0800
TZNAME:PST
DTSTART:20261101T090000
END:STANDARD
END:VTIMEZONE
BEGIN:VEVENT
DTSTART;TZID=America/Los_Angeles:20251001T150000
DTEND;TZID=America/Los_Angeles:20251001T190000
DTSTAMP:20260422T003944
CREATED:20231025T055643Z
LAST-MODIFIED:20231025T055643Z
UID:14134-1759330800-1759345200@lbmoms.com
SUMMARY:Local Harvest Farmers Market
DESCRIPTION:This traditional farmers market favorite occurs from 3-7 p.m.\, at Marine Stadium (5255 Paoli Way). Farm fresh\, California-grown fruits and vegetables are a staple as are stunning selections of fresh cut flowers. As the Marine Stadium market has evolved\, so has the selection of artisanal items\, ranging from bread to honey to vinegar as has the selection of gourmet specialty foods and coffee. Located by the water of historic Marine Stadium\, which hosted the rowing events of the 1932 Olympics\, it makes for a wonderful afternoon/evening out\, whether shopping for food\, jewelry or something to eat right away while you groove to live music.
URL:https://lbmoms.com/event/local-harvest-farmers-market-2025-10-01/
LOCATION:Marine Stadium\, 5255 E Paoli Way\, Long Beach\, CA\, 90803\, United States
CATEGORIES:City of Long Beach,Events,Free Events
ATTACH;FMTTYPE=image/png:https://lbmoms.com/wp-content/uploads/2023/10/Local-Harvest.png
END:VEVENT
BEGIN:VEVENT
DTSTART;TZID=America/Los_Angeles:20251001T163000
DTEND;TZID=America/Los_Angeles:20251001T173000
DTSTAMP:20260422T003944
CREATED:20250925T175750Z
LAST-MODIFIED:20250925T175750Z
UID:18195-1759336200-1759339800@lbmoms.com
SUMMARY:Teen Gaming @ BJK Main
DESCRIPTION:Join us for Teen Gaming\, where you can play your favorite video games\, discover new ones\, and hang out with fellow gamers. Whether you’re into competitive matches or just want to have fun\, this program is the perfect place to unwind and connect with friends.\nWe provide a variety of games and consoles for you to enjoy\, so just bring yourself and your love for gaming.\nNo registration is required—just drop by and play!\nOpen to teens ages 13–18. See you in the Teen Lounge on L2! \n\n\n\n\nAddress\nBillie Jean King Main Library\, 200 W BROADWAY 90802\n\n\nLibrary Location\nBillie Jean King\n\n\nEvent Type\nEntertainment\n\n\nAudience\nTeens\n\n\nContact Name\nMs. Nakisha\n\n\nContact Phone\n562-570-7500\n\n\nDepartment\nLong Beach Public Library\n\n\nLanguage Access\nTo request this information in an alternative format or to request a reasonable accommodation\, please contact the listed email or phone number. \nPara solicitar esta información en un formato alternativo o para pedir una adaptación razonable\, favor de comunicarse a través del correo electrónico o número de teléfono proporcionado. \nដើម្បីស្នើសុំព័ត៌មាននេះ​ ក្នុងទម្រង់ផ្សេង ឬស្នើសុំតាមតម្រូវការសមរម្យណាមួយ សូមទាក់ទងអ៊ីមែល ឬលេខទូរស័ព្ទ ដែលបានចុះនៅលើបញ្ជី។ \nPara maka-hiling ng impormasyon na ito sa isang alternatibong pormat o maka-hiling ng makatwirang akomodasyon\, maaari pong kontakin ang email o ang numero ng telepono na nakalista.
URL:https://lbmoms.com/event/teen-gaming-bjk-main/
LOCATION:Billie Jean King Main Library\, 200 W. Broadway\, Long Beach\, 90802\, United States
CATEGORIES:Free Events
ATTACH;FMTTYPE=image/png:https://lbmoms.com/wp-content/uploads/2025/09/Newsletter-Event-Graphics-11.png
END:VEVENT
BEGIN:VEVENT
DTSTART;TZID=America/Los_Angeles:20251006T080000
DTEND;TZID=America/Los_Angeles:20251109T170000
DTSTAMP:20260422T003944
CREATED:20251009T202215Z
LAST-MODIFIED:20251009T202215Z
UID:18285-1759737600-1762707600@lbmoms.com
SUMMARY:In-And-Out: Cover to Cover
DESCRIPTION:Please call the Library for more information: 562-989-7323
URL:https://lbmoms.com/event/in-and-out-cover-to-cover/
CATEGORIES:Free Events
ATTACH;FMTTYPE=image/png:https://lbmoms.com/wp-content/uploads/2025/10/Screenshot-2025-10-09-at-1.19.03-PM.png
END:VEVENT
BEGIN:VEVENT
DTSTART;TZID=America/Los_Angeles:20251008T150000
DTEND;TZID=America/Los_Angeles:20251008T190000
DTSTAMP:20260422T003944
CREATED:20231025T055643Z
LAST-MODIFIED:20231025T055643Z
UID:14135-1759935600-1759950000@lbmoms.com
SUMMARY:Local Harvest Farmers Market
DESCRIPTION:This traditional farmers market favorite occurs from 3-7 p.m.\, at Marine Stadium (5255 Paoli Way). Farm fresh\, California-grown fruits and vegetables are a staple as are stunning selections of fresh cut flowers. As the Marine Stadium market has evolved\, so has the selection of artisanal items\, ranging from bread to honey to vinegar as has the selection of gourmet specialty foods and coffee. Located by the water of historic Marine Stadium\, which hosted the rowing events of the 1932 Olympics\, it makes for a wonderful afternoon/evening out\, whether shopping for food\, jewelry or something to eat right away while you groove to live music.
URL:https://lbmoms.com/event/local-harvest-farmers-market-2025-10-08/
LOCATION:Marine Stadium\, 5255 E Paoli Way\, Long Beach\, CA\, 90803\, United States
CATEGORIES:City of Long Beach,Events,Free Events
ATTACH;FMTTYPE=image/png:https://lbmoms.com/wp-content/uploads/2023/10/Local-Harvest.png
END:VEVENT
BEGIN:VEVENT
DTSTART;TZID=America/Los_Angeles:20251011T090000
DTEND;TZID=America/Los_Angeles:20251011T103000
DTSTAMP:20260422T003944
CREATED:20251009T201219Z
LAST-MODIFIED:20251009T212935Z
UID:18279-1760173200-1760178600@lbmoms.com
SUMMARY:Southern Los Cerritos Wetlands Walk
DESCRIPTION:
URL:https://lbmoms.com/event/southern-los-cerritos-wetlands-walk/
LOCATION:6720 Pacific Coast Hwy\, Seal Beach\, CA 90740\, 6720 Pacific Coast Hwy\, Seal Beach\, CA\, 90740
CATEGORIES:Free Events
ATTACH;FMTTYPE=image/png:https://lbmoms.com/wp-content/uploads/2025/10/Screenshot-2025-10-09-at-1.09.47-PM.png
END:VEVENT
BEGIN:VEVENT
DTSTART;TZID=America/Los_Angeles:20251011T150000
DTEND;TZID=America/Los_Angeles:20251011T180000
DTSTAMP:20260422T003944
CREATED:20251001T211502Z
LAST-MODIFIED:20251001T211502Z
UID:18242-1760194800-1760205600@lbmoms.com
SUMMARY:Howl-O-Ween at Beachwood Brewing
DESCRIPTION:Beachwood Brewing will host the annual “Howl-O-Ween” Dog Event at their Bixby Knolls Taproom. FREE for the entire family to attend. \nEnter your pup in the red-carpet costume contest for a chance to win prizes\, or come enjoy the show even if you don’t have a dog! Entry is $5 per dog (100% of proceeds benefit spcaLA)\, with sign-ups starting at 3 PM and the Runway Strut at 5 PM. Prizes will be awarded for solo pups\, pup + owner duos\, and 2nd & 3rd place winners\, thanks to our partners and donors. Enjoy Halloween cocktails and a spooky\, decked-out space for humans.
URL:https://lbmoms.com/event/howl-o-ween-at-beachwood-brewing/
LOCATION:3630 Atlantic Ave\, 3630 Atlantic Ave\, Long Beach\, CA\, 90807\, United States
CATEGORIES:Free Events
ATTACH;FMTTYPE=image/png:https://lbmoms.com/wp-content/uploads/2025/10/Howl.png
END:VEVENT
BEGIN:VEVENT
DTSTART;TZID=America/Los_Angeles:20251015T150000
DTEND;TZID=America/Los_Angeles:20251015T190000
DTSTAMP:20260422T003944
CREATED:20231025T055643Z
LAST-MODIFIED:20231025T055643Z
UID:14136-1760540400-1760554800@lbmoms.com
SUMMARY:Local Harvest Farmers Market
DESCRIPTION:This traditional farmers market favorite occurs from 3-7 p.m.\, at Marine Stadium (5255 Paoli Way). Farm fresh\, California-grown fruits and vegetables are a staple as are stunning selections of fresh cut flowers. As the Marine Stadium market has evolved\, so has the selection of artisanal items\, ranging from bread to honey to vinegar as has the selection of gourmet specialty foods and coffee. Located by the water of historic Marine Stadium\, which hosted the rowing events of the 1932 Olympics\, it makes for a wonderful afternoon/evening out\, whether shopping for food\, jewelry or something to eat right away while you groove to live music.
URL:https://lbmoms.com/event/local-harvest-farmers-market-2025-10-15/
LOCATION:Marine Stadium\, 5255 E Paoli Way\, Long Beach\, CA\, 90803\, United States
CATEGORIES:City of Long Beach,Events,Free Events
ATTACH;FMTTYPE=image/png:https://lbmoms.com/wp-content/uploads/2023/10/Local-Harvest.png
END:VEVENT
BEGIN:VEVENT
DTSTART;TZID=America/Los_Angeles:20251018T180000
DTEND;TZID=America/Los_Angeles:20251018T220000
DTSTAMP:20260422T003944
CREATED:20251016T172922Z
LAST-MODIFIED:20251016T172922Z
UID:18328-1760810400-1760824800@lbmoms.com
SUMMARY:Battleship IOWA Halloween STEMebration
DESCRIPTION:Join our crew on Saturday\, October 18th from 6pm – 10pm for our fifth annual Halloween STEMebration. Have a safe and fun experience aboard the ship for FREE. \nThis event is fun for the whole family and includes: \n\nSix Candy Stations\nTrunk-Or-Treat with first responders\nGame Stations\nWitch’s Ring Toss\nBoooo-wling\nSpider Rockets\nEyeball Bounce\nPumpkin Bean Bag Toss\nSTEM/Craft Stations\nHalloween Simple Circuits\nSpooky Tangrams\nSlime Factory\nCandy Tower Challenge\nSpooky Reading Corner\n…plus more!\n\nPlease park in the lot adjacent to Battleship IOWA. Parking is free for the first hour\, then $2.00 for every subsequent hour.
URL:https://lbmoms.com/event/battleship-iowa-halloween-stemebration/
LOCATION:250 S. Harbor Blvd. San Pedro\, California 90731\, 250 S. Harbor Blvd.\, San Pedro\, CA\, 90731\, United States
CATEGORIES:Free Events
ATTACH;FMTTYPE=image/jpeg:https://lbmoms.com/wp-content/uploads/2025/10/Battle.jpg
END:VEVENT
BEGIN:VEVENT
DTSTART;TZID=America/Los_Angeles:20251019T110000
DTEND;TZID=America/Los_Angeles:20251019T160000
DTSTAMP:20260422T003944
CREATED:20251016T173202Z
LAST-MODIFIED:20251016T173202Z
UID:18331-1760871600-1760889600@lbmoms.com
SUMMARY:Belmont Shore Book Fair
DESCRIPTION:Join us for a celebration of local literature in Belmont Shore! \nFeaturing Local Writers\, Publishers\, Poets and works about local lore. \nDiscover and purchase new books. Support our local literary community. \nMeet local writers and publishers\, enjoy poetry readings\, and attend engaging panel discussions. \nDon’t miss out on live music throughout the day! \nOver 50 local writers signed up! Plus panels and activities.
URL:https://lbmoms.com/event/belmont-shore-book-fair/
LOCATION:5200 E 2nd St\, 5200 E 2nd St\, Long Beach\, CA\, 90803\, United States
CATEGORIES:Free Events
ATTACH;FMTTYPE=image/jpeg:https://lbmoms.com/wp-content/uploads/2025/10/Book.jpg
END:VEVENT
BEGIN:VEVENT
DTSTART;TZID=America/Los_Angeles:20251022T150000
DTEND;TZID=America/Los_Angeles:20251022T190000
DTSTAMP:20260422T003944
CREATED:20231025T055643Z
LAST-MODIFIED:20231025T055643Z
UID:14137-1761145200-1761159600@lbmoms.com
SUMMARY:Local Harvest Farmers Market
DESCRIPTION:This traditional farmers market favorite occurs from 3-7 p.m.\, at Marine Stadium (5255 Paoli Way). Farm fresh\, California-grown fruits and vegetables are a staple as are stunning selections of fresh cut flowers. As the Marine Stadium market has evolved\, so has the selection of artisanal items\, ranging from bread to honey to vinegar as has the selection of gourmet specialty foods and coffee. Located by the water of historic Marine Stadium\, which hosted the rowing events of the 1932 Olympics\, it makes for a wonderful afternoon/evening out\, whether shopping for food\, jewelry or something to eat right away while you groove to live music.
URL:https://lbmoms.com/event/local-harvest-farmers-market-2025-10-22/
LOCATION:Marine Stadium\, 5255 E Paoli Way\, Long Beach\, CA\, 90803\, United States
CATEGORIES:City of Long Beach,Events,Free Events
ATTACH;FMTTYPE=image/png:https://lbmoms.com/wp-content/uploads/2023/10/Local-Harvest.png
END:VEVENT
BEGIN:VEVENT
DTSTART;TZID=America/Los_Angeles:20251025T090000
DTEND;TZID=America/Los_Angeles:20251025T160000
DTSTAMP:20260422T003944
CREATED:20251016T171637Z
LAST-MODIFIED:20251016T171637Z
UID:18321-1761382800-1761408000@lbmoms.com
SUMMARY:Festival of Flight 2025
DESCRIPTION:Long Beach Airport’s Festival of Flight Returns on\nSaturday\, October 25\, 2025!\n\nThousands of attendees are expected at the Airport’s signature annual event\, a celebration of Long Beach’s rich aviation history and the local community. The popular free event returns for 2025 with aircraft on static display\, live music\, activities for kids\, food and beer for purchase\, and more! \nFestival of Flight is free and open to the public between 9 a.m. and 4 p.m. at the west end of the airfield. Attendees are advised to bring water\, wear sensible shoes and be prepared to be outdoors\, rain or shine. Coolers will not be allowed\, and bags will be subject to search. Service animals will be permitted\, but pets will not.
URL:https://lbmoms.com/event/festival-of-flight-2025/
LOCATION:3590 E Wardlow Road\, 3590 E Wardlow Road\, Long Beach\, CA\, 90807\, United States
CATEGORIES:City of Long Beach,Free Events
ATTACH;FMTTYPE=image/jpeg:https://lbmoms.com/wp-content/uploads/2025/10/Flight.jpg
END:VEVENT
BEGIN:VEVENT
DTSTART;TZID=America/Los_Angeles:20251025T110000
DTEND;TZID=America/Los_Angeles:20251025T120000
DTSTAMP:20260422T003944
CREATED:20251023T163846Z
LAST-MODIFIED:20251023T163846Z
UID:18370-1761390000-1761393600@lbmoms.com
SUMMARY:Free Saturday Family Theatre
DESCRIPTION:International City Theatre presents its Free Saturday Family Theatre Series\, a FREE opportunity for kids of all ages to experience the magic of theatre. These FREE shows are open to all. Bring your kids\, bring your parents\, bring your neighbors! Reservations are required. \nIn October\, the theme is “Proud to Be Me\,” with stories from several different cultures about self-esteem\, self-acceptance\, and respect for each other. \nAll performances are at the Beverly O’Neill Theater at the Long Beach Convention & Entertainment Center at 11AM (unless noted otherwise) and will last approximately one hour.
URL:https://lbmoms.com/event/free-saturday-family-theatre-2/
LOCATION:300 E Ocean Blvd\, 300 E Ocean Blvd\, Long Beach\, CA\, 90802\, United States
CATEGORIES:Events,Free Events
ATTACH;FMTTYPE=image/jpeg:https://lbmoms.com/wp-content/uploads/2025/10/Proud.jpg
END:VEVENT
BEGIN:VEVENT
DTSTART;TZID=America/Los_Angeles:20251025T140000
DTEND;TZID=America/Los_Angeles:20251025T220000
DTSTAMP:20260422T003944
CREATED:20251016T172309Z
LAST-MODIFIED:20251016T172309Z
UID:18325-1761400800-1761429600@lbmoms.com
SUMMARY:Fright Fest on Pine & Promenade
DESCRIPTION:For the first time ever\, Pine Ave. transforms into an EZ Sip zone for Downtown’s Fright Fest on Pine & Promenade Oct. 25! \nIt’s an all-day Halloween takeover where families\, friends\, and thrill-seekers can experience Downtown Long Beach like never before — spooky surprises\, flowing drinks\, and a street party you won’t want to miss.  This epic night comes alive with the help of our fright-loving friends Baby Bros Pizza & Wings\, Horrorville\, and Halloween Depot — bringing the scares\, the flavors\, and the Halloween spirit all to one place. \n Saturday\, October 25 | 2 – 10 PM\nPine Ave. (Broadway–3rd St.) & The Promenade N (Broadway–3rd St.) \nSPECIAL NOTE: There are special 21+ thrills from 6-10pm with the purchase of a ticket. For families\, there is spooky fun for free during the day.
URL:https://lbmoms.com/event/fright-fest-on-pine-promenade/
CATEGORIES:Free Events
ATTACH;FMTTYPE=image/jpeg:https://lbmoms.com/wp-content/uploads/2025/10/Fright-Fest.jpg
END:VEVENT
BEGIN:VEVENT
DTSTART;TZID=America/Los_Angeles:20251029T150000
DTEND;TZID=America/Los_Angeles:20251029T190000
DTSTAMP:20260422T003944
CREATED:20231025T055643Z
LAST-MODIFIED:20231025T055643Z
UID:14138-1761750000-1761764400@lbmoms.com
SUMMARY:Local Harvest Farmers Market
DESCRIPTION:This traditional farmers market favorite occurs from 3-7 p.m.\, at Marine Stadium (5255 Paoli Way). Farm fresh\, California-grown fruits and vegetables are a staple as are stunning selections of fresh cut flowers. As the Marine Stadium market has evolved\, so has the selection of artisanal items\, ranging from bread to honey to vinegar as has the selection of gourmet specialty foods and coffee. Located by the water of historic Marine Stadium\, which hosted the rowing events of the 1932 Olympics\, it makes for a wonderful afternoon/evening out\, whether shopping for food\, jewelry or something to eat right away while you groove to live music.
URL:https://lbmoms.com/event/local-harvest-farmers-market-2025-10-29/
LOCATION:Marine Stadium\, 5255 E Paoli Way\, Long Beach\, CA\, 90803\, United States
CATEGORIES:City of Long Beach,Events,Free Events
ATTACH;FMTTYPE=image/png:https://lbmoms.com/wp-content/uploads/2023/10/Local-Harvest.png
END:VEVENT
BEGIN:VEVENT
DTSTART;TZID=America/Los_Angeles:20251031T160000
DTEND;TZID=America/Los_Angeles:20251031T180000
DTSTAMP:20260422T003944
CREATED:20251030T151823Z
LAST-MODIFIED:20251030T151823Z
UID:18441-1761926400-1761933600@lbmoms.com
SUMMARY:Trick-or-Treat on 2nd Street
DESCRIPTION:Belmont Shore’s Trick or Treating on 2nd Street is a long-standing tradition each year on October 31. \nLook for JACK-O-LANTERN SIGNs in the windows for participating businesses that will be handing out treats. \nStop by Chase Bank and strike a pose in front of our photo op provided by Crafted by JM\, and enter our Instagram Photo Contest! It all happens between 4 and 6 pm. \nPLUS don’t forget to grab some dinner from our diverse selection of eateries before heading home to stroll your neighborhood. \nInstagram Photo Contest:\n1. Post a photo taken at our event of your costume on Instagram by midnight on October 31st.\n2. Tag @belmontshorelb to enter\n3. You must be following @belmontshorelb\n4. Photos will be shared to our stories where the public will vote. \nTrick-or-treating at each storefront will last for as long as each business is able to participate. (Based on closing times and availability.)
URL:https://lbmoms.com/event/trick-or-treat-on-2nd-street-2/
LOCATION:Belmont Shore\, Long Beach\, CA\, 90803\, United States
CATEGORIES:Free Events
ATTACH;FMTTYPE=image/jpeg:https://lbmoms.com/wp-content/uploads/2025/10/2nd.jpg
END:VEVENT
END:VCALENDAR