BEGIN:VCALENDAR
VERSION:2.0
PRODID:-//Long Beach Moms - ECPv6.15.20//NONSGML v1.0//EN
CALSCALE:GREGORIAN
METHOD:PUBLISH
X-WR-CALNAME:Long Beach Moms
X-ORIGINAL-URL:https://lbmoms.com
X-WR-CALDESC:Events for Long Beach Moms
REFRESH-INTERVAL;VALUE=DURATION:PT1H
X-Robots-Tag:noindex
X-PUBLISHED-TTL:PT1H
BEGIN:VTIMEZONE
TZID:America/Los_Angeles
BEGIN:DAYLIGHT
TZOFFSETFROM:-0800
TZOFFSETTO:-0700
TZNAME:PDT
DTSTART:20240310T100000
END:DAYLIGHT
BEGIN:STANDARD
TZOFFSETFROM:-0700
TZOFFSETTO:-0800
TZNAME:PST
DTSTART:20241103T090000
END:STANDARD
BEGIN:DAYLIGHT
TZOFFSETFROM:-0800
TZOFFSETTO:-0700
TZNAME:PDT
DTSTART:20250309T100000
END:DAYLIGHT
BEGIN:STANDARD
TZOFFSETFROM:-0700
TZOFFSETTO:-0800
TZNAME:PST
DTSTART:20251102T090000
END:STANDARD
BEGIN:DAYLIGHT
TZOFFSETFROM:-0800
TZOFFSETTO:-0700
TZNAME:PDT
DTSTART:20260308T100000
END:DAYLIGHT
BEGIN:STANDARD
TZOFFSETFROM:-0700
TZOFFSETTO:-0800
TZNAME:PST
DTSTART:20261101T090000
END:STANDARD
END:VTIMEZONE
BEGIN:VEVENT
DTSTART;TZID=America/Los_Angeles:20250413T100000
DTEND;TZID=America/Los_Angeles:20250413T150000
DTSTAMP:20260424T155833
CREATED:20250405T052157Z
LAST-MODIFIED:20250405T052157Z
UID:16175-1744538400-1744556400@lbmoms.com
SUMMARY:Vintage Market at Rancho Los Cerritos
DESCRIPTION:The Sunday Toast: A Vintage Love Affair with Fashion will host a pop-up vintage market at Rancho Los Cerritos. Designed as the ultimate Sunday social experience\, this event blends fashion\, food\, and fun in a carefully curated space where style\, creativity\, and community come together. \n✨ Shop an eclectic mix of vintage clothing and accessories\n🥂 Sip on mimosas and enjoy brunch-inspired bites\n🎶 Vibe to a hip DJ spinning the perfect soundtrack\n🎨 Explore stunning artwork and interactive experiences \nMore than just a market\, The Sunday Toast is a celebration of timeless fashion\, sustainable shopping\, and good company. Whether you’re a dedicated vintage collector\, a brunch enthusiast\, or just looking for a unique weekend experience\, this event is for you.\nFollow Us @the_sundaytoast
URL:https://lbmoms.com/event/vintage-market-at-rancho-los-cerritos/
CATEGORIES:Free Events
ATTACH;FMTTYPE=image/jpeg:https://lbmoms.com/wp-content/uploads/2025/04/Sunday-Toast.jpg
END:VEVENT
BEGIN:VEVENT
DTSTART;TZID=America/Los_Angeles:20250413T120000
DTEND;TZID=America/Los_Angeles:20250413T150000
DTSTAMP:20260424T155833
CREATED:20250405T052447Z
LAST-MODIFIED:20250405T052447Z
UID:16178-1744545600-1744556400@lbmoms.com
SUMMARY:Cambodian Lunar New Year Market
DESCRIPTION:2ND & PCH hosts UNIDOS Market for their Cambodian Lunar New Year-themed market. Celebrate the Cambodian Lunar New Year with cultural performances\, photo opportunities\, and a vibrant marketplace showcasing local businesses.
URL:https://lbmoms.com/event/cambodian-lunar-new-year-market/
CATEGORIES:Free Events
ATTACH;FMTTYPE=image/jpeg:https://lbmoms.com/wp-content/uploads/2025/04/Lunar.jpg
END:VEVENT
END:VCALENDAR