BEGIN:VCALENDAR
VERSION:2.0
PRODID:-//Long Beach Moms - ECPv6.15.20//NONSGML v1.0//EN
CALSCALE:GREGORIAN
METHOD:PUBLISH
X-ORIGINAL-URL:https://lbmoms.com
X-WR-CALDESC:Events for Long Beach Moms
REFRESH-INTERVAL;VALUE=DURATION:PT1H
X-Robots-Tag:noindex
X-PUBLISHED-TTL:PT1H
BEGIN:VTIMEZONE
TZID:America/Los_Angeles
BEGIN:DAYLIGHT
TZOFFSETFROM:-0800
TZOFFSETTO:-0700
TZNAME:PDT
DTSTART:20240310T100000
END:DAYLIGHT
BEGIN:STANDARD
TZOFFSETFROM:-0700
TZOFFSETTO:-0800
TZNAME:PST
DTSTART:20241103T090000
END:STANDARD
BEGIN:DAYLIGHT
TZOFFSETFROM:-0800
TZOFFSETTO:-0700
TZNAME:PDT
DTSTART:20250309T100000
END:DAYLIGHT
BEGIN:STANDARD
TZOFFSETFROM:-0700
TZOFFSETTO:-0800
TZNAME:PST
DTSTART:20251102T090000
END:STANDARD
BEGIN:DAYLIGHT
TZOFFSETFROM:-0800
TZOFFSETTO:-0700
TZNAME:PDT
DTSTART:20260308T100000
END:DAYLIGHT
BEGIN:STANDARD
TZOFFSETFROM:-0700
TZOFFSETTO:-0800
TZNAME:PST
DTSTART:20261101T090000
END:STANDARD
END:VTIMEZONE
BEGIN:VEVENT
DTSTART;TZID=America/Los_Angeles:20250418T080000
DTEND;TZID=America/Los_Angeles:20250418T170000
DTSTAMP:20260424T084351
CREATED:20250320T210502Z
LAST-MODIFIED:20250410T221910Z
UID:16020-1744963200-1744995600@lbmoms.com
SUMMARY:Pictures with the Easter Bunny
DESCRIPTION:🐰✨ FREE Easter Bunny Photo! ✨🐰 \nHop on over to FUNtastic PediatricDental for a fun and festive Easter surprise! \n📸 Get a FREE digital photo with the Easter Bunny after your child’s appointment (or stop by and check us out if you haven’t seen us before)! \n🌸 Don’ t miss this egg-citing opportunity to create a special memory with your little ones! \n👉 Limited spots available – schedule your visit today! \nLet’s make this Easter one to smile about! 😁💖 \nSign Up Here
URL:https://lbmoms.com/event/pictures-with-the-easter-bunny/
CATEGORIES:Free Events
ATTACH;FMTTYPE=image/png:https://lbmoms.com/wp-content/uploads/2025/03/Pics-with-the-easter-bunny.png
END:VEVENT
BEGIN:VEVENT
DTSTART;TZID=America/Los_Angeles:20250418T083000
DTEND;TZID=America/Los_Angeles:20250418T130000
DTSTAMP:20260424T084351
CREATED:20250325T142029Z
LAST-MODIFIED:20250325T142305Z
UID:16062-1744965000-1744981200@lbmoms.com
SUMMARY:Pictures with the Easter Bunny at FUNtastic Dental
DESCRIPTION:🐰✨ FREE Easter Bunny Photo! ✨🐰 \nHop on over to @funtasticdental for a fun and festive Easter surprise! \n📸 Get a FREE digital photo with the Easter Bunny after your child’s appointment (or stop by and check us out if you haven’t seen us before)! \n🌸 Don’t miss this egg-citing opportunity to create a special memory with your little ones! \n👉 Limited spots available –  Click to sign up – schedule your visit today! \nLet’s make this Easter one to smile about! 😁💖
URL:https://lbmoms.com/event/pictures-with-the-easter-bunny-at-funtastic-dental/
LOCATION:FUNtastic Dental\, 2700 N Bellflower Blvd Suite 217\,\, Long Beach\, CA\, 90815
CATEGORIES:Events,Free Events
ATTACH;FMTTYPE=image/png:https://lbmoms.com/wp-content/uploads/2025/03/MNO-event.png
END:VEVENT
END:VCALENDAR