BEGIN:VCALENDAR
VERSION:2.0
PRODID:-//Long Beach Moms - ECPv6.15.20//NONSGML v1.0//EN
CALSCALE:GREGORIAN
METHOD:PUBLISH
X-ORIGINAL-URL:https://lbmoms.com
X-WR-CALDESC:Events for Long Beach Moms
REFRESH-INTERVAL;VALUE=DURATION:PT1H
X-Robots-Tag:noindex
X-PUBLISHED-TTL:PT1H
BEGIN:VTIMEZONE
TZID:America/Los_Angeles
BEGIN:DAYLIGHT
TZOFFSETFROM:-0800
TZOFFSETTO:-0700
TZNAME:PDT
DTSTART:20240310T100000
END:DAYLIGHT
BEGIN:STANDARD
TZOFFSETFROM:-0700
TZOFFSETTO:-0800
TZNAME:PST
DTSTART:20241103T090000
END:STANDARD
BEGIN:DAYLIGHT
TZOFFSETFROM:-0800
TZOFFSETTO:-0700
TZNAME:PDT
DTSTART:20250309T100000
END:DAYLIGHT
BEGIN:STANDARD
TZOFFSETFROM:-0700
TZOFFSETTO:-0800
TZNAME:PST
DTSTART:20251102T090000
END:STANDARD
BEGIN:DAYLIGHT
TZOFFSETFROM:-0800
TZOFFSETTO:-0700
TZNAME:PDT
DTSTART:20260308T100000
END:DAYLIGHT
BEGIN:STANDARD
TZOFFSETFROM:-0700
TZOFFSETTO:-0800
TZNAME:PST
DTSTART:20261101T090000
END:STANDARD
END:VTIMEZONE
BEGIN:VEVENT
DTSTART;TZID=America/Los_Angeles:20250419T090000
DTEND;TZID=America/Los_Angeles:20250419T093000
DTSTAMP:20260424T105317
CREATED:20250410T221217Z
LAST-MODIFIED:20250410T221234Z
UID:16227-1745053200-1745055000@lbmoms.com
SUMMARY:Egg Hunt in the Heights 2025
DESCRIPTION:Grab your baskets and hop your way down to the Red Car Greenbelt on Saturday\, April 19th to partake in our favorite event of the year: the BHCA’s Egg Hunt in the Heights.  We’ve partnered with Port of Long Beach to scatter more than 4000\, that’s right\, 4000 treasure filled eggs throughout the park.  You’ll also get a chance to take a picture with Belmont the Bunny and make some new neighborhood friends. \nThis event is first come-first serve and will have a designated area for littles. Please arrive before 9am\, since once the kids are unleashed the eggs don’t last long! There is only one wave. \nTime & Location\n\n\nApr 19\, 2025\, 9:00 AM – 9:30 AM \nRed Car Greenbelt\, Long Beach\, CA 90814\, USA \n\n\n 
URL:https://lbmoms.com/event/egg-hunt-in-the-heights-2025/
CATEGORIES:Free Events
ATTACH;FMTTYPE=image/png:https://lbmoms.com/wp-content/uploads/2025/04/Newsletter-Event-Graphics-1.png
END:VEVENT
BEGIN:VEVENT
DTSTART;TZID=America/Los_Angeles:20250419T093000
DTEND;TZID=America/Los_Angeles:20250419T120000
DTSTAMP:20260424T105317
CREATED:20250416T064808Z
LAST-MODIFIED:20250416T064808Z
UID:16254-1745055000-1745064000@lbmoms.com
SUMMARY:Spring Carnival
DESCRIPTION:
URL:https://lbmoms.com/event/spring-carnival/
CATEGORIES:Free Events
ATTACH;FMTTYPE=image/jpeg:https://lbmoms.com/wp-content/uploads/2025/04/unnamed-1-scaled.jpg
END:VEVENT
END:VCALENDAR