BEGIN:VCALENDAR
VERSION:2.0
PRODID:-//Long Beach Moms - ECPv6.15.20//NONSGML v1.0//EN
CALSCALE:GREGORIAN
METHOD:PUBLISH
X-WR-CALNAME:Long Beach Moms
X-ORIGINAL-URL:https://lbmoms.com
X-WR-CALDESC:Events for Long Beach Moms
REFRESH-INTERVAL;VALUE=DURATION:PT1H
X-Robots-Tag:noindex
X-PUBLISHED-TTL:PT1H
BEGIN:VTIMEZONE
TZID:America/Los_Angeles
BEGIN:DAYLIGHT
TZOFFSETFROM:-0800
TZOFFSETTO:-0700
TZNAME:PDT
DTSTART:20240310T100000
END:DAYLIGHT
BEGIN:STANDARD
TZOFFSETFROM:-0700
TZOFFSETTO:-0800
TZNAME:PST
DTSTART:20241103T090000
END:STANDARD
BEGIN:DAYLIGHT
TZOFFSETFROM:-0800
TZOFFSETTO:-0700
TZNAME:PDT
DTSTART:20250309T100000
END:DAYLIGHT
BEGIN:STANDARD
TZOFFSETFROM:-0700
TZOFFSETTO:-0800
TZNAME:PST
DTSTART:20251102T090000
END:STANDARD
BEGIN:DAYLIGHT
TZOFFSETFROM:-0800
TZOFFSETTO:-0700
TZNAME:PDT
DTSTART:20260308T100000
END:DAYLIGHT
BEGIN:STANDARD
TZOFFSETFROM:-0700
TZOFFSETTO:-0800
TZNAME:PST
DTSTART:20261101T090000
END:STANDARD
END:VTIMEZONE
BEGIN:VEVENT
DTSTART;TZID=America/Los_Angeles:20250425T180000
DTEND;TZID=America/Los_Angeles:20250425T220000
DTSTAMP:20260424T153005
CREATED:20250419T075001Z
LAST-MODIFIED:20250419T075001Z
UID:16287-1745604000-1745618400@lbmoms.com
SUMMARY:Fourth Fridays on Retro Row
DESCRIPTION:Fourth Friday on Retro Row in April celebrates Earth Month with an Our Power\, Our Planet edition. Expect to see sustainable vendors\, artists\, music\, and special pop-ups. \nFourth Fridays always feature: \n\nLocal artist pop-ups⁠\nLive entertainment⁠\nShops open late⁠\nFourth Fridays food\, service\, and shop specials⁠\n& more!⁠\n\nCome out to Retro Row for shopping\, dining\, and entertainment as 4th Street businesses stay open late for the monthly Fourth Friday event! Local vendors\, artists\, and performers are invited to create a special experience for the Long Beach community. \nThe event takes place along 4th Street\, expanding from Temple to Cherry. Don’t feel like walking too far? The event has partnered with DRIVER to offer a free shuttle service for attendees and participants.
URL:https://lbmoms.com/event/fourth-fridays-on-retro-row-2/
CATEGORIES:Free Events
ATTACH;FMTTYPE=image/jpeg:https://lbmoms.com/wp-content/uploads/2025/04/Fourth.jpg
END:VEVENT
END:VCALENDAR