BEGIN:VCALENDAR
VERSION:2.0
PRODID:-//Long Beach Moms - ECPv6.15.20//NONSGML v1.0//EN
CALSCALE:GREGORIAN
METHOD:PUBLISH
X-ORIGINAL-URL:https://lbmoms.com
X-WR-CALDESC:Events for Long Beach Moms
REFRESH-INTERVAL;VALUE=DURATION:PT1H
X-Robots-Tag:noindex
X-PUBLISHED-TTL:PT1H
BEGIN:VTIMEZONE
TZID:America/Los_Angeles
BEGIN:DAYLIGHT
TZOFFSETFROM:-0800
TZOFFSETTO:-0700
TZNAME:PDT
DTSTART:20240310T100000
END:DAYLIGHT
BEGIN:STANDARD
TZOFFSETFROM:-0700
TZOFFSETTO:-0800
TZNAME:PST
DTSTART:20241103T090000
END:STANDARD
BEGIN:DAYLIGHT
TZOFFSETFROM:-0800
TZOFFSETTO:-0700
TZNAME:PDT
DTSTART:20250309T100000
END:DAYLIGHT
BEGIN:STANDARD
TZOFFSETFROM:-0700
TZOFFSETTO:-0800
TZNAME:PST
DTSTART:20251102T090000
END:STANDARD
BEGIN:DAYLIGHT
TZOFFSETFROM:-0800
TZOFFSETTO:-0700
TZNAME:PDT
DTSTART:20260308T100000
END:DAYLIGHT
BEGIN:STANDARD
TZOFFSETFROM:-0700
TZOFFSETTO:-0800
TZNAME:PST
DTSTART:20261101T090000
END:STANDARD
END:VTIMEZONE
BEGIN:VEVENT
DTSTART;TZID=America/Los_Angeles:20250430T080000
DTEND;TZID=America/Los_Angeles:20250504T170000
DTSTAMP:20260424T021247
CREATED:20250419T074626Z
LAST-MODIFIED:20250419T074626Z
UID:16283-1746000000-1746378000@lbmoms.com
SUMMARY:The Congressional Cup
DESCRIPTION:The world’s top match racing skippers return to Long Beach April 30 to May 4\, 2025\, for the 60th Congressional Cup. This World Championship regatta presented by Long Beach Yacht Club is a premier event on the prestigious World Match Racing Tour. \nThe oldest continuously-held sailing match race regatta in the world\, the Congressional Cup is the only match race regatta in the United States to qualify for World Championship status from World Sailing. \nSince 1965 the world’s top ranked skippers have come here to compete for the esteemed Congressional Cup and the Crimson Blazer\, which is yacht racing’s equivalent to the Masters Tournament Green Jacket: a symbol of victory in one of the most prestigious yacht racing events in the world\, and a gateway to the America’s Cup. \nLocals can enjoy stadium viewing of the Congressional Cup for free at the Belmont Veterans Memorial Pier\, designated “Congressional Cup Stadium\,” with live commentary. Live results are also available online. \nFollow The Congressional Cup on Facebook\, Twitter\, and Instagram. \nFor live streaming footage of The Congressional Cup\, tune in on Facebook and YouTube.
URL:https://lbmoms.com/event/the-congressional-cup/
CATEGORIES:Free Events
ATTACH;FMTTYPE=image/jpeg:https://lbmoms.com/wp-content/uploads/2025/04/Cup.jpg
END:VEVENT
BEGIN:VEVENT
DTSTART;TZID=America/Los_Angeles:20250430T150000
DTEND;TZID=America/Los_Angeles:20250430T190000
DTSTAMP:20260424T021247
CREATED:20231025T055643Z
LAST-MODIFIED:20231025T055643Z
UID:14112-1746025200-1746039600@lbmoms.com
SUMMARY:Local Harvest Farmers Market
DESCRIPTION:This traditional farmers market favorite occurs from 3-7 p.m.\, at Marine Stadium (5255 Paoli Way). Farm fresh\, California-grown fruits and vegetables are a staple as are stunning selections of fresh cut flowers. As the Marine Stadium market has evolved\, so has the selection of artisanal items\, ranging from bread to honey to vinegar as has the selection of gourmet specialty foods and coffee. Located by the water of historic Marine Stadium\, which hosted the rowing events of the 1932 Olympics\, it makes for a wonderful afternoon/evening out\, whether shopping for food\, jewelry or something to eat right away while you groove to live music.
URL:https://lbmoms.com/event/local-harvest-farmers-market-2025-04-30/
LOCATION:Marine Stadium\, 5255 E Paoli Way\, Long Beach\, CA\, 90803\, United States
CATEGORIES:City of Long Beach,Events,Free Events
ATTACH;FMTTYPE=image/png:https://lbmoms.com/wp-content/uploads/2023/10/Local-Harvest.png
END:VEVENT
END:VCALENDAR