BEGIN:VCALENDAR
VERSION:2.0
PRODID:-//Long Beach Moms - ECPv6.15.20//NONSGML v1.0//EN
CALSCALE:GREGORIAN
METHOD:PUBLISH
X-ORIGINAL-URL:https://lbmoms.com
X-WR-CALDESC:Events for Long Beach Moms
REFRESH-INTERVAL;VALUE=DURATION:PT1H
X-Robots-Tag:noindex
X-PUBLISHED-TTL:PT1H
BEGIN:VTIMEZONE
TZID:America/Los_Angeles
BEGIN:DAYLIGHT
TZOFFSETFROM:-0800
TZOFFSETTO:-0700
TZNAME:PDT
DTSTART:20240310T100000
END:DAYLIGHT
BEGIN:STANDARD
TZOFFSETFROM:-0700
TZOFFSETTO:-0800
TZNAME:PST
DTSTART:20241103T090000
END:STANDARD
BEGIN:DAYLIGHT
TZOFFSETFROM:-0800
TZOFFSETTO:-0700
TZNAME:PDT
DTSTART:20250309T100000
END:DAYLIGHT
BEGIN:STANDARD
TZOFFSETFROM:-0700
TZOFFSETTO:-0800
TZNAME:PST
DTSTART:20251102T090000
END:STANDARD
BEGIN:DAYLIGHT
TZOFFSETFROM:-0800
TZOFFSETTO:-0700
TZNAME:PDT
DTSTART:20260308T100000
END:DAYLIGHT
BEGIN:STANDARD
TZOFFSETFROM:-0700
TZOFFSETTO:-0800
TZNAME:PST
DTSTART:20261101T090000
END:STANDARD
END:VTIMEZONE
BEGIN:VEVENT
DTSTART;TZID=America/Los_Angeles:20250510T073000
DTEND;TZID=America/Los_Angeles:20250510T090000
DTSTAMP:20260423T201432
CREATED:20250508T024118Z
LAST-MODIFIED:20250508T024118Z
UID:16378-1746862200-1746867600@lbmoms.com
SUMMARY:Kahakai Battle of the Breakwater
DESCRIPTION:Kahakai Outrigger Canoe Club is hosting a day of outrigger sprint races for members of the 26 teams competing under the Southern California Outrigger Racing Association. SCORA will be holding keiki (kids) sprint racing and longer adult water change racing at Marine Stadium. \nThe public is welcome to view the races\, have some great food\, listen to music\, shop Hawaiian style merchandise and enjoy a day at the beach. Free to attend.
URL:https://lbmoms.com/event/kahakai-battle-of-the-breakwater/
CATEGORIES:Free Events
ATTACH;FMTTYPE=image/png:https://lbmoms.com/wp-content/uploads/2025/05/Newsletter-Event-Graphics-3.png
END:VEVENT
BEGIN:VEVENT
DTSTART;TZID=America/Los_Angeles:20250510T110000
DTEND;TZID=America/Los_Angeles:20250510T170000
DTSTAMP:20260423T201432
CREATED:20250508T024733Z
LAST-MODIFIED:20250508T045808Z
UID:16385-1746874800-1746896400@lbmoms.com
SUMMARY:Beach Streets West
DESCRIPTION:Beach Streets Open Streets is set to take place in West Long Beach on Saturday\, May 10\, 2025\, from 11 a.m. to 5 p.m. Hosted by the City of Long Beach and presented by the Los Angeles County Metropolitan Transportation Authority (Metro)\, Beach Streets embraces the active commuting lifestyle by opening the streets and transforming them into safe\, open areas for people to bike\, walk and explore their neighborhoods. This year’s event will uplift the City’s Westside Promise Initiative\, a 10-year community investment plan that aligns existing City efforts and leverages partnerships to address current and historic challenges facing West Long Beach. \nBeach Streets promotes sustainable transportation\, supports local businesses and allows its thousands of annual participants to get to know their neighbors in a comfortable\, family-oriented environment. By bringing together different roadway users\, Beach Streets also promotes commuting safety and supports the City’s climate goals by encouraging zero-emission transportation options. \nThis year’s event route will feature Willow Street and Santa Fe Avenue. Entertainment hubs along the route will feature live music\, a kid zone\, food trucks and more. \nWestside Promise is a multi-department effort led by the Long Beach Community Development Department and in collaboration with other City Departments\, including Public Works\, Economic Development\, Health and Human Services\, Library Services and Parks\, Recreation and Marine\, and with oversight from the City Manager’s Office. The initiative focuses on areas related to housing supply\, climate resiliency\, youth and young adults\, workforce and training\, tourism\, and capital improvements to City facilities like parks and health centers. In addition to neighborhood improvement\, the initiative is also targeting economic development such as small business assistance and workforce training. The goal is to bolster and leverage investment in West Long Beach through entrepreneurship\, grant funding and external partnerships.
URL:https://lbmoms.com/event/beach-streets-west/
CATEGORIES:Free Events
ATTACH;FMTTYPE=image/jpeg:https://lbmoms.com/wp-content/uploads/2025/05/3b7046ee-6052-4a81-9af0-333bda45c6d7_e45adf5f6bc0c5c2a30a39868f44eab6.jpg
END:VEVENT
END:VCALENDAR