BEGIN:VCALENDAR
VERSION:2.0
PRODID:-//Long Beach Moms - ECPv6.15.20//NONSGML v1.0//EN
CALSCALE:GREGORIAN
METHOD:PUBLISH
X-ORIGINAL-URL:https://lbmoms.com
X-WR-CALDESC:Events for Long Beach Moms
REFRESH-INTERVAL;VALUE=DURATION:PT1H
X-Robots-Tag:noindex
X-PUBLISHED-TTL:PT1H
BEGIN:VTIMEZONE
TZID:America/Los_Angeles
BEGIN:DAYLIGHT
TZOFFSETFROM:-0800
TZOFFSETTO:-0700
TZNAME:PDT
DTSTART:20240310T100000
END:DAYLIGHT
BEGIN:STANDARD
TZOFFSETFROM:-0700
TZOFFSETTO:-0800
TZNAME:PST
DTSTART:20241103T090000
END:STANDARD
BEGIN:DAYLIGHT
TZOFFSETFROM:-0800
TZOFFSETTO:-0700
TZNAME:PDT
DTSTART:20250309T100000
END:DAYLIGHT
BEGIN:STANDARD
TZOFFSETFROM:-0700
TZOFFSETTO:-0800
TZNAME:PST
DTSTART:20251102T090000
END:STANDARD
BEGIN:DAYLIGHT
TZOFFSETFROM:-0800
TZOFFSETTO:-0700
TZNAME:PDT
DTSTART:20260308T100000
END:DAYLIGHT
BEGIN:STANDARD
TZOFFSETFROM:-0700
TZOFFSETTO:-0800
TZNAME:PST
DTSTART:20261101T090000
END:STANDARD
END:VTIMEZONE
BEGIN:VEVENT
DTSTART;VALUE=DATE:20250523
DTEND;VALUE=DATE:20250527
DTSTAMP:20260423T201423
CREATED:20250522T034558Z
LAST-MODIFIED:20250522T034558Z
UID:16546-1747958400-1748303999@lbmoms.com
SUMMARY:LA Fleet Week
DESCRIPTION:LA Fleet Week is an annual celebration of our nation’s Sea Services held on the LA Waterfront at the Port of Los Angeles over the extended Memorial Day Weekend. \nPublic events included:\n· Active duty ship tours\n· Military displays and equipment demonstrations\n· Live entertainment\n· Aircraft flyovers\n· Galley Wars- culinary cook-off competition between Navy\, Marine Corps\, Coast Guard\, and Army teams\n· Military band performances across L.A.\n· And much more!
URL:https://lbmoms.com/event/la-fleet-week/
LOCATION:250 S. Harbor Blvd. San Pedro\, California 90731\, 250 S. Harbor Blvd.\, San Pedro\, CA\, 90731\, United States
CATEGORIES:Events,Free Events
ATTACH;FMTTYPE=image/jpeg:https://lbmoms.com/wp-content/uploads/2025/05/LA-Fleet-Week.jpg
END:VEVENT
BEGIN:VEVENT
DTSTART;TZID=America/Los_Angeles:20250523T180000
DTEND;TZID=America/Los_Angeles:20250523T210000
DTSTAMP:20260423T201423
CREATED:20250522T034814Z
LAST-MODIFIED:20250522T034814Z
UID:16550-1748023200-1748034000@lbmoms.com
SUMMARY:Fourth Fridays on Retro Row
DESCRIPTION:Fourth Friday on Retro Row in May celebrates Pride with a Flower Power edition of this popular event. \nFourth Fridays always feature: \n\nLocal artist pop-ups⁠\nLive entertainment⁠\nShops open late⁠\nFourth Fridays food\, service\, and shop specials⁠\n& more!⁠\n\nCome out to Retro Row for shopping\, dining\, and entertainment as 4th Street businesses stay open late for the monthly Fourth Friday event! Local vendors\, artists\, and performers are invited to create a special experience for the Long Beach community. \nThe event takes place along 4th Street\, expanding from Temple to Cherry. Don’t feel like walking too far? The event has partnered with DRIVER to offer a free shuttle service for attendees and participants.
URL:https://lbmoms.com/event/fourth-fridays-on-retro-row-3/
LOCATION:2122 E 4th St Long Beach\, California 90814\, 2122 E 4th St\, Long Beach\, CA\, 90814\, United States
CATEGORIES:Events,Free Events
ATTACH;FMTTYPE=image/jpeg:https://lbmoms.com/wp-content/uploads/2025/05/Fourth-Friday.jpg
END:VEVENT
END:VCALENDAR