BEGIN:VCALENDAR
VERSION:2.0
PRODID:-//Long Beach Moms - ECPv6.15.20//NONSGML v1.0//EN
CALSCALE:GREGORIAN
METHOD:PUBLISH
X-ORIGINAL-URL:https://lbmoms.com
X-WR-CALDESC:Events for Long Beach Moms
REFRESH-INTERVAL;VALUE=DURATION:PT1H
X-Robots-Tag:noindex
X-PUBLISHED-TTL:PT1H
BEGIN:VTIMEZONE
TZID:America/Los_Angeles
BEGIN:DAYLIGHT
TZOFFSETFROM:-0800
TZOFFSETTO:-0700
TZNAME:PDT
DTSTART:20240310T100000
END:DAYLIGHT
BEGIN:STANDARD
TZOFFSETFROM:-0700
TZOFFSETTO:-0800
TZNAME:PST
DTSTART:20241103T090000
END:STANDARD
BEGIN:DAYLIGHT
TZOFFSETFROM:-0800
TZOFFSETTO:-0700
TZNAME:PDT
DTSTART:20250309T100000
END:DAYLIGHT
BEGIN:STANDARD
TZOFFSETFROM:-0700
TZOFFSETTO:-0800
TZNAME:PST
DTSTART:20251102T090000
END:STANDARD
BEGIN:DAYLIGHT
TZOFFSETFROM:-0800
TZOFFSETTO:-0700
TZNAME:PDT
DTSTART:20260308T100000
END:DAYLIGHT
BEGIN:STANDARD
TZOFFSETFROM:-0700
TZOFFSETTO:-0800
TZNAME:PST
DTSTART:20261101T090000
END:STANDARD
END:VTIMEZONE
BEGIN:VEVENT
DTSTART;TZID=America/Los_Angeles:20250603T100000
DTEND;TZID=America/Los_Angeles:20250603T120000
DTSTAMP:20260423T171954
CREATED:20250529T033623Z
LAST-MODIFIED:20250529T033623Z
UID:16622-1748944800-1748952000@lbmoms.com
SUMMARY:PCH Explorers Kids Club
DESCRIPTION:2ND & PCH will host their PCH Explorers Kids Club on first Tuesdays each month in 2025. Bring your little ones and join in for a year full of fun\, learning\, and unforgettable moments. From interactive activities and creative crafts to special performances and family-friendly surprises\, there’s something for everyone to enjoy! \nThe event on June 3 will be a Father’s Day edition\, featuring “Superhero Training.” \nMark your calendar’s for future dates: \n\nJune 3\, 2025 – Pre-Summer Edition\nJuly 1\, 2025 – Summer Edition\nAugust 5\, 2025 – Summer Edition\nSeptember 2\, 2025 – Post Summer Edition\nOctober 7\, 2025 – Fall Edition\nNovember 25\, 2025 – Holiday Edition\nDecember 23\, 2025 – Holiday Edition
URL:https://lbmoms.com/event/pch-explorers-kids-club-2/
LOCATION:2nd & PCH\, 6400 Pacific Coast Hwy\, Long Beach\, CA\, 90803\, United States
CATEGORIES:Free Events
ATTACH;FMTTYPE=image/jpeg:https://lbmoms.com/wp-content/uploads/2025/05/PCH.jpeg
END:VEVENT
END:VCALENDAR