BEGIN:VCALENDAR
VERSION:2.0
PRODID:-//Long Beach Moms - ECPv6.15.20//NONSGML v1.0//EN
CALSCALE:GREGORIAN
METHOD:PUBLISH
X-ORIGINAL-URL:https://lbmoms.com
X-WR-CALDESC:Events for Long Beach Moms
REFRESH-INTERVAL;VALUE=DURATION:PT1H
X-Robots-Tag:noindex
X-PUBLISHED-TTL:PT1H
BEGIN:VTIMEZONE
TZID:America/Los_Angeles
BEGIN:DAYLIGHT
TZOFFSETFROM:-0800
TZOFFSETTO:-0700
TZNAME:PDT
DTSTART:20240310T100000
END:DAYLIGHT
BEGIN:STANDARD
TZOFFSETFROM:-0700
TZOFFSETTO:-0800
TZNAME:PST
DTSTART:20241103T090000
END:STANDARD
BEGIN:DAYLIGHT
TZOFFSETFROM:-0800
TZOFFSETTO:-0700
TZNAME:PDT
DTSTART:20250309T100000
END:DAYLIGHT
BEGIN:STANDARD
TZOFFSETFROM:-0700
TZOFFSETTO:-0800
TZNAME:PST
DTSTART:20251102T090000
END:STANDARD
BEGIN:DAYLIGHT
TZOFFSETFROM:-0800
TZOFFSETTO:-0700
TZNAME:PDT
DTSTART:20260308T100000
END:DAYLIGHT
BEGIN:STANDARD
TZOFFSETFROM:-0700
TZOFFSETTO:-0800
TZNAME:PST
DTSTART:20261101T090000
END:STANDARD
END:VTIMEZONE
BEGIN:VEVENT
DTSTART;TZID=America/Los_Angeles:20250614T080000
DTEND;TZID=America/Los_Angeles:20250808T170000
DTSTAMP:20260423T084926
CREATED:20250707T062402Z
LAST-MODIFIED:20250707T062402Z
UID:17102-1749888000-1754672400@lbmoms.com
SUMMARY:Essay Contest
DESCRIPTION:
URL:https://lbmoms.com/event/essay-contest/
CATEGORIES:City of Long Beach,Events,Free Events
ATTACH;FMTTYPE=image/png:https://lbmoms.com/wp-content/uploads/2025/07/essat.png
END:VEVENT
BEGIN:VEVENT
DTSTART;TZID=America/Los_Angeles:20250724T110000
DTEND;TZID=America/Los_Angeles:20250727T160000
DTSTAMP:20260423T084926
CREATED:20250724T212006Z
LAST-MODIFIED:20250724T212006Z
UID:17335-1753354800-1753632000@lbmoms.com
SUMMARY:Art Exhibition: Garden of Eve
DESCRIPTION:LBMA Downtown will host an exhibition of Angie Crabtree’s artwork called “Garden of Eve” from July 12 to September 28\, 2025. Crabtree is one of the artists painting a mural as part of the Long Beach Walls festival and is known for her hyperrealistic depictions of precious gemstones. Admission is free\, and the gallery is open Thursday through Sunday from 11 AM to 4 PM. \nAngie Crabtree’s paintings dissect the mythology of luxury. Diamonds became her first muse\, the commodification of nature—the way raw beauty is captured\, fixed\, and displayed as proof of success. Their natural forms\, once buried deep beneath the earth\, now mined\, cut\, and polished into representations of what’s impossibly valuable. By enlarging them to monumental scale\, she invites viewers to consider the origins of the stones\, their societal significance\, and reconsider their true value. \nFrom diamonds to desire\, Crabtree debuts her latest series of paintings\, Eve and Her Sacred Garden. Her new body of work critiques power structures and gender roles embedded into luxury culture. Wealth has historically been built on systems of colonization and exploitation\, woven deep into the histories of gemstones and fashion. Crabtree explores femininity and how these legacies continue to shape contemporary ideals of beauty and status. She references Eve and the “Garden” as metaphors for innocence lost to material temptation\, recasting Eve not as the origin of shame\, but as the first to question the cost of desire. \nAngie Crabtree (b. 1987) is a painter from Santa Rosa\, California. Her paintings draw from the visual languages of Baroque and Rococo portraiture\, fused with symbols of modern aspiration—from designer accessories to rare plants and social media aesthetics. By enlarging gemstones and still life to an almost spiritual scale\, Crabtree invites viewers to reflect on the illusion of perfection and the psychological cost of opulence. Crabtree graduated with her BFA from the San Francisco Art Institute and currently lives and works in Long Beach\, California.
URL:https://lbmoms.com/event/art-exhibition-garden-of-eve/
LOCATION:356 E 3rd St\, 356 E 3rd St\, Long Beach\, CA\, 90802\, United States
CATEGORIES:Free Events
ATTACH;FMTTYPE=image/png:https://lbmoms.com/wp-content/uploads/2025/07/Garden.png
END:VEVENT
BEGIN:VEVENT
DTSTART;TZID=America/Los_Angeles:20250726T100000
DTEND;TZID=America/Los_Angeles:20250726T130000
DTSTAMP:20260423T084926
CREATED:20250724T213401Z
LAST-MODIFIED:20250724T213401Z
UID:17354-1753524000-1753534800@lbmoms.com
SUMMARY:Saving Paka's Dog Park
DESCRIPTION:Musical Theatre West is hosting a free performance of Saving Paka’s Dog Park as part of its Community Connects series. Inspired by MTW’s touring educational production for schools\, this community day brings the show’s themes to life with live performances\, dog adoptions\, local vendors\, and interactive fun for all ages. \nAt the heart of the event is a live performance of Saving Paka’s Dog Park\, MTW’s original touring musical created for its Educational Outreach program. This joyful 30-minute show – performed at 11:00 AM and 12:00 PM – celebrates community\, kindness\, and the special bond between people and their pets. Designed with young audiences in mind\, it’s an engaging introduction to live theatre for children and families. \nAdding to the excitement\, MTW has partnered with local shelters and animal organizations including Beachfront Mutts Rescue\, Go Fetch\, Zoom Room\, Cuddly\, Basset Hound Rescue\, and Just Food for Dogs to offer dog adoptions on site. Attendees can meet adoptable pups\, connect with pet-friendly businesses\, and enjoy giveaways\, treats\, and community resources. Food will be available for purchase from Mr. Roto Taco Truck. \nWhether you’re looking to adopt a new best friend\, enjoy a meaningful show with your kids\, or just spend the morning surrounded by community\, Saving Paka’s Dog Park is the perfect summer outing.
URL:https://lbmoms.com/event/saving-pakas-dog-park/
LOCATION:4350 E 7th St\, 4350 E 7th St\, Long Beach\, CA\, 90804\, United States
CATEGORIES:Free Events
ATTACH;FMTTYPE=image/jpeg:https://lbmoms.com/wp-content/uploads/2025/07/DOGS.jpg
END:VEVENT
END:VCALENDAR