BEGIN:VCALENDAR
VERSION:2.0
PRODID:-//Long Beach Moms - ECPv6.15.20//NONSGML v1.0//EN
CALSCALE:GREGORIAN
METHOD:PUBLISH
X-ORIGINAL-URL:https://lbmoms.com
X-WR-CALDESC:Events for Long Beach Moms
REFRESH-INTERVAL;VALUE=DURATION:PT1H
X-Robots-Tag:noindex
X-PUBLISHED-TTL:PT1H
BEGIN:VTIMEZONE
TZID:America/Los_Angeles
BEGIN:DAYLIGHT
TZOFFSETFROM:-0800
TZOFFSETTO:-0700
TZNAME:PDT
DTSTART:20240310T100000
END:DAYLIGHT
BEGIN:STANDARD
TZOFFSETFROM:-0700
TZOFFSETTO:-0800
TZNAME:PST
DTSTART:20241103T090000
END:STANDARD
BEGIN:DAYLIGHT
TZOFFSETFROM:-0800
TZOFFSETTO:-0700
TZNAME:PDT
DTSTART:20250309T100000
END:DAYLIGHT
BEGIN:STANDARD
TZOFFSETFROM:-0700
TZOFFSETTO:-0800
TZNAME:PST
DTSTART:20251102T090000
END:STANDARD
BEGIN:DAYLIGHT
TZOFFSETFROM:-0800
TZOFFSETTO:-0700
TZNAME:PDT
DTSTART:20260308T100000
END:DAYLIGHT
BEGIN:STANDARD
TZOFFSETFROM:-0700
TZOFFSETTO:-0800
TZNAME:PST
DTSTART:20261101T090000
END:STANDARD
END:VTIMEZONE
BEGIN:VEVENT
DTSTART;TZID=America/Los_Angeles:20250814T133000
DTEND;TZID=America/Los_Angeles:20250814T160000
DTSTAMP:20260423T052255
CREATED:20250806T214514Z
LAST-MODIFIED:20250806T214514Z
UID:17552-1755178200-1755187200@lbmoms.com
SUMMARY:Cool Crafts Roundup at the Rancho
DESCRIPTION:At Cool Crafts Roundup at Rancho Los Alamitos\, kids of all ages and adults will get the opportunity to hear stories\, roll up their sleeves\, and be creative! Crafts and stories are inspired by the environment around the Rancho and offer a multitude of perspectives to create a meaningful and engaging experience. \nNo reservations required; free admission. Drop in anytime. \nCool Crafts happens from 1:30 to 4:00 PM on the 2nd Thursday of the month April through August 2025.
URL:https://lbmoms.com/event/cool-crafts-roundup-at-the-rancho/
LOCATION:Rancho Los Alamitos\, 6400 E. Bixby Hill Road\, Long Beach\, CA\, 90815\, United States
CATEGORIES:Free Events
ATTACH;FMTTYPE=image/png:https://lbmoms.com/wp-content/uploads/2025/08/Crafts.png
END:VEVENT
END:VCALENDAR