BEGIN:VCALENDAR
VERSION:2.0
PRODID:-//Long Beach Moms - ECPv6.15.20//NONSGML v1.0//EN
CALSCALE:GREGORIAN
METHOD:PUBLISH
X-WR-CALNAME:Long Beach Moms
X-ORIGINAL-URL:https://lbmoms.com
X-WR-CALDESC:Events for Long Beach Moms
REFRESH-INTERVAL;VALUE=DURATION:PT1H
X-Robots-Tag:noindex
X-PUBLISHED-TTL:PT1H
BEGIN:VTIMEZONE
TZID:America/Los_Angeles
BEGIN:DAYLIGHT
TZOFFSETFROM:-0800
TZOFFSETTO:-0700
TZNAME:PDT
DTSTART:20240310T100000
END:DAYLIGHT
BEGIN:STANDARD
TZOFFSETFROM:-0700
TZOFFSETTO:-0800
TZNAME:PST
DTSTART:20241103T090000
END:STANDARD
BEGIN:DAYLIGHT
TZOFFSETFROM:-0800
TZOFFSETTO:-0700
TZNAME:PDT
DTSTART:20250309T100000
END:DAYLIGHT
BEGIN:STANDARD
TZOFFSETFROM:-0700
TZOFFSETTO:-0800
TZNAME:PST
DTSTART:20251102T090000
END:STANDARD
BEGIN:DAYLIGHT
TZOFFSETFROM:-0800
TZOFFSETTO:-0700
TZNAME:PDT
DTSTART:20260308T100000
END:DAYLIGHT
BEGIN:STANDARD
TZOFFSETFROM:-0700
TZOFFSETTO:-0800
TZNAME:PST
DTSTART:20261101T090000
END:STANDARD
END:VTIMEZONE
BEGIN:VEVENT
DTSTART;TZID=America/Los_Angeles:20250830T083000
DTEND;TZID=America/Los_Angeles:20250830T173000
DTSTAMP:20260423T063606
CREATED:20250828T162426Z
LAST-MODIFIED:20250828T162605Z
UID:17851-1756542600-1756575000@lbmoms.com
SUMMARY:FREE Community Health Service Event in Long Beach
DESCRIPTION:Join us for the 4th Annual Free Community Health Service Event on Saturday\, August 30\, 2025\, at New Hope Home in Long Beach! This one-day event is completely FREE and open to the public — no insurance required. \nWe’re bringing together trusted healthcare partners and community organizations to provide essential health screenings and services to all residents in and around Long Beach. \n  \nNew Hope Home \n1150 E. New York St. \nLong Beach CA 90813 \nFree parking is available in the Salvation Army lot. \n  \nServices Offered:\n\nMobile Mammography (Women ages 40+)\nDental Care: Exams\, x-rays\, cleanings\, fillings\, and extractions\nVision Services: Eye exams and free eyeglasses\nGlucose and STD Testing\nBlood Pressure Screenings\nVoter Registration\nVeterans Appreciation Table\, 12pm-2pm\, gift bags and free lunch.\nCommunity Resources and More!\n\n🧾 No insurance needed – just bring a valid photo ID matching your name.⏳ First come\, first serve – registration will close once patient capacity is reached.🥤 Please bring water and snacks\, as wait times may vary depending on the service. \n  \nLast Year’s Impact:\nIn 2024\, we served nearly 200 community members\, provided 34 mammograms (with 3 referrals for further care)\, administered 200+ vaccines\, and delivered over $60\,000 in free vision services. \n  \nPresented By:\n\nNew Hope Home\nHands of New Hope\nThe Pink Journey Foundation\nHealing California\n\n  \nWith Support From:\n\nAmistad Medical Clinics\nChi Eta Phi Sorority\, Inc.\nDelta Sigma Theta Sorority\, Inc.\nL.A. Care Community Resource Centers\nLong Beach Department of Health and Human Services\nMetro\nNational Council of Negro Women\nThe SIX\n\nDon’t miss out on this opportunity to put your health and well-being first. See you there!
URL:https://lbmoms.com/event/free-community-health-service-event-in-long-beach/
LOCATION:1150 East New York Street\, 1150 East New York Street\, Long Beach\, CA\, 90813\, United States
CATEGORIES:Free Events
ATTACH;FMTTYPE=image/png:https://lbmoms.com/wp-content/uploads/2025/08/Newsletter-Event-Graphics-6.png
END:VEVENT
BEGIN:VEVENT
DTSTART;TZID=America/Los_Angeles:20250830T120000
DTEND;TZID=America/Los_Angeles:20250830T180000
DTSTAMP:20260423T063606
CREATED:20250828T163846Z
LAST-MODIFIED:20250828T163846Z
UID:17857-1756555200-1756576800@lbmoms.com
SUMMARY:Back to School at LBX
DESCRIPTION:Back to School Photo Op | Vendors | FREE Pencil Pouches | DIY Squishy Ball Station | Great Lunch Options DJ playing great Summer tunes! \nPlease purchase free tickets for pencil pouches and the event! Join us for fun in the sun and freebies for the kiddies! We have a great event planned with DIY’s | Live DJ | Shopping from Artisans | Pet Apparel | Great food inside the Hangar | Adorable Back to School Photo Op $ and so much more! Our events are always free\, pet friendly and plenty of free parking.
URL:https://lbmoms.com/event/back-to-school-at-lbx/
LOCATION:4150 McGowen St.\, 4150 McGowen St.\, Long Beach\, CA\, 90808\, United States
CATEGORIES:Free Events
ATTACH;FMTTYPE=image/jpeg:https://lbmoms.com/wp-content/uploads/2025/08/Crafted.jpeg
END:VEVENT
END:VCALENDAR