BEGIN:VCALENDAR
VERSION:2.0
PRODID:-//Long Beach Moms - ECPv6.15.20//NONSGML v1.0//EN
CALSCALE:GREGORIAN
METHOD:PUBLISH
X-WR-CALNAME:Long Beach Moms
X-ORIGINAL-URL:https://lbmoms.com
X-WR-CALDESC:Events for Long Beach Moms
REFRESH-INTERVAL;VALUE=DURATION:PT1H
X-Robots-Tag:noindex
X-PUBLISHED-TTL:PT1H
BEGIN:VTIMEZONE
TZID:America/Los_Angeles
BEGIN:DAYLIGHT
TZOFFSETFROM:-0800
TZOFFSETTO:-0700
TZNAME:PDT
DTSTART:20240310T100000
END:DAYLIGHT
BEGIN:STANDARD
TZOFFSETFROM:-0700
TZOFFSETTO:-0800
TZNAME:PST
DTSTART:20241103T090000
END:STANDARD
BEGIN:DAYLIGHT
TZOFFSETFROM:-0800
TZOFFSETTO:-0700
TZNAME:PDT
DTSTART:20250309T100000
END:DAYLIGHT
BEGIN:STANDARD
TZOFFSETFROM:-0700
TZOFFSETTO:-0800
TZNAME:PST
DTSTART:20251102T090000
END:STANDARD
BEGIN:DAYLIGHT
TZOFFSETFROM:-0800
TZOFFSETTO:-0700
TZNAME:PDT
DTSTART:20260308T100000
END:DAYLIGHT
BEGIN:STANDARD
TZOFFSETFROM:-0700
TZOFFSETTO:-0800
TZNAME:PST
DTSTART:20261101T090000
END:STANDARD
END:VTIMEZONE
BEGIN:VEVENT
DTSTART;TZID=America/Los_Angeles:20251119T150000
DTEND;TZID=America/Los_Angeles:20251119T190000
DTSTAMP:20260421T130600
CREATED:20231025T055643Z
LAST-MODIFIED:20231025T055643Z
UID:14141-1763564400-1763578800@lbmoms.com
SUMMARY:Local Harvest Farmers Market
DESCRIPTION:This traditional farmers market favorite occurs from 3-7 p.m.\, at Marine Stadium (5255 Paoli Way). Farm fresh\, California-grown fruits and vegetables are a staple as are stunning selections of fresh cut flowers. As the Marine Stadium market has evolved\, so has the selection of artisanal items\, ranging from bread to honey to vinegar as has the selection of gourmet specialty foods and coffee. Located by the water of historic Marine Stadium\, which hosted the rowing events of the 1932 Olympics\, it makes for a wonderful afternoon/evening out\, whether shopping for food\, jewelry or something to eat right away while you groove to live music.
URL:https://lbmoms.com/event/local-harvest-farmers-market-2025-11-19/
LOCATION:Marine Stadium\, 5255 E Paoli Way\, Long Beach\, CA\, 90803\, United States
CATEGORIES:City of Long Beach,Events,Free Events
ATTACH;FMTTYPE=image/png:https://lbmoms.com/wp-content/uploads/2023/10/Local-Harvest.png
END:VEVENT
END:VCALENDAR