BEGIN:VCALENDAR
VERSION:2.0
PRODID:-//Long Beach Moms - ECPv6.15.20//NONSGML v1.0//EN
CALSCALE:GREGORIAN
METHOD:PUBLISH
X-ORIGINAL-URL:https://lbmoms.com
X-WR-CALDESC:Events for Long Beach Moms
REFRESH-INTERVAL;VALUE=DURATION:PT1H
X-Robots-Tag:noindex
X-PUBLISHED-TTL:PT1H
BEGIN:VTIMEZONE
TZID:America/Los_Angeles
BEGIN:DAYLIGHT
TZOFFSETFROM:-0800
TZOFFSETTO:-0700
TZNAME:PDT
DTSTART:20240310T100000
END:DAYLIGHT
BEGIN:STANDARD
TZOFFSETFROM:-0700
TZOFFSETTO:-0800
TZNAME:PST
DTSTART:20241103T090000
END:STANDARD
BEGIN:DAYLIGHT
TZOFFSETFROM:-0800
TZOFFSETTO:-0700
TZNAME:PDT
DTSTART:20250309T100000
END:DAYLIGHT
BEGIN:STANDARD
TZOFFSETFROM:-0700
TZOFFSETTO:-0800
TZNAME:PST
DTSTART:20251102T090000
END:STANDARD
BEGIN:DAYLIGHT
TZOFFSETFROM:-0800
TZOFFSETTO:-0700
TZNAME:PDT
DTSTART:20260308T100000
END:DAYLIGHT
BEGIN:STANDARD
TZOFFSETFROM:-0700
TZOFFSETTO:-0800
TZNAME:PST
DTSTART:20261101T090000
END:STANDARD
END:VTIMEZONE
BEGIN:VEVENT
DTSTART;TZID=America/Los_Angeles:20251122T110000
DTEND;TZID=America/Los_Angeles:20251122T130000
DTSTAMP:20260421T145158
CREATED:20251120T183550Z
LAST-MODIFIED:20251120T183550Z
UID:18641-1763809200-1763816400@lbmoms.com
SUMMARY:Free Groceries at Pools of Hope
DESCRIPTION:Join Pools of Hope for our Free Grocery Giveaway!\n\n\n\nPools of Hope is giving away free food to the community every Saturday at 11am until supplies are depleted for the day. \nFood items include meat\, vegetables\, and more! \nFree groceries include: \n\nEggs\nMeat\nFresh Veggies\nAsthma Education\nHealth Education\nand more!\n\nRSVP to receive an event reminder.
URL:https://lbmoms.com/event/free-groceries-at-pools-of-hope/
LOCATION:6801 Long Beach Boulevard\, 6801 Long Beach Boulevard\, Long Beach\, CA\, 90805\, United States
CATEGORIES:Free Events
ATTACH;FMTTYPE=image/jpeg:https://lbmoms.com/wp-content/uploads/2025/11/Free.jpeg
END:VEVENT
BEGIN:VEVENT
DTSTART;TZID=America/Los_Angeles:20251122T120000
DTEND;TZID=America/Los_Angeles:20251122T150000
DTSTAMP:20260421T145158
CREATED:20251113T190158Z
LAST-MODIFIED:20251113T190158Z
UID:18563-1763812800-1763823600@lbmoms.com
SUMMARY:Shop for Good/Shop Small-iday Festival
DESCRIPTION:The Shop For Good/Shop Small-iday Holiday Festival is a celebration of ethical sourcing and conscious consumerism hosted by Fair Trade Long Beach. This event aims to create options to shop ethically for social good and show support for our fair trade producers both globally and locally. \nThe fest will feature an Ethical Fashion Show\, a Miss Purrfect Pinup Pageant with the “Catwalk” sponsored by The Little Lion Foundation\, DJ HB Jukebox with Holiday Carol Karaoke\, and 30 global and local artisan groups showcasing a diverse array of ethically sourced products\, from handcrafted goods and clothing to delicious coffee\, chocolate\, and more. Attendees will have the opportunity to engage with fair trade artisans and learn about the positive impact of their work in communities worldwide.
URL:https://lbmoms.com/event/shop-for-good-shop-small-iday-festival/
LOCATION:2100 N Bellflower Blvd\, 2100 N Bellflower Blvd\, Long Beach\, CA\, 90815\, United States
CATEGORIES:Events,Free Events
ATTACH;FMTTYPE=image/jpeg:https://lbmoms.com/wp-content/uploads/2025/11/Shop.jpg
END:VEVENT
BEGIN:VEVENT
DTSTART;TZID=America/Los_Angeles:20251122T140000
DTEND;TZID=America/Los_Angeles:20251122T170000
DTSTAMP:20260421T145158
CREATED:20251120T183844Z
LAST-MODIFIED:20251120T183856Z
UID:18645-1763820000-1763830800@lbmoms.com
SUMMARY:The Million Dollar Baby Shower
DESCRIPTION:Get ready for the ultimate baby shower experience where you could win big prizes worth a million bucks!\n\n\n\nWelcome to The Million Dollar Baby Shower! \nJoin us for a glamorous and fun-filled event celebrating the future millionaires. Whether you’re a mom-to-be\, a new parent\, grand-parent\, or god-parent\, this event is for you. Expect exciting games w/ fabulous prizes\, baby wealth building strategies\, and shared stories with motherhood. Come to 3711 Long Beach Blvd suite 4036 and enjoy an afternoon of fun and a mission to build generational wealth 1 baby at a time. Don’t miss out on this unforgettable experience!
URL:https://lbmoms.com/event/the-million-dollar-baby-shower/
LOCATION:3711 Long Beach Blvd suite 4036\, 3711 Long Beach Blvd suite 4036\, Long Beach\, CA\, 90807\, United States
CATEGORIES:Free Events
ATTACH;FMTTYPE=image/png:https://lbmoms.com/wp-content/uploads/2025/11/Baby.png
END:VEVENT
END:VCALENDAR