BEGIN:VCALENDAR
VERSION:2.0
PRODID:-//Long Beach Moms - ECPv6.15.20//NONSGML v1.0//EN
CALSCALE:GREGORIAN
METHOD:PUBLISH
X-ORIGINAL-URL:https://lbmoms.com
X-WR-CALDESC:Events for Long Beach Moms
REFRESH-INTERVAL;VALUE=DURATION:PT1H
X-Robots-Tag:noindex
X-PUBLISHED-TTL:PT1H
BEGIN:VTIMEZONE
TZID:America/Los_Angeles
BEGIN:DAYLIGHT
TZOFFSETFROM:-0800
TZOFFSETTO:-0700
TZNAME:PDT
DTSTART:20240310T100000
END:DAYLIGHT
BEGIN:STANDARD
TZOFFSETFROM:-0700
TZOFFSETTO:-0800
TZNAME:PST
DTSTART:20241103T090000
END:STANDARD
BEGIN:DAYLIGHT
TZOFFSETFROM:-0800
TZOFFSETTO:-0700
TZNAME:PDT
DTSTART:20250309T100000
END:DAYLIGHT
BEGIN:STANDARD
TZOFFSETFROM:-0700
TZOFFSETTO:-0800
TZNAME:PST
DTSTART:20251102T090000
END:STANDARD
BEGIN:DAYLIGHT
TZOFFSETFROM:-0800
TZOFFSETTO:-0700
TZNAME:PDT
DTSTART:20260308T100000
END:DAYLIGHT
BEGIN:STANDARD
TZOFFSETFROM:-0700
TZOFFSETTO:-0800
TZNAME:PST
DTSTART:20261101T090000
END:STANDARD
END:VTIMEZONE
BEGIN:VEVENT
DTSTART;TZID=America/Los_Angeles:20251129T110000
DTEND;TZID=America/Los_Angeles:20251129T120000
DTSTAMP:20260421T163445
CREATED:20251126T055844Z
LAST-MODIFIED:20251126T055844Z
UID:18705-1764414000-1764417600@lbmoms.com
SUMMARY:Long Beach Walking Club Community Walk with Bixby Knolls!
DESCRIPTION:Back in Bixby Knolls for Small Business Saturday! Explore local shops\, support small businesses\, and enjoy a cozy stroll with good company.
URL:https://lbmoms.com/event/long-beach-walking-club-community-walk-with-bixby-knolls/
LOCATION:3811 Atlantic Avenue\, 3811 Atlantic Avenue\, Long Beach\, CA\, 90807\, United States
CATEGORIES:Free Events
ATTACH;FMTTYPE=image/jpeg:https://lbmoms.com/wp-content/uploads/2025/11/Walk.jpeg
END:VEVENT
BEGIN:VEVENT
DTSTART;TZID=America/Los_Angeles:20251129T110000
DTEND;TZID=America/Los_Angeles:20251129T170000
DTSTAMP:20260421T163445
CREATED:20251113T190718Z
LAST-MODIFIED:20251113T190818Z
UID:18571-1764414000-1764435600@lbmoms.com
SUMMARY:Patchwork Show Long Beach
DESCRIPTION:Nestled at the water’s edge of Marine Stadium\, our largest and longest running show features local makers\, junior artists\, live music\, artisan food vendors\, food trucks\, DIY crafting\, activities and more at Patchwork Show Long Beach. This pet and bike-friendly festival is the perfect spot for an afternoon with your four-legged friend and features a bike valet. \nLong Beach Mom’s will have a table! Stop on by and say hi!
URL:https://lbmoms.com/event/patchwork-show-long-beach/
LOCATION:490 Bay Shore Ave Pkng Long Beach\, CA 90803\, 490 Bay Shore Ave Pkng\, Long Beach\, CA\, 90803\, United States
CATEGORIES:Events,Free Events
ATTACH;FMTTYPE=image/png:https://lbmoms.com/wp-content/uploads/2025/11/1-4.png
END:VEVENT
END:VCALENDAR