BEGIN:VCALENDAR
VERSION:2.0
PRODID:-//Long Beach Moms - ECPv6.15.20//NONSGML v1.0//EN
CALSCALE:GREGORIAN
METHOD:PUBLISH
X-WR-CALNAME:Long Beach Moms
X-ORIGINAL-URL:https://lbmoms.com
X-WR-CALDESC:Events for Long Beach Moms
REFRESH-INTERVAL;VALUE=DURATION:PT1H
X-Robots-Tag:noindex
X-PUBLISHED-TTL:PT1H
BEGIN:VTIMEZONE
TZID:America/Los_Angeles
BEGIN:DAYLIGHT
TZOFFSETFROM:-0800
TZOFFSETTO:-0700
TZNAME:PDT
DTSTART:20240310T100000
END:DAYLIGHT
BEGIN:STANDARD
TZOFFSETFROM:-0700
TZOFFSETTO:-0800
TZNAME:PST
DTSTART:20241103T090000
END:STANDARD
BEGIN:DAYLIGHT
TZOFFSETFROM:-0800
TZOFFSETTO:-0700
TZNAME:PDT
DTSTART:20250309T100000
END:DAYLIGHT
BEGIN:STANDARD
TZOFFSETFROM:-0700
TZOFFSETTO:-0800
TZNAME:PST
DTSTART:20251102T090000
END:STANDARD
BEGIN:DAYLIGHT
TZOFFSETFROM:-0800
TZOFFSETTO:-0700
TZNAME:PDT
DTSTART:20260308T100000
END:DAYLIGHT
BEGIN:STANDARD
TZOFFSETFROM:-0700
TZOFFSETTO:-0800
TZNAME:PST
DTSTART:20261101T090000
END:STANDARD
END:VTIMEZONE
BEGIN:VEVENT
DTSTART;TZID=America/Los_Angeles:20251206T090000
DTEND;TZID=America/Los_Angeles:20251206T120000
DTSTAMP:20260422T125421
CREATED:20251204T050952Z
LAST-MODIFIED:20251204T050952Z
UID:18777-1765011600-1765022400@lbmoms.com
SUMMARY:Provider and Parent Workshop - The Importance of Art Play
DESCRIPTION:This workshop is designed to provide child care providers and families with an introduction to art play.\n\n\n\nPlease note: this workshop will be held in-person only and followed by a Family\, Friend\, and Neighbor (FFN) activity\, “Shake It Up! No Mess Painting\,” from 11:00 a.m. – 12:00.p.m.
URL:https://lbmoms.com/event/provider-and-parent-workshop-the-importance-of-art-play/
LOCATION:4900 Airport Plaza Drive  ##100\, 4900 Airport Plaza Drive #100\, Long Beach\, CA\, 908015\, United States
CATEGORIES:Free Events
ATTACH;FMTTYPE=image/png:https://lbmoms.com/wp-content/uploads/2025/12/Provider.png
END:VEVENT
BEGIN:VEVENT
DTSTART;TZID=America/Los_Angeles:20251206T140000
DTEND;TZID=America/Los_Angeles:20251206T210000
DTSTAMP:20260422T125421
CREATED:20251204T045453Z
LAST-MODIFIED:20251204T045453Z
UID:18761-1765029600-1765054800@lbmoms.com
SUMMARY:Santa's Holiday Bash at SteelCraft
DESCRIPTION:On Saturday\, December 6th\, enjoy holiday fun at SteelCraft Long Beach! Meet Santa & Gingerbread Girl\, make crafts\, stay for the live music\, food\, and drinks! If you’re lucky\, you might even see some rare SoCal snowfall…
URL:https://lbmoms.com/event/santas-holiday-bash-at-steelcraft/
LOCATION:3768 Long Beach Boulevard\, 3768 Long Beach Boulevard\, Long Beach\, CA\, 90807\, United States
CATEGORIES:Free Events
ATTACH;FMTTYPE=image/jpeg:https://lbmoms.com/wp-content/uploads/2025/12/Santa.jpeg
END:VEVENT
BEGIN:VEVENT
DTSTART;TZID=America/Los_Angeles:20251206T180000
DTEND;TZID=America/Los_Angeles:20251206T210000
DTSTAMP:20260422T125421
CREATED:20251204T045757Z
LAST-MODIFIED:20251204T045757Z
UID:18765-1765044000-1765054800@lbmoms.com
SUMMARY:Belmont Shore Christmas Parade
DESCRIPTION:🎄 “Jingle & Jammies” – A Holiday Pajama Party on Parade! \nThe Belmont Shore Christmas Parade celebrates its 41st year in 2025! One of the biggest parades of the year in Long Beach takes place yearly on the first Saturday in December. Families line up along 2nd Street for a seat or best viewing of the night-time event that includes Santa Claus\, plenty of elves\, and colorful bands\, costumes\, floats and surprises. \nFor 2025\, organizers are asking parade participants to curbside spectators—to wear their favorite festive pajamas in an attempt to set a world record for the most people wearing pajamas at one time at a public event! \nOver a dozen local marching bands\, 100 entries\, floats designed by Long Beach businesses and associations\, marching bands\, and local personalities and dignitaries\, all make this the hometown favorite to get you in the holiday spirit. Belmont Shore loves the holidays and is adorned with light pole banners with festive holiday symbols and sentiments. \n2025 Grand Marshalls: \n\nDavid Shlemmer – Shlemmer Investments\nMike Sheldrake – Sheldrake’s Coffee Roasting (formerly Polly’s)\nPaige Henley – McCarty’s Jewelry\nDede Rossi – Former Executive Director of the BSBA\n\nThe parade route is along East Second Street and begins heading east from Livingston Avenue to Bayshore Avenue. Entries return to Livingston Avenue heading west along the north side of East Second Street. \nEast 2nd St. closes to traffic at 5 p.m.\, which is the signal for spectators to set up chairs and blankets for a front row seat to the parade. Floats are judged based on Execution of Theme\, Originality of Design and Spectator Appeal. \nThis event is FREE and open for all ages. Tickets or RSVP are not required. \n\n\n\nWebsite
URL:https://lbmoms.com/event/belmont-shore-christmas-parade-2/
LOCATION:2nd St\, between Livingston & Bayshore\, 2nd St\, between Livingston & Bayshore\, Long Beach\, CA\, 90803\, United States
CATEGORIES:Free Events
ATTACH;FMTTYPE=image/png:https://lbmoms.com/wp-content/uploads/2025/12/Belmont.png
END:VEVENT
END:VCALENDAR