BEGIN:VCALENDAR
VERSION:2.0
PRODID:-//Long Beach Moms - ECPv6.15.20//NONSGML v1.0//EN
CALSCALE:GREGORIAN
METHOD:PUBLISH
X-ORIGINAL-URL:https://lbmoms.com
X-WR-CALDESC:Events for Long Beach Moms
REFRESH-INTERVAL;VALUE=DURATION:PT1H
X-Robots-Tag:noindex
X-PUBLISHED-TTL:PT1H
BEGIN:VTIMEZONE
TZID:America/Los_Angeles
BEGIN:DAYLIGHT
TZOFFSETFROM:-0800
TZOFFSETTO:-0700
TZNAME:PDT
DTSTART:20240310T100000
END:DAYLIGHT
BEGIN:STANDARD
TZOFFSETFROM:-0700
TZOFFSETTO:-0800
TZNAME:PST
DTSTART:20241103T090000
END:STANDARD
BEGIN:DAYLIGHT
TZOFFSETFROM:-0800
TZOFFSETTO:-0700
TZNAME:PDT
DTSTART:20250309T100000
END:DAYLIGHT
BEGIN:STANDARD
TZOFFSETFROM:-0700
TZOFFSETTO:-0800
TZNAME:PST
DTSTART:20251102T090000
END:STANDARD
BEGIN:DAYLIGHT
TZOFFSETFROM:-0800
TZOFFSETTO:-0700
TZNAME:PDT
DTSTART:20260308T100000
END:DAYLIGHT
BEGIN:STANDARD
TZOFFSETFROM:-0700
TZOFFSETTO:-0800
TZNAME:PST
DTSTART:20261101T090000
END:STANDARD
END:VTIMEZONE
BEGIN:VEVENT
DTSTART;TZID=America/Los_Angeles:20251213T110000
DTEND;TZID=America/Los_Angeles:20251213T140000
DTSTAMP:20260422T170652
CREATED:20251211T170315Z
LAST-MODIFIED:20251211T170315Z
UID:18830-1765623600-1765634400@lbmoms.com
SUMMARY:The Kwanzaa Experience
DESCRIPTION:Long Beach’s Department of Health and Human Services is hosting The Kwanzaa Experience at the Houghton Park Community Center on December 13. \nThe event features crafts\, music\, refreshments\, performers\, and fun for the whole family.
URL:https://lbmoms.com/event/the-kwanzaa-experience/
LOCATION:6301 Myrtle Ave\, 6301 Myrtle Ave\, Long Beach\, CA\, 90805\, United States
CATEGORIES:Free Events
ATTACH;FMTTYPE=image/png:https://lbmoms.com/wp-content/uploads/2025/12/Kwanzaa.png
END:VEVENT
BEGIN:VEVENT
DTSTART;TZID=America/Los_Angeles:20251213T110000
DTEND;TZID=America/Los_Angeles:20251213T170000
DTSTAMP:20260422T170652
CREATED:20251211T170535Z
LAST-MODIFIED:20251211T170535Z
UID:18834-1765623600-1765645200@lbmoms.com
SUMMARY:Posada at MOLAA
DESCRIPTION:Celebrate the warmth and traditions of the season at AJUA’s Posada\, a festive community gathering filled with music\, dance\, art-making\, and cultural heritage for families of all ages! \nFestivities begin at 11:00 a.m. with check-in followed by an energizing DJ set. Throughout the day\, enjoy multiple opportunities to join hands-on piñata workshops\, engaging participants in this beloved tradition. \nExperience a vibrant lineup of live performances\, including the captivating Aztec Dancers\, the talented young musicians of the Maqueos Music Academy\, and the dynamic sounds of Grupo Fuerza G. With alternating performances and workshops\, every hour offers something new to enjoy. \nThe celebration concludes with a meaningful and joyous tradition from 4:00 to 5:00 p.m. as we gather to ask for Posada followed by the piñata breaking\, bringing everyone together in a spirit of community and holiday cheer. \nJoin us for a day of culture\, creativity\, and celebration! All are welcome—bring your family\, your friends\, and your festive spirit. ¡Los esperamos!
URL:https://lbmoms.com/event/posada-at-molaa/
LOCATION:628 Alamitos Ave\, 628 Alamitos Ave\, Long Beach\, CA\, 90802\, United States
CATEGORIES:Free Events
ATTACH;FMTTYPE=image/jpeg:https://lbmoms.com/wp-content/uploads/2025/12/Posada.jpg
END:VEVENT
BEGIN:VEVENT
DTSTART;TZID=America/Los_Angeles:20251213T173000
DTEND;TZID=America/Los_Angeles:20251213T193000
DTSTAMP:20260422T170652
CREATED:20251211T170936Z
LAST-MODIFIED:20251211T170936Z
UID:18842-1765647000-1765654200@lbmoms.com
SUMMARY:Shoreline Yacht Club Christmas Boat Parade Viewing Party
DESCRIPTION:The Shoreline Yacht Club’s Christmas Boat Parade Viewing Party offers an exciting experience with prime views of the scenic Long Beach waterfront. The viewing party held at Shoreline Village\, known for its charming coastal atmosphere\, gives guests an ideal vantage point to take in the parade\, marina and city lights. \nEnjoy live holiday music and dancing\, a balloon twister\, holiday photo booth (at an additional cost)\, and snow in the village during the parade. \nThe parade route goes through Shoreline Marina and Rainbow Harbor\, with viewing locations from the restaurants and boardwalk at Shoreline Village and the Marina break wall behind Shoreline Village. \nThe viewing party is free with no tickets required.
URL:https://lbmoms.com/event/shoreline-yacht-club-christmas-boat-parade-viewing-party/
LOCATION:401-435 Shoreline Village Dr\, 401-435 Shoreline Village Dr\, Long Beach\, CA\, 90802\, United States
CATEGORIES:Free Events
ATTACH;FMTTYPE=image/jpeg:https://lbmoms.com/wp-content/uploads/2025/12/Boat.jpg
END:VEVENT
END:VCALENDAR