BEGIN:VCALENDAR
VERSION:2.0
PRODID:-//Long Beach Moms - ECPv6.15.20//NONSGML v1.0//EN
CALSCALE:GREGORIAN
METHOD:PUBLISH
X-WR-CALNAME:Long Beach Moms
X-ORIGINAL-URL:https://lbmoms.com
X-WR-CALDESC:Events for Long Beach Moms
REFRESH-INTERVAL;VALUE=DURATION:PT1H
X-Robots-Tag:noindex
X-PUBLISHED-TTL:PT1H
BEGIN:VTIMEZONE
TZID:America/Los_Angeles
BEGIN:DAYLIGHT
TZOFFSETFROM:-0800
TZOFFSETTO:-0700
TZNAME:PDT
DTSTART:20240310T100000
END:DAYLIGHT
BEGIN:STANDARD
TZOFFSETFROM:-0700
TZOFFSETTO:-0800
TZNAME:PST
DTSTART:20241103T090000
END:STANDARD
BEGIN:DAYLIGHT
TZOFFSETFROM:-0800
TZOFFSETTO:-0700
TZNAME:PDT
DTSTART:20250309T100000
END:DAYLIGHT
BEGIN:STANDARD
TZOFFSETFROM:-0700
TZOFFSETTO:-0800
TZNAME:PST
DTSTART:20251102T090000
END:STANDARD
BEGIN:DAYLIGHT
TZOFFSETFROM:-0800
TZOFFSETTO:-0700
TZNAME:PDT
DTSTART:20260308T100000
END:DAYLIGHT
BEGIN:STANDARD
TZOFFSETFROM:-0700
TZOFFSETTO:-0800
TZNAME:PST
DTSTART:20261101T090000
END:STANDARD
END:VTIMEZONE
BEGIN:VEVENT
DTSTART;VALUE=DATE:20251220
DTEND;VALUE=DATE:20251225
DTSTAMP:20260421T163259
CREATED:20251218T215816Z
LAST-MODIFIED:20251218T215816Z
UID:18982-1766188800-1766620799@lbmoms.com
SUMMARY:COASTAL SNOWFALL AT 2ND & PCH
DESCRIPTION:Get ready to experience a winter wonderland in the heart of the city with COASTAL SNOWFALL AT 2ND & PCH!\n\n\n\nThe Coastal Snowfall Experience Returns to 2ND & PCH! \nLet it snow—coastal style! ❄️✨ \nFollowing Santa’s grand arrival and our beloved Annual Tree Lighting Celebration\, The Coastal Snowfall Experience returns to bring a touch of winter magic to the California coast. Beginning Saturday\, November 22\, through Tuesday\, December 24\, guests can enjoy the wonder of snowfall every Saturday and Monday evening from 5:00 PM to 8:00 PM\, with flurries cascading every hour on the hour for 15–20 minutes. \nThe Coastal Snowfall will occur daily from Saturday\, December 20th\, through Wednesday\, December 24th. \nStep into the magic of the holidays as snow gently falls over Seaport Way\, surrounded by sparkling lights\, festive music\, and the marina’s coastal glow. Bring your friends\, family\, and loved ones to capture enchanting moments beneath the snow\, perfect for holiday photos and creating memories that last a lifetime. \nAfter each snowfall\, stay and enjoy everything 2ND & PCH has to offer — from cozy cafés and waterfront dining to boutique shopping and family-friendly fun. Whether you’re beginning a new holiday tradition or continuing a cherished one\, The Coastal Snowfall Experience is a must-see seasonal favorite. \n🎄 The magic continues all season long at 2ND & PCH. For the full holiday schedule and event details\, visit 2ndandpch.com/holiday. \n*** This event is free and open to the public. This event is weather permitting; if rain is forecasted\, the snow experience will be cancelled.
URL:https://lbmoms.com/event/coastal-snowfall-at-2nd-pch/
LOCATION:6400 Pacific Coast Highway\, 6400 Pacific Coast Highway\, Long Beach\, CA\, 90803\, United States
CATEGORIES:Free Events
ATTACH;FMTTYPE=image/png:https://lbmoms.com/wp-content/uploads/2025/12/Newsletter-Event-Graphics-20.png
END:VEVENT
BEGIN:VEVENT
DTSTART;TZID=America/Los_Angeles:20251221T110000
DTEND;TZID=America/Los_Angeles:20251221T120000
DTSTAMP:20260421T163259
CREATED:20251218T214236Z
LAST-MODIFIED:20251218T214236Z
UID:18958-1766314800-1766318400@lbmoms.com
SUMMARY:Kidical Mass Bike Ride
DESCRIPTION:Get ready to pedal into the holidays with us this Sunday at the annual Kidical Mass Ugly Sweater Bike Ride 🚲🎄 \nBreak out your most festive\, ugly\, over-the-top holiday sweater and cruise the neighborhood in true holiday style. The ugliest and most festive sweater will win a prize\, so don’t hold back.\n✨ Kids and adults of all ages are welcome\n🍬 Free treats during and after the ride\n🎁 Big holiday cheer guaranteed \nRide Details:\n🕚 Ride rolls out at 11am\n📍 Meet at Pixie Toys Back parking lot – 3914 Atlantic Ave. \nHelmets are required\, so please don’t forget yours.\nWe can’t wait to ride\, laugh\, and celebrate the season with you.
URL:https://lbmoms.com/event/kidical-mass-bike-ride-5/
LOCATION:3914 Atlantic Ave\, 3914 Atlantic Ave\, Long Beach\, CA\, 90807\, United States
CATEGORIES:Free Events
ATTACH;FMTTYPE=image/png:https://lbmoms.com/wp-content/uploads/2025/12/Bike-ride.png
END:VEVENT
BEGIN:VEVENT
DTSTART;TZID=America/Los_Angeles:20251221T110000
DTEND;TZID=America/Los_Angeles:20251221T130000
DTSTAMP:20260421T163259
CREATED:20251218T215339Z
LAST-MODIFIED:20251218T215339Z
UID:18977-1766314800-1766322000@lbmoms.com
SUMMARY:Family ArtMaking
DESCRIPTION:Join the LBMA Education team every third Sunday for free\, drop-in artmaking inspired by our current exhibitions.\n\n\n\nDetails\n\n\n\n\nProjects are designed for all ages and skill levels. Children must be accompanied by an adult at all times. Participants receive a complimentary day of gallery admission pass. \nTime: 11:00 am – 1:00 pm \nPrice: FREE \nLocation: 2300 E. Ocean Blvd.\, Long Beach\, CA 90803 \n\nRSVPs are NOT required.\n\n\n\n\n\nBecome a Member – Memberships start at $40\n\n\n\n\nLBMA Members receive free admission\, access to exclusive previews\, and more. Join a dynamic artistic community that celebrates the power of the creative process\, the value of art education\, and the importance of art. Become a Member today.
URL:https://lbmoms.com/event/family-artmaking/
LOCATION:2300 East Ocean Boulevard\, 2300 East Ocean Boulevard\, Long Beach\, CA\, 90803\, United States
CATEGORIES:Free Events
ATTACH;FMTTYPE=image/jpeg:https://lbmoms.com/wp-content/uploads/2025/12/Art.jpeg
END:VEVENT
BEGIN:VEVENT
DTSTART;TZID=America/Los_Angeles:20251221T120000
DTEND;TZID=America/Los_Angeles:20251221T160000
DTSTAMP:20260421T163259
CREATED:20251218T214803Z
LAST-MODIFIED:20251218T214826Z
UID:18961-1766318400-1766332800@lbmoms.com
SUMMARY:Honoring Love\, Holding Loss: A Holiday Grief Gathering
DESCRIPTION:Join us for a special holiday drive where grieving families can connect and bond with free food and fun activities.\n\n\n\nHonoring Love\, Holding Loss: A Holiday Grief Gathering \nHosted by 2.18 Vision \nPart of our annual Holiday Drive & Daughters Connect initiative \nThe holiday season can feel different when someone we love is no longer here. This gathering is a gentle space to reflect\, breathe\, honor our loved ones\, and be supported by community. There is no program to perform\, no expectation to speak — simply a place to come as you are. \nThis gathering is open to anyone experiencing grief\, whether your loss is recent or from years past. You are welcome to sit quietly\, connect with others\, or simply receive the warmth of shared presence. \nSpecial Recognition \nAs part of our Daughters Connect tradition\, we will hold a tender moment to honor daughters who have lost their fathers in 2025. Each daughter will receive a special gift and acknowledgment of her journey through this first season of “different.” \nIf you know a daughter who has lost her father this year\, you may nominate her to receive a gift here: Click here to nominate for a free gift \nWhat to Expect \n\nA calm and supportive environment\nSoft music and grounding reflection\nSpace to share (optional)\nLight refreshments\nA moment of collective remembrance\nSpecial acknowledgment for daughters who have experienced father loss this year\n\nThis is not a holiday party. \nIt is a space to be held\, seen\, and supported. \nFree to attend. \nRSVP required so we can prepare with care and gifts. \nWe honor your presence. \nWe honor your story. \nWe honor the love that continues.
URL:https://lbmoms.com/event/honoring-love-holding-loss-a-holiday-grief-gathering/
LOCATION:4401 Atlantic Avenue\, 4401 Atlantic Avenue\, Long Beach\, CA\, 90807\, United States
CATEGORIES:Free Events
ATTACH;FMTTYPE=image/jpeg:https://lbmoms.com/wp-content/uploads/2025/12/Grief.jpeg
END:VEVENT
END:VCALENDAR