BEGIN:VCALENDAR
VERSION:2.0
PRODID:-//Long Beach Moms - ECPv6.15.20//NONSGML v1.0//EN
CALSCALE:GREGORIAN
METHOD:PUBLISH
X-ORIGINAL-URL:https://lbmoms.com
X-WR-CALDESC:Events for Long Beach Moms
REFRESH-INTERVAL;VALUE=DURATION:PT1H
X-Robots-Tag:noindex
X-PUBLISHED-TTL:PT1H
BEGIN:VTIMEZONE
TZID:America/Los_Angeles
BEGIN:DAYLIGHT
TZOFFSETFROM:-0800
TZOFFSETTO:-0700
TZNAME:PDT
DTSTART:20240310T100000
END:DAYLIGHT
BEGIN:STANDARD
TZOFFSETFROM:-0700
TZOFFSETTO:-0800
TZNAME:PST
DTSTART:20241103T090000
END:STANDARD
BEGIN:DAYLIGHT
TZOFFSETFROM:-0800
TZOFFSETTO:-0700
TZNAME:PDT
DTSTART:20250309T100000
END:DAYLIGHT
BEGIN:STANDARD
TZOFFSETFROM:-0700
TZOFFSETTO:-0800
TZNAME:PST
DTSTART:20251102T090000
END:STANDARD
BEGIN:DAYLIGHT
TZOFFSETFROM:-0800
TZOFFSETTO:-0700
TZNAME:PDT
DTSTART:20260308T100000
END:DAYLIGHT
BEGIN:STANDARD
TZOFFSETFROM:-0700
TZOFFSETTO:-0800
TZNAME:PST
DTSTART:20261101T090000
END:STANDARD
END:VTIMEZONE
BEGIN:VEVENT
DTSTART;VALUE=DATE:20251220
DTEND;VALUE=DATE:20251225
DTSTAMP:20260421T145210
CREATED:20251218T215816Z
LAST-MODIFIED:20251218T215816Z
UID:18982-1766188800-1766620799@lbmoms.com
SUMMARY:COASTAL SNOWFALL AT 2ND & PCH
DESCRIPTION:Get ready to experience a winter wonderland in the heart of the city with COASTAL SNOWFALL AT 2ND & PCH!\n\n\n\nThe Coastal Snowfall Experience Returns to 2ND & PCH! \nLet it snow—coastal style! ❄️✨ \nFollowing Santa’s grand arrival and our beloved Annual Tree Lighting Celebration\, The Coastal Snowfall Experience returns to bring a touch of winter magic to the California coast. Beginning Saturday\, November 22\, through Tuesday\, December 24\, guests can enjoy the wonder of snowfall every Saturday and Monday evening from 5:00 PM to 8:00 PM\, with flurries cascading every hour on the hour for 15–20 minutes. \nThe Coastal Snowfall will occur daily from Saturday\, December 20th\, through Wednesday\, December 24th. \nStep into the magic of the holidays as snow gently falls over Seaport Way\, surrounded by sparkling lights\, festive music\, and the marina’s coastal glow. Bring your friends\, family\, and loved ones to capture enchanting moments beneath the snow\, perfect for holiday photos and creating memories that last a lifetime. \nAfter each snowfall\, stay and enjoy everything 2ND & PCH has to offer — from cozy cafés and waterfront dining to boutique shopping and family-friendly fun. Whether you’re beginning a new holiday tradition or continuing a cherished one\, The Coastal Snowfall Experience is a must-see seasonal favorite. \n🎄 The magic continues all season long at 2ND & PCH. For the full holiday schedule and event details\, visit 2ndandpch.com/holiday. \n*** This event is free and open to the public. This event is weather permitting; if rain is forecasted\, the snow experience will be cancelled.
URL:https://lbmoms.com/event/coastal-snowfall-at-2nd-pch/
LOCATION:6400 Pacific Coast Highway\, 6400 Pacific Coast Highway\, Long Beach\, CA\, 90803\, United States
CATEGORIES:Free Events
ATTACH;FMTTYPE=image/png:https://lbmoms.com/wp-content/uploads/2025/12/Newsletter-Event-Graphics-20.png
END:VEVENT
BEGIN:VEVENT
DTSTART;TZID=America/Los_Angeles:20251224T080000
DTEND;TZID=America/Los_Angeles:20251224T170000
DTSTAMP:20260421T145210
CREATED:20251224T220804Z
LAST-MODIFIED:20251224T220804Z
UID:19029-1766563200-1766595600@lbmoms.com
SUMMARY:Noon Year’s Eve Party: Family Disco @ Brewitt
DESCRIPTION:Can’t stay up until midnight? Celebrate the New Year at noon!  There will be a fun craft and dancing- Including a dance lesson by professional dance instructor Ms. Jeanette. Put on your disco attire and come boogie down with us! Families welcomed. \n*REGISTRATION REQUIRED* \n\n\n\n\nLocation\nBrewitt Neighborhood Library\, 4036 E. Anaheim St. 90804\n\n\nLibrary Location\nBrewitt\n\n\nEvent Type\nArts and Crafts\, Entertainment\n\n\nAudience\nAll Ages\n\n\nContact Name\nLibrarian\n\n\nContact Phone\n562-570-1040\n\n\nDepartment\nLong Beach Public Library\n\n\nLanguage Access\nTo request this information in an alternative format or to request a reasonable accommodation\, please contact the listed email or phone number.
URL:https://lbmoms.com/event/noon-years-eve-party-family-disco-brewitt/
LOCATION:4036 E. Anaheim St.\, 4036 E. Anaheim St.\, Long Beach\, CA\, 90804\, United States
CATEGORIES:Free Events
ATTACH;FMTTYPE=image/png:https://lbmoms.com/wp-content/uploads/2025/12/Newsletter-Event-Graphics-21.png
END:VEVENT
BEGIN:VEVENT
DTSTART;TZID=America/Los_Angeles:20251224T150000
DTEND;TZID=America/Los_Angeles:20251224T190000
DTSTAMP:20260421T145210
CREATED:20231025T055643Z
LAST-MODIFIED:20231025T055643Z
UID:14334-1766588400-1766602800@lbmoms.com
SUMMARY:Local Harvest Farmers Market
DESCRIPTION:This traditional farmers market favorite occurs from 3-7 p.m.\, at Marine Stadium (5255 Paoli Way). Farm fresh\, California-grown fruits and vegetables are a staple as are stunning selections of fresh cut flowers. As the Marine Stadium market has evolved\, so has the selection of artisanal items\, ranging from bread to honey to vinegar as has the selection of gourmet specialty foods and coffee. Located by the water of historic Marine Stadium\, which hosted the rowing events of the 1932 Olympics\, it makes for a wonderful afternoon/evening out\, whether shopping for food\, jewelry or something to eat right away while you groove to live music.
URL:https://lbmoms.com/event/local-harvest-farmers-market-2025-12-24/
LOCATION:Marine Stadium\, 5255 E Paoli Way\, Long Beach\, CA\, 90803\, United States
CATEGORIES:City of Long Beach,Events,Free Events
ATTACH;FMTTYPE=image/png:https://lbmoms.com/wp-content/uploads/2023/10/Local-Harvest.png
END:VEVENT
END:VCALENDAR