BEGIN:VCALENDAR
VERSION:2.0
PRODID:-//Long Beach Moms - ECPv6.15.20//NONSGML v1.0//EN
CALSCALE:GREGORIAN
METHOD:PUBLISH
X-ORIGINAL-URL:https://lbmoms.com
X-WR-CALDESC:Events for Long Beach Moms
REFRESH-INTERVAL;VALUE=DURATION:PT1H
X-Robots-Tag:noindex
X-PUBLISHED-TTL:PT1H
BEGIN:VTIMEZONE
TZID:America/Los_Angeles
BEGIN:DAYLIGHT
TZOFFSETFROM:-0800
TZOFFSETTO:-0700
TZNAME:PDT
DTSTART:20240310T100000
END:DAYLIGHT
BEGIN:STANDARD
TZOFFSETFROM:-0700
TZOFFSETTO:-0800
TZNAME:PST
DTSTART:20241103T090000
END:STANDARD
BEGIN:DAYLIGHT
TZOFFSETFROM:-0800
TZOFFSETTO:-0700
TZNAME:PDT
DTSTART:20250309T100000
END:DAYLIGHT
BEGIN:STANDARD
TZOFFSETFROM:-0700
TZOFFSETTO:-0800
TZNAME:PST
DTSTART:20251102T090000
END:STANDARD
BEGIN:DAYLIGHT
TZOFFSETFROM:-0800
TZOFFSETTO:-0700
TZNAME:PDT
DTSTART:20260308T100000
END:DAYLIGHT
BEGIN:STANDARD
TZOFFSETFROM:-0700
TZOFFSETTO:-0800
TZNAME:PST
DTSTART:20261101T090000
END:STANDARD
BEGIN:DAYLIGHT
TZOFFSETFROM:-0800
TZOFFSETTO:-0700
TZNAME:PDT
DTSTART:20270314T100000
END:DAYLIGHT
BEGIN:STANDARD
TZOFFSETFROM:-0700
TZOFFSETTO:-0800
TZNAME:PST
DTSTART:20271107T090000
END:STANDARD
END:VTIMEZONE
BEGIN:VEVENT
DTSTART;TZID=America/Los_Angeles:20251231T190000
DTEND;TZID=America/Los_Angeles:20251231T190000
DTSTAMP:20260421T163631
CREATED:20251224T220016Z
LAST-MODIFIED:20251224T220016Z
UID:19026-1767207600-1767207600@lbmoms.com
SUMMARY:New Year's Eve at Shoreline Village
DESCRIPTION:Ring in the New Year with an unforgettable night at Shoreline Village. This FREE event features a DJ and one of the best fireworks shows in Southern California! \nSchedule of Events:\n-8:30pm-12:30am DJ Rome playing the best dance music!\n-9:00pm-12:00am self-serve photo booth (near Louisiana Charlies.\n-12:00am FIREWORKS SHOW (near the Queen Mary) \nEnjoy drink specials and additional live music at Shoreline Village’s bars and restaurants. \nPARKING INFO\nShoreline Village parking WILL SELL OUT for this event (401-435 Shoreline Village Dr.\, Long Beach\, CA 90802). It is STRONGLY recommended to use an alternative source of transportation other than driving. \nCheck on parking in either of the lots listed below: (note their closure times BEFORE parking)\n• Aquarium Parking/Queensway Bay Garage\, 99 Aquarium Way\, Long Beach\, CA 90802\n◦ Self-Park\nor\n• Pike Parking Garage\, 65 South Cedar Ave\, Long Beach\, CA 90802\n◦ Self-Park\nor\n• Pine Avenue Parking Garage 51 East 3rd Street (located in the City Place Shopping Center)\n◦ Self-Park \n-We are near the Blue line train.\n– A ride sharing service should strongly be considered. \n*Please note driving in the area anytime just before\, during\, and just after the fireworks will be VERY DIFFICULT. We once again stress to use an alternative source of transportation and NOT DRIVE. \nThis event will have loud music and sounds. Please consider this before bringing infants or pets (not recommended).
URL:https://lbmoms.com/event/new-years-eve-at-shoreline-village/
LOCATION:401-435 Shoreline Village Dr\, 401-435 Shoreline Village Dr\, Long Beach\, CA\, 90802\, United States
CATEGORIES:Free Events
ATTACH;FMTTYPE=image/jpeg:https://lbmoms.com/wp-content/uploads/2025/12/Shoreline.jpg
END:VEVENT
BEGIN:VEVENT
DTSTART;TZID=America/Los_Angeles:20260107T150000
DTEND;TZID=America/Los_Angeles:20260107T190000
DTSTAMP:20260421T163631
CREATED:20231025T055643Z
LAST-MODIFIED:20231025T055643Z
UID:14394-1767798000-1767812400@lbmoms.com
SUMMARY:Local Harvest Farmers Market
DESCRIPTION:This traditional farmers market favorite occurs from 3-7 p.m.\, at Marine Stadium (5255 Paoli Way). Farm fresh\, California-grown fruits and vegetables are a staple as are stunning selections of fresh cut flowers. As the Marine Stadium market has evolved\, so has the selection of artisanal items\, ranging from bread to honey to vinegar as has the selection of gourmet specialty foods and coffee. Located by the water of historic Marine Stadium\, which hosted the rowing events of the 1932 Olympics\, it makes for a wonderful afternoon/evening out\, whether shopping for food\, jewelry or something to eat right away while you groove to live music.
URL:https://lbmoms.com/event/local-harvest-farmers-market-2026-01-07/
LOCATION:Marine Stadium\, 5255 E Paoli Way\, Long Beach\, CA\, 90803\, United States
CATEGORIES:City of Long Beach,Events,Free Events
ATTACH;FMTTYPE=image/png:https://lbmoms.com/wp-content/uploads/2023/10/Local-Harvest.png
END:VEVENT
BEGIN:VEVENT
DTSTART;TZID=America/Los_Angeles:20260114T090000
DTEND;TZID=America/Los_Angeles:20260114T100000
DTSTAMP:20260421T163631
CREATED:20251231T061328Z
LAST-MODIFIED:20251231T061345Z
UID:19058-1768381200-1768384800@lbmoms.com
SUMMARY:Long Beach Moms on the Go Coffee Chat
DESCRIPTION:New year. Fresh conversations. Real connection. \n\nJoin us for a casual mom meetup at Caffe Luxxe (2nd + PCH)\n\n Wednesday\, January 14th 9:00 AM\n\nLet’s grab a cup of coffee or tea and slow things down for a moment. This is an easy\, welcoming space to mingle with other moms in your area who are navigating motherhood in real time—no filters\, no pressure.\nWhether you’re feeling energized\, overwhelmed\, curious\, or somewhere in between\, you’re welcome here. We’ll chat about motherhood in all of its glory—the messy\, the meaningful\, and everything in between.\n\n What to expect:• A nurturing\, come-as-you-are environment • Honest\, relatable conversation • A chance to build real community\, one cup at a time\nNo agenda. No expectations. Just moms meeting moms.We’d love to see you.
URL:https://lbmoms.com/event/long-beach-moms-on-the-go-coffee-chat/
LOCATION:Caffee Luxxe\, 6420 E Pacifc Coast Highway\, Long Beach\, 90803\, United States
CATEGORIES:Events,Free Events,Motherhood Connection
ATTACH;FMTTYPE=image/png:https://lbmoms.com/wp-content/uploads/2025/12/Screenshot-2025-12-29-at-1.32.29-PM.png
END:VEVENT
BEGIN:VEVENT
DTSTART;TZID=America/Los_Angeles:20260114T150000
DTEND;TZID=America/Los_Angeles:20260114T190000
DTSTAMP:20260421T163631
CREATED:20231025T055643Z
LAST-MODIFIED:20231025T055643Z
UID:14427-1768402800-1768417200@lbmoms.com
SUMMARY:Local Harvest Farmers Market
DESCRIPTION:This traditional farmers market favorite occurs from 3-7 p.m.\, at Marine Stadium (5255 Paoli Way). Farm fresh\, California-grown fruits and vegetables are a staple as are stunning selections of fresh cut flowers. As the Marine Stadium market has evolved\, so has the selection of artisanal items\, ranging from bread to honey to vinegar as has the selection of gourmet specialty foods and coffee. Located by the water of historic Marine Stadium\, which hosted the rowing events of the 1932 Olympics\, it makes for a wonderful afternoon/evening out\, whether shopping for food\, jewelry or something to eat right away while you groove to live music.
URL:https://lbmoms.com/event/local-harvest-farmers-market-2026-01-14/
LOCATION:Marine Stadium\, 5255 E Paoli Way\, Long Beach\, CA\, 90803\, United States
CATEGORIES:City of Long Beach,Events,Free Events
ATTACH;FMTTYPE=image/png:https://lbmoms.com/wp-content/uploads/2023/10/Local-Harvest.png
END:VEVENT
BEGIN:VEVENT
DTSTART;TZID=America/Los_Angeles:20260121T150000
DTEND;TZID=America/Los_Angeles:20260121T190000
DTSTAMP:20260421T163631
CREATED:20231025T055643Z
LAST-MODIFIED:20231025T055643Z
UID:14457-1769007600-1769022000@lbmoms.com
SUMMARY:Local Harvest Farmers Market
DESCRIPTION:This traditional farmers market favorite occurs from 3-7 p.m.\, at Marine Stadium (5255 Paoli Way). Farm fresh\, California-grown fruits and vegetables are a staple as are stunning selections of fresh cut flowers. As the Marine Stadium market has evolved\, so has the selection of artisanal items\, ranging from bread to honey to vinegar as has the selection of gourmet specialty foods and coffee. Located by the water of historic Marine Stadium\, which hosted the rowing events of the 1932 Olympics\, it makes for a wonderful afternoon/evening out\, whether shopping for food\, jewelry or something to eat right away while you groove to live music.
URL:https://lbmoms.com/event/local-harvest-farmers-market-2026-01-21/
LOCATION:Marine Stadium\, 5255 E Paoli Way\, Long Beach\, CA\, 90803\, United States
CATEGORIES:City of Long Beach,Events,Free Events
ATTACH;FMTTYPE=image/png:https://lbmoms.com/wp-content/uploads/2023/10/Local-Harvest.png
END:VEVENT
BEGIN:VEVENT
DTSTART;TZID=America/Los_Angeles:20260123T090000
DTEND;TZID=America/Los_Angeles:20260123T100000
DTSTAMP:20260421T163631
CREATED:20260114T223957Z
LAST-MODIFIED:20260115T182327Z
UID:19188-1769158800-1769162400@lbmoms.com
SUMMARY:Long Beach Moms on the Go: Granada Beach Walk
DESCRIPTION:Moms on the Go: Granada Beach Walk\nNew year. Fresh conversations. Real connection. 💛 \nJoin us for a casual mom meetup at Granada Beach\, where we’ll meet\, mingle\, and take an easy walk to the pier and back—no rush\, no pressure. \nThis is a come-as-you-are beach walk\, perfect for moms who want connection while getting some fresh air. Bring your babes along in strollers\, on bikes\, or in a beach wagon. Older kids welcome too. \n📍 Location: Granada Beach\, Long Beach🚗 Parking: Free off-street parking nearby📅 Date: Friday\, January 23rd⏰ Meet: 9:00 AM at the parking lot by Monty’s Dog Beach and Bar 🚶‍♀️ Walk begins promptly at: 9:10 AM\, and so catch up with us if we are not at the meeting spot \nWe’ll start together\, walk at an easy pace\, and let conversations flow naturally along the way. Whether you’re feeling energized\, overwhelmed\, curious\, or somewhere in between—you belong here. \n✨ What to expect: \n\n\nA relaxed\, welcoming environment \n\n\nCasual conversation while walking \n\n\nReal connection with local moms \n\n\nFresh air\, movement\, and community \n\n\nNo agenda. No expectations.Just moms meeting moms—by the ocean. 🤍 \nWe’d love to walk with you.
URL:https://lbmoms.com/event/long-beach-moms-on-the-go-granada-beach-walk/
CATEGORIES:Free Events,Newborns,Playdate,Self Care + Wellness
ATTACH;FMTTYPE=image/png:https://lbmoms.com/wp-content/uploads/2026/01/TMC-Event-Template.png
END:VEVENT
BEGIN:VEVENT
DTSTART;TZID=America/Los_Angeles:20260128T090000
DTEND;TZID=America/Los_Angeles:20260128T100000
DTSTAMP:20260421T163631
CREATED:20260115T054749Z
LAST-MODIFIED:20260115T054749Z
UID:19199-1769590800-1769594400@lbmoms.com
SUMMARY:Long Beach Moms on the Go Coffee Chat @Caffe Luxe
DESCRIPTION:New year. Fresh conversations. Real connection. \n\nJoin us for a casual mom meetup at Caffe Luxxe (2nd + PCH)\n\n Wednesday\, January 28h 9:00 AM\n\nLet’s grab a cup of coffee or tea and slow things down for a moment. This is an easy\, welcoming space to mingle with other moms in your area who are navigating motherhood in real time—no filters\, no pressure.\nWhether you’re feeling energized\, overwhelmed\, curious\, or somewhere in between\, you’re welcome here. We’ll chat about motherhood in all of its glory—the messy\, the meaningful\, and everything in between.\n\n What to expect:• A nurturing\, come-as-you-are environment • Honest\, relatable conversation • A chance to build real community\, one cup at a time\nNo agenda. No expectations. Just moms meeting moms.We’d love to see you.
URL:https://lbmoms.com/event/long-beach-moms-on-the-go-coffee-chat-caffe-luxe/
LOCATION:Caffee Luxxe\, 6420 E Pacifc Coast Highway\, Long Beach\, 90803\, United States
CATEGORIES:Events,Free Events,Newborns,Parenting,Playdate,Self Care + Wellness
ATTACH;FMTTYPE=image/png:https://lbmoms.com/wp-content/uploads/2026/01/TMC-Event-Template-1920-x-1080-px.png
END:VEVENT
BEGIN:VEVENT
DTSTART;TZID=America/Los_Angeles:20260206T090000
DTEND;TZID=America/Los_Angeles:20260206T093000
DTSTAMP:20260421T163631
CREATED:20260129T044523Z
LAST-MODIFIED:20260129T044523Z
UID:19269-1770368400-1770370200@lbmoms.com
SUMMARY:Long Beach Moms on the Go Stroll: Alamitos Bay - Meet @Caffe Luxxe
DESCRIPTION:Moms on the Go: Alamitos Bay Stroll\nNew year. Fresh conversations. Real connection.  \nJoin us for a casual mom meetup at Caffe Luxxe\, where we’ll meet\, mingle\, and take an easy walk to the jetty  and back—no rush\, no pressure.  We may walk as far as the Seal Beach Pier or we will hang at the Jetty Park at the Seal Beach side. \nThis is a come-as-you-are beach stroll\, perfect for moms who want connection while getting some fresh air. Bring your babes along in strollers\, or in a beach wagon. Older kids welcome too.  Grab some water\, a hat and sunscreen. \n Location: Caffe Luxxe\, Long Beach  Parking: Free off-street parking/open lot Date: Friday\, February 6th Meet: 9:00 AM at Caffe Luxxe\, so we can grab our coffee and treats Walk begins promptly at: 9:30 AM\, and so catch up with us if we are not at the meeting spot (see map) \nWe will stroll for about 30 minutes each way\, and take a break once we get to the jetty park (above The Beach House). \nWe’ll start together\, walk at an easy pace\, and let conversations flow naturally along the way. Whether you’re feeling energized\, overwhelmed\, curious\, or somewhere in between—you belong here. \n What to expect: \n\n\nA relaxed\, welcoming environment \n\n\nCasual conversation while walking \n\n\nReal connection with local moms \n\n\nFresh air\, movement\, and community \n\n\nNo agenda. No expectations.Just moms meeting moms—by the ocean.  \nWe’d love to walk with you.
URL:https://lbmoms.com/event/long-beach-moms-on-the-go-stroll-alamitos-bay-meet-caffe-luxxe/
LOCATION:Caffee Luxxe\, 6420 E Pacifc Coast Highway\, Long Beach\, 90803\, United States
CATEGORIES:Events,Free Events,Newborns,Playdate,Self Care + Wellness
ATTACH;FMTTYPE=image/png:https://lbmoms.com/wp-content/uploads/2026/01/20260206-Long-Beach-Moms-on-the-Go-Stroll-@-Caffe-Luxxe.png
END:VEVENT
END:VCALENDAR