BEGIN:VCALENDAR
VERSION:2.0
PRODID:-//Long Beach Moms - ECPv6.15.20//NONSGML v1.0//EN
CALSCALE:GREGORIAN
METHOD:PUBLISH
X-WR-CALNAME:Long Beach Moms
X-ORIGINAL-URL:https://lbmoms.com
X-WR-CALDESC:Events for Long Beach Moms
REFRESH-INTERVAL;VALUE=DURATION:PT1H
X-Robots-Tag:noindex
X-PUBLISHED-TTL:PT1H
BEGIN:VTIMEZONE
TZID:America/Los_Angeles
BEGIN:DAYLIGHT
TZOFFSETFROM:-0800
TZOFFSETTO:-0700
TZNAME:PDT
DTSTART:20200308T100000
END:DAYLIGHT
BEGIN:STANDARD
TZOFFSETFROM:-0700
TZOFFSETTO:-0800
TZNAME:PST
DTSTART:20201101T090000
END:STANDARD
BEGIN:DAYLIGHT
TZOFFSETFROM:-0800
TZOFFSETTO:-0700
TZNAME:PDT
DTSTART:20210314T100000
END:DAYLIGHT
BEGIN:STANDARD
TZOFFSETFROM:-0700
TZOFFSETTO:-0800
TZNAME:PST
DTSTART:20211107T090000
END:STANDARD
BEGIN:DAYLIGHT
TZOFFSETFROM:-0800
TZOFFSETTO:-0700
TZNAME:PDT
DTSTART:20220313T100000
END:DAYLIGHT
BEGIN:STANDARD
TZOFFSETFROM:-0700
TZOFFSETTO:-0800
TZNAME:PST
DTSTART:20221106T090000
END:STANDARD
BEGIN:DAYLIGHT
TZOFFSETFROM:-0800
TZOFFSETTO:-0700
TZNAME:PDT
DTSTART:20230312T100000
END:DAYLIGHT
BEGIN:STANDARD
TZOFFSETFROM:-0700
TZOFFSETTO:-0800
TZNAME:PST
DTSTART:20231105T090000
END:STANDARD
BEGIN:DAYLIGHT
TZOFFSETFROM:-0800
TZOFFSETTO:-0700
TZNAME:PDT
DTSTART:20240310T100000
END:DAYLIGHT
BEGIN:STANDARD
TZOFFSETFROM:-0700
TZOFFSETTO:-0800
TZNAME:PST
DTSTART:20241103T090000
END:STANDARD
BEGIN:DAYLIGHT
TZOFFSETFROM:-0800
TZOFFSETTO:-0700
TZNAME:PDT
DTSTART:20250309T100000
END:DAYLIGHT
BEGIN:STANDARD
TZOFFSETFROM:-0700
TZOFFSETTO:-0800
TZNAME:PST
DTSTART:20251102T090000
END:STANDARD
END:VTIMEZONE
BEGIN:VEVENT
DTSTART;TZID=America/Los_Angeles:20240212T120000
DTEND;TZID=America/Los_Angeles:20240212T130000
DTSTAMP:20260421T041913
CREATED:20240201T055127Z
LAST-MODIFIED:20240201T055127Z
UID:14517-1707739200-1707742800@lbmoms.com
SUMMARY:MemorialCare Ribbon-Cutting Ceremony
DESCRIPTION:Where: 4447 Candlewood Street Lakewood\, CA 90712 \nWhen: Monday\, February 12th \nItinerary: \nNoon Welcome \n12:05PM Ribbon-Cutting & Opening Comments \n12:20PM Light Lunch & Tour of New Facility \nMemorialCare Medical Group is expanding its primary care presence and would like to invite you to a special ribbon-cutting ceremony to celebrate the opening of its newest location in Lakewood. \nMemorialCare Medical Group is expanding access to primary care in the Lakewood community. This new health center will offer both pediatric and family medicine care along with
URL:https://lbmoms.com/event/memorialcare-ribbon-cutting-ceremony/
LOCATION:MemorialCare Lakewood\, 4447 Candlewood Street\, Lakewood\, CA\, 90712\, United States
CATEGORIES:Events,Free Events,Grand Opening
ATTACH;FMTTYPE=image/png:https://lbmoms.com/wp-content/uploads/2024/01/SCP-Reminder-Post-131-1.png
END:VEVENT
BEGIN:VEVENT
DTSTART;TZID=America/Los_Angeles:20220129T100000
DTEND;TZID=America/Los_Angeles:20220129T120000
DTSTAMP:20260421T041913
CREATED:20220125T164412Z
LAST-MODIFIED:20220125T164412Z
UID:9242-1643450400-1643457600@lbmoms.com
SUMMARY:Fresh Education Grand Opening
DESCRIPTION:
URL:https://lbmoms.com/event/fresh-education-grand-opening/
CATEGORIES:Free Events,Grand Opening
ATTACH;FMTTYPE=image/jpeg:https://lbmoms.com/wp-content/uploads/2022/01/Grand-Opening-1.29.jpeg
END:VEVENT
BEGIN:VEVENT
DTSTART;VALUE=DATE:20210828
DTEND;VALUE=DATE:20210829
DTSTAMP:20260421T041913
CREATED:20210730T183519Z
LAST-MODIFIED:20210730T183611Z
UID:8456-1630108800-1630195199@lbmoms.com
SUMMARY:Scholars Collective Tech Lab Grand Opening!
DESCRIPTION:Scholars Collective is hosting their Grand Opening Event for their new Long Beach Tech Lab on August 28\, 2021. Downtown Long Beach Alliance will be there for a Ribbon Cutting Ceremony as well! \n  \nLocation + Time TBA.
URL:https://lbmoms.com/event/scholars-collective-tech-lab-grand-opening/
CATEGORIES:Grand Opening,Scholars Collective,STEM Events
ATTACH;FMTTYPE=image/png:https://lbmoms.com/wp-content/uploads/2021/07/Copy-of-Copy-of-Copy-of-CITY-OF-LONG-BEACH-PRESENTS-MOVIES-IN-THE-PARK-2.png
END:VEVENT
END:VCALENDAR