BEGIN:VCALENDAR
VERSION:2.0
PRODID:-//Long Beach Moms - ECPv6.15.20//NONSGML v1.0//EN
CALSCALE:GREGORIAN
METHOD:PUBLISH
X-ORIGINAL-URL:https://lbmoms.com
X-WR-CALDESC:Events for Long Beach Moms
REFRESH-INTERVAL;VALUE=DURATION:PT1H
X-Robots-Tag:noindex
X-PUBLISHED-TTL:PT1H
BEGIN:VTIMEZONE
TZID:America/Los_Angeles
BEGIN:DAYLIGHT
TZOFFSETFROM:-0800
TZOFFSETTO:-0700
TZNAME:PDT
DTSTART:20200308T100000
END:DAYLIGHT
BEGIN:STANDARD
TZOFFSETFROM:-0700
TZOFFSETTO:-0800
TZNAME:PST
DTSTART:20201101T090000
END:STANDARD
BEGIN:DAYLIGHT
TZOFFSETFROM:-0800
TZOFFSETTO:-0700
TZNAME:PDT
DTSTART:20210314T100000
END:DAYLIGHT
BEGIN:STANDARD
TZOFFSETFROM:-0700
TZOFFSETTO:-0800
TZNAME:PST
DTSTART:20211107T090000
END:STANDARD
BEGIN:DAYLIGHT
TZOFFSETFROM:-0800
TZOFFSETTO:-0700
TZNAME:PDT
DTSTART:20220313T100000
END:DAYLIGHT
BEGIN:STANDARD
TZOFFSETFROM:-0700
TZOFFSETTO:-0800
TZNAME:PST
DTSTART:20221106T090000
END:STANDARD
BEGIN:DAYLIGHT
TZOFFSETFROM:-0800
TZOFFSETTO:-0700
TZNAME:PDT
DTSTART:20230312T100000
END:DAYLIGHT
BEGIN:STANDARD
TZOFFSETFROM:-0700
TZOFFSETTO:-0800
TZNAME:PST
DTSTART:20231105T090000
END:STANDARD
BEGIN:DAYLIGHT
TZOFFSETFROM:-0800
TZOFFSETTO:-0700
TZNAME:PDT
DTSTART:20240310T100000
END:DAYLIGHT
BEGIN:STANDARD
TZOFFSETFROM:-0700
TZOFFSETTO:-0800
TZNAME:PST
DTSTART:20241103T090000
END:STANDARD
BEGIN:DAYLIGHT
TZOFFSETFROM:-0800
TZOFFSETTO:-0700
TZNAME:PDT
DTSTART:20250309T100000
END:DAYLIGHT
BEGIN:STANDARD
TZOFFSETFROM:-0700
TZOFFSETTO:-0800
TZNAME:PST
DTSTART:20251102T090000
END:STANDARD
END:VTIMEZONE
BEGIN:VEVENT
DTSTART;TZID=America/Los_Angeles:20240405T090000
DTEND;TZID=America/Los_Angeles:20240405T140000
DTSTAMP:20260423T153734
CREATED:20240321T214148Z
LAST-MODIFIED:20240321T214148Z
UID:14726-1712307600-1712325600@lbmoms.com
SUMMARY:Long Beach Unified School District Job Fair
DESCRIPTION:Join us for the LONG BEACH UNIFIED SCHOOL DISTRICT JOB FAIR happening in person at the Long Beach School for Adults\, 3701 E Willow St\, Long Beach\, CA 90815. This is your chance to connect with our team from the school district and explore exciting job opportunities in education. \nWhether you’re experienced\, looking for a change\, or a fresh graduate ready to embark on your non-teaching job journey\, this job fair is the perfect platform to showcase your talents and find your dream job. Don’t miss out on this fantastic opportunity to network\, learn about the district’s culture\, and discover the various positions available. \nWe are eager to discuss job openings\, answer your questions\, and provide valuable insights into the application process. This event is your chance to shine and take the first step towards a fulfilling job and career with the school district. We can’t wait to see you at the Job Fair!
URL:https://lbmoms.com/event/long-beach-unified-school-district-job-fair/
LOCATION:Long Beach School For Adults\, 3701 E Willow St\, Long Beach\, CA\, 90815\, United States
CATEGORIES:City of Long Beach,Events,Free Events,Job Fair
ATTACH;FMTTYPE=image/png:https://lbmoms.com/wp-content/uploads/2024/03/Copy-of-IG-FEED-VIEW-Long-Beach-Moms-Blog.png
END:VEVENT
BEGIN:VEVENT
DTSTART;TZID=America/Los_Angeles:20220917T083000
DTEND;TZID=America/Los_Angeles:20220917T150000
DTSTAMP:20260423T153734
CREATED:20220908T171832Z
LAST-MODIFIED:20220908T171832Z
UID:11327-1663403400-1663426800@lbmoms.com
SUMMARY:Reimagine Youth Reentry Conference
DESCRIPTION:About this event\n\n\n\nConnect with Work & Educational Opportunities for Foster Youth\, Formerly Incarcerated Youth\, & Young Adults \nWorkshops on Jobs & College opportunities: \n\nMotivational Speakers\nResource Fair\nEntertainment\nBreakfast & Lunch\nSpecial Guest\n\nEmail info@c-youth.org for questions or more info or register here.
URL:https://lbmoms.com/event/reimagine-youth-reentry-conference/
LOCATION:California State University Long Beach\, 1250 Bellflower Blvd\, Long Beach\, 90840\, United States
CATEGORIES:City of Long Beach,Free Events,Job Fair,Scholars Collective,Teen Events
ATTACH;FMTTYPE=image/webp:https://lbmoms.com/wp-content/uploads/2022/09/Reimagine-Youth-Conference.webp
END:VEVENT
BEGIN:VEVENT
DTSTART;TZID=America/Los_Angeles:20210908T100000
DTEND;TZID=America/Los_Angeles:20210908T140000
DTSTAMP:20260423T153734
CREATED:20210826T160823Z
LAST-MODIFIED:20210826T160823Z
UID:8579-1631095200-1631109600@lbmoms.com
SUMMARY:2nd & PCH Hiring Fair
DESCRIPTION:Join 2ND & PCH for an outdoor hiring fair on Wednesday\, September 8\, 2021 10:00 am – 2:00 pm. \nParticipating businesses will be positioned outside their businesses and/or along Seaport Way. \nMeet a variety of employers at 2ND & PCH. Employers will be seeking part-time and full-time positions. \nCome dressed for success and have your resume ready! Businesses may interview and hire on the spot. \nFor any questions please call (424) 217-2337 Monday through Friday between the hours of 8:30 am – 5:00 pm. \nConfirmed participating businesses include: \n\nAmple Hills Creamery\nAnthropologie\nAthleta\nBoba Guys\nBOXHAUS\nChase Bank\nLinne’s Boutique\nNoble Bird Rotisserie\nSephora\nThe Bungalow Kitchen\nTSG Wealth Management\nWarby Parker\nWhole Foods Market\n\nThird-party behind the scenes employers include: \n\nLAZ (parking operations)\nMerchants (housekeeping)\nPSC (security)
URL:https://lbmoms.com/event/2nd-pch-hiring-fair/
LOCATION:2nd & PCH\, 6400 Pacific Coast Hwy\, Long Beach\, CA\, 90803\, United States
CATEGORIES:Job Fair
ATTACH;FMTTYPE=image/png:https://lbmoms.com/wp-content/uploads/2021/08/Hiring.png
END:VEVENT
END:VCALENDAR