BEGIN:VCALENDAR
VERSION:2.0
PRODID:-//Long Beach Moms - ECPv6.15.20//NONSGML v1.0//EN
CALSCALE:GREGORIAN
METHOD:PUBLISH
X-WR-CALNAME:Long Beach Moms
X-ORIGINAL-URL:https://lbmoms.com
X-WR-CALDESC:Events for Long Beach Moms
REFRESH-INTERVAL;VALUE=DURATION:PT1H
X-Robots-Tag:noindex
X-PUBLISHED-TTL:PT1H
BEGIN:VTIMEZONE
TZID:America/Los_Angeles
BEGIN:DAYLIGHT
TZOFFSETFROM:-0800
TZOFFSETTO:-0700
TZNAME:PDT
DTSTART:20240310T100000
END:DAYLIGHT
BEGIN:STANDARD
TZOFFSETFROM:-0700
TZOFFSETTO:-0800
TZNAME:PST
DTSTART:20241103T090000
END:STANDARD
BEGIN:DAYLIGHT
TZOFFSETFROM:-0800
TZOFFSETTO:-0700
TZNAME:PDT
DTSTART:20250309T100000
END:DAYLIGHT
BEGIN:STANDARD
TZOFFSETFROM:-0700
TZOFFSETTO:-0800
TZNAME:PST
DTSTART:20251102T090000
END:STANDARD
BEGIN:DAYLIGHT
TZOFFSETFROM:-0800
TZOFFSETTO:-0700
TZNAME:PDT
DTSTART:20260308T100000
END:DAYLIGHT
BEGIN:STANDARD
TZOFFSETFROM:-0700
TZOFFSETTO:-0800
TZNAME:PST
DTSTART:20261101T090000
END:STANDARD
END:VTIMEZONE
BEGIN:VEVENT
DTSTART;TZID=America/Los_Angeles:20250221T090000
DTEND;TZID=America/Los_Angeles:20250221T150000
DTSTAMP:20260424T024245
CREATED:20250130T031142Z
LAST-MODIFIED:20250206T034926Z
UID:15671-1740128400-1740150000@lbmoms.com
SUMMARY:Get Shizz Done Workshop:  2025 Strategy Planning
DESCRIPTION:Are you ready? Join us for a hands-on workshop where you’ll create a strategic plan to refresh your offerings and implement marketing that gets results! \nWhat You’ll Get: \n\nProduct & Service Strategy – Brainstorm\, refresh\, and expand your offerings to stay ahead in 2025\nMarketing Implementation – Develop a clear\, actionable plan to promote your business effectively\nLunch & Networking – Connect with like-minded entrepreneurs over lunch \nHigh Performance Time – You’ll be working ON your business vs IN your business\n\n$175 Future member \n$125 for current Innovator Masterminders \nREGISTER NOW! \nTestimonials: \nAngelica’s workshop to get your “Shizz” (business) ready for 2025 was worth every penny. Not only did I meet other amazing entreprenuers but the information was specific\, valuable and input from everyone in the group really helpful. I cam away with great ideas to make changes to my business and pricing model. Along with a feeling of rejuvination for my business in 2025! The handouts and information were so specific and valuable. I have never had a workshop that hit the specifics of getting my business in the right direction as much as this one. Lisa A\, Ladies Who Leap \nToday was all about growth\, connection\, and getting shizz done! I spent the day with an incredible group of entrepreneurs at the Get Shizz Done Marketing Workshop led by Angelica Wheaton. We dove into business strategy\, planning for 2025\, and explored new possibilities for growth. Entrepreneurship can be challenging\, but surrounding yourself with like-minded people who inspire and push you is key. Collaborating and brainstorming today reminded me why I love what I do! I’m closing out 2024 stronger than I started and can’t wait to see what 2025 brings. Here’s to growth\, purpose\, and making things happen! Thank you Angelica for an inspiring day! Nora Walsh\, Healthy Balance Fitness \n’ll be leading this powerful workshop as your guide—Angelica\, serial entrepreneur\, business strategist\, and founder of Pacific Business Partners. Don’t wait—secure your spot today!. \n📅 When: Friday\, February 21st 9a – 3pm // Beverages\, Lite Breakfast + Lunch is included \n8:30 – 9a Registration + breakfast \n9:00 – 10:30a Mastermind \n10:30 – 12p Cash Flow Mastery: Learn to project\, stabilize\, and maximize your financial health. \n12p – 1pm Lunch + Networking \n1:00p – 2:30 Marketing Implementation: Build a targeted plan to engage your audience and boost visibility. \n2:30p – 3:00p Q&A + takeaways \n📍 Where: Home Office\, LLC\, Signal Hill\, CA // 1850 E Willow at Cherry \n  \nQuestions – email angelica@pacificbp.com
URL:https://lbmoms.com/event/get-shizz-done-workshop-2025-strategy-planning-part-2/
LOCATION:Home Office\, 1850 E Willow\, Signal Hill\, CA\, United States
CATEGORIES:Business Network,Events
ATTACH;FMTTYPE=image/png:https://lbmoms.com/wp-content/uploads/2025/01/Get-Shizz-Feb-vertical.png
END:VEVENT
BEGIN:VEVENT
DTSTART;TZID=America/Los_Angeles:20250221T090000
DTEND;TZID=America/Los_Angeles:20250221T150000
DTSTAMP:20260424T024245
CREATED:20250206T182524Z
LAST-MODIFIED:20250206T182614Z
UID:15725-1740128400-1740150000@lbmoms.com
SUMMARY:Get Shizz Done Workshop:  2025 Strategy Planning
DESCRIPTION:Are you ready? Join us for a hands-on workshop where you’ll create a strategic plan to refresh your offerings and implement marketing that gets results! \nWhat You’ll Get: \n\nProduct & Service Strategy – Brainstorm\, refresh\, and expand your offerings to stay ahead in 2025\nMarketing Implementation – Develop a clear\, actionable plan to promote your business effectively\nLunch & Networking – Connect with like-minded entrepreneurs over a gourmet boxed lunch\nHigh Performance Time – You’ll be working ON your business vs IN your business\n\n$175 Future member \n$125 for current Innovator Masterminders \nREGISTER NOW!
URL:https://lbmoms.com/event/get-shizz-done-workshop-2025-strategy-planning-2/
LOCATION:CA
CATEGORIES:Business Network,Events
ATTACH;FMTTYPE=image/png:https://lbmoms.com/wp-content/uploads/2025/02/Get-Shizz-Feb-vertical.png
END:VEVENT
END:VCALENDAR