BEGIN:VCALENDAR
VERSION:2.0
PRODID:-//Long Beach Moms - ECPv6.15.20//NONSGML v1.0//EN
CALSCALE:GREGORIAN
METHOD:PUBLISH
X-ORIGINAL-URL:https://lbmoms.com
X-WR-CALDESC:Events for Long Beach Moms
REFRESH-INTERVAL;VALUE=DURATION:PT1H
X-Robots-Tag:noindex
X-PUBLISHED-TTL:PT1H
BEGIN:VTIMEZONE
TZID:America/Los_Angeles
BEGIN:DAYLIGHT
TZOFFSETFROM:-0800
TZOFFSETTO:-0700
TZNAME:PDT
DTSTART:20200308T100000
END:DAYLIGHT
BEGIN:STANDARD
TZOFFSETFROM:-0700
TZOFFSETTO:-0800
TZNAME:PST
DTSTART:20201101T090000
END:STANDARD
BEGIN:DAYLIGHT
TZOFFSETFROM:-0800
TZOFFSETTO:-0700
TZNAME:PDT
DTSTART:20210314T100000
END:DAYLIGHT
BEGIN:STANDARD
TZOFFSETFROM:-0700
TZOFFSETTO:-0800
TZNAME:PST
DTSTART:20211107T090000
END:STANDARD
BEGIN:DAYLIGHT
TZOFFSETFROM:-0800
TZOFFSETTO:-0700
TZNAME:PDT
DTSTART:20220313T100000
END:DAYLIGHT
BEGIN:STANDARD
TZOFFSETFROM:-0700
TZOFFSETTO:-0800
TZNAME:PST
DTSTART:20221106T090000
END:STANDARD
BEGIN:DAYLIGHT
TZOFFSETFROM:-0800
TZOFFSETTO:-0700
TZNAME:PDT
DTSTART:20230312T100000
END:DAYLIGHT
BEGIN:STANDARD
TZOFFSETFROM:-0700
TZOFFSETTO:-0800
TZNAME:PST
DTSTART:20231105T090000
END:STANDARD
END:VTIMEZONE
BEGIN:VEVENT
DTSTART;TZID=America/Los_Angeles:20221116T180000
DTEND;TZID=America/Los_Angeles:20221116T190000
DTSTAMP:20260421T043601
CREATED:20221110T235915Z
LAST-MODIFIED:20221111T211609Z
UID:12263-1668621600-1668625200@lbmoms.com
SUMMARY:Long Beach Moms Virtual Q&A with MemorialCare Miller Children's Hospital & Women's Hospital Dr. Graham Tse M.D.\, FAAP Chief Medical Officer on RSV- What is it?
DESCRIPTION:We all have seen respiratory syncytial virus\, or R.S.V.\, in the news lately.\nMost recently\, Orange County declared a health emergency as RSV surges among infants and children leading to a record number of pediatric hospitalizations.\nBut what is RSV and what can parents due to help protect their children?\nJoin us on Wed. Nov. 16 6PM virtually for a discussion with Dr. Graham Tse M.D.\, FAAP\, Chief Medical Officer at MemorialCare Miller Children’s Hospital & Women’s Hospital Long Beach and learn about RSV diagnosis\, treatment\, management\, and how to tell if it is the flu\, RSV\, or Covid-19?\n\nDr. Tse is board-certified in pediatrics and pediatric critical care. He has worked at Miller Children’s & Women’s for over 25 years.  For the last 6 years he has served as the Chief Medical Officer for Miller Children’s & Women’s Hospital and remains clinically active as a pediatric critical care attending physician.  Dr. Tse also serves as the Physician-in-Charge of the hospital incident command center for the COVID pandemic for both Long Beach Medical Center as well as Miller Children’s & Women’s Hospital.  Dr. Tse completed his medical degree at the University of Ottawa in Canada\, his pediatric residency at the University of Alberta\, also in Canada\, and his pediatric critical care fellowship at University of California\, Los Angeles.\n\nRSVP to hello@yv0.5c2.myftpupload.com for zoom link and submit your questions!\n\n 
URL:https://lbmoms.com/event/long-beach-moms-virtual-qa-with-memorialcare-cmo-dr-graham-tse-m-d-faap-chief-medical-officer-on-rsv-what-is-it/
CATEGORIES:Free Events,Long Beach Moms,Miller's Children's Hospital
ATTACH;FMTTYPE=image/png:https://lbmoms.com/wp-content/uploads/2022/11/Millers-Event-RSV.png
END:VEVENT
BEGIN:VEVENT
DTSTART;TZID=America/Los_Angeles:20211110T130000
DTEND;TZID=America/Los_Angeles:20211110T140000
DTSTAMP:20260421T043601
CREATED:20211013T031916Z
LAST-MODIFIED:20211013T031916Z
UID:8739-1636549200-1636552800@lbmoms.com
SUMMARY:Questions about Breastfeeding? Get your Answers!
DESCRIPTION:Hmm… how’s the breastfeeding going?  Not so sure?  Need help? \nThinking about breastfeeding? Let’s get some clarity on some questions that you may have. \nJoin us virtually for a Q&A with Lactation consultant  Kim O’Connell. \nThis event is FREE! \nTo RSVP: send an email to hello@yv0.5c2.myftpupload.com for zoom info
URL:https://lbmoms.com/event/questions-about-breastfeeding-get-your-answers/
CATEGORIES:Free Events,Long Beach Moms,Miller's Children's Hospital
ATTACH;FMTTYPE=image/png:https://lbmoms.com/wp-content/uploads/2021/10/FB-Millers-Event.png
END:VEVENT
BEGIN:VEVENT
DTSTART;TZID=America/Los_Angeles:20210831T180000
DTEND;TZID=America/Los_Angeles:20210831T190000
DTSTAMP:20260421T043601
CREATED:20210813T150559Z
LAST-MODIFIED:20210819T033423Z
UID:8526-1630432800-1630436400@lbmoms.com
SUMMARY:Long Beach Moms + MemorialCare Miller's Children's & Women's Hospital Vaccine Q&A
DESCRIPTION:Have vaccine questions?\n\nThis event is for those who want to learn more or who have a specific question about the vaccine.\nJoin Pediatric Infectious Disease Specialist from MemorialCare Miller’s Children’s & Women’s Hospital Long Beach to learn more about vaccinations\, including the COVID-19 vaccine\, and get your questions answered.\n\nFor anonymous participation\, please email me your questions and RSVP via email to obtain the virtual link.\n\nangelica@yv0.5c2.myftpupload.com
URL:https://lbmoms.com/event/long-beach-moms-memorialcare-millers-childrens-womens-hospital-vaccine-qa/
CATEGORIES:Free Events,Miller's Children's Hospital,Online
ATTACH;FMTTYPE=image/png:https://lbmoms.com/wp-content/uploads/2021/08/LB-MOMS-Vaccine-QA-Aug.-31.png
END:VEVENT
BEGIN:VEVENT
DTSTART;TZID=America/Los_Angeles:20210608T180000
DTEND;TZID=America/Los_Angeles:20210608T190000
DTSTAMP:20260421T043601
CREATED:20210512T025527Z
LAST-MODIFIED:20210521T185920Z
UID:7524-1623175200-1623178800@lbmoms.com
SUMMARY:MemorialCare Miller's Children's and Women's Hospital: Creating Connections
DESCRIPTION:Think baby bonding\, and creating/maintaining connections\, incorporating balance in your life and seeking local resources. \nNurturing the New You + Free Parent and Baby Support \nJoin other birth parents and partners and pre-crawling infants in a supportive environment to help you learn to: \n\nreduce stress\nincrease self-confidence\nstrengthen the emotional connection to your baby\n\nThis support group will teach infant massage techniques\, while increasing your ability to respond optimally to your baby’s needs\, read your baby cues and strengthen infant-parent attachment. \nTransitioning into parenthood is a time of transformation. Being mindful and present to these changes can make the transition a more positive experience. \nThis is a free ongoing event.
URL:https://lbmoms.com/event/millers-childrens-hospital-creating-connections/
LOCATION:Online
CATEGORIES:Miller's Children's Hospital,Newborns,Online,Parenting
ATTACH;FMTTYPE=image/png:https://lbmoms.com/wp-content/uploads/2021/05/Copy-of-Copy-of-Estate-FB-Event.png
END:VEVENT
END:VCALENDAR