BEGIN:VCALENDAR
VERSION:2.0
PRODID:-//Long Beach Moms - ECPv6.15.20//NONSGML v1.0//EN
CALSCALE:GREGORIAN
METHOD:PUBLISH
X-WR-CALNAME:Long Beach Moms
X-ORIGINAL-URL:https://lbmoms.com
X-WR-CALDESC:Events for Long Beach Moms
REFRESH-INTERVAL;VALUE=DURATION:PT1H
X-Robots-Tag:noindex
X-PUBLISHED-TTL:PT1H
BEGIN:VTIMEZONE
TZID:America/Los_Angeles
BEGIN:DAYLIGHT
TZOFFSETFROM:-0800
TZOFFSETTO:-0700
TZNAME:PDT
DTSTART:20200308T100000
END:DAYLIGHT
BEGIN:STANDARD
TZOFFSETFROM:-0700
TZOFFSETTO:-0800
TZNAME:PST
DTSTART:20201101T090000
END:STANDARD
BEGIN:DAYLIGHT
TZOFFSETFROM:-0800
TZOFFSETTO:-0700
TZNAME:PDT
DTSTART:20210314T100000
END:DAYLIGHT
BEGIN:STANDARD
TZOFFSETFROM:-0700
TZOFFSETTO:-0800
TZNAME:PST
DTSTART:20211107T090000
END:STANDARD
BEGIN:DAYLIGHT
TZOFFSETFROM:-0800
TZOFFSETTO:-0700
TZNAME:PDT
DTSTART:20220313T100000
END:DAYLIGHT
BEGIN:STANDARD
TZOFFSETFROM:-0700
TZOFFSETTO:-0800
TZNAME:PST
DTSTART:20221106T090000
END:STANDARD
BEGIN:DAYLIGHT
TZOFFSETFROM:-0800
TZOFFSETTO:-0700
TZNAME:PDT
DTSTART:20230312T100000
END:DAYLIGHT
BEGIN:STANDARD
TZOFFSETFROM:-0700
TZOFFSETTO:-0800
TZNAME:PST
DTSTART:20231105T090000
END:STANDARD
BEGIN:DAYLIGHT
TZOFFSETFROM:-0800
TZOFFSETTO:-0700
TZNAME:PDT
DTSTART:20240310T100000
END:DAYLIGHT
BEGIN:STANDARD
TZOFFSETFROM:-0700
TZOFFSETTO:-0800
TZNAME:PST
DTSTART:20241103T090000
END:STANDARD
BEGIN:DAYLIGHT
TZOFFSETFROM:-0800
TZOFFSETTO:-0700
TZNAME:PDT
DTSTART:20250309T100000
END:DAYLIGHT
BEGIN:STANDARD
TZOFFSETFROM:-0700
TZOFFSETTO:-0800
TZNAME:PST
DTSTART:20251102T090000
END:STANDARD
END:VTIMEZONE
BEGIN:VEVENT
DTSTART;TZID=America/Los_Angeles:20241121T110000
DTEND;TZID=America/Los_Angeles:20241121T120000
DTSTAMP:20260421T100828
CREATED:20241114T072717Z
LAST-MODIFIED:20241114T072717Z
UID:15240-1732186800-1732190400@lbmoms.com
SUMMARY:Doing Business with the City Webinar
DESCRIPTION:Join us for our monthly Doing Business with the City webinar where you’ll learn about goods and services that Long Beach buys\, our contracting process and how to register your business on our online procurement platform. \nRegister to receive Zoom link and call-in details!
URL:https://lbmoms.com/event/doing-business-with-the-city-webinar/
LOCATION:Zoom
CATEGORIES:City of Long Beach,Events,Free Events,Online
ATTACH;FMTTYPE=image/png:https://lbmoms.com/wp-content/uploads/2024/11/Upcoming-Events-1114-2.png
END:VEVENT
BEGIN:VEVENT
DTSTART;TZID=America/Los_Angeles:20231107T170000
DTEND;TZID=America/Los_Angeles:20231107T170000
DTSTAMP:20260421T100828
CREATED:20231102T160232Z
LAST-MODIFIED:20231102T160232Z
UID:13956-1699376400-1699376400@lbmoms.com
SUMMARY:MemorialCare: Navigating Health Insurance Event
DESCRIPTION:Presented by the MemorialCare Todd Cancer Institute  \nTuesday\, November 7\, 2023 @ 5:00 pm \nLocation: Zoom \nJoin us for an informational conversation on Navigating Health Insurance with our friends at the Cancer Legal Resource Center (CLRC)! With open enrollment currently underway for many\, this is a timely topic to learn more about what you should know and consider as you make your choices. \nTarget audience: For anyone experiencing cancer: patients\, survivors\, family members\, friends\, caregivers\, medical personnel\, and the community at large. \nDivya Sriharan\, CLRC staff attorney\, will walk us through how best to navigate the multitude of health insurance obstacles\, providing you with key knowledge and tools to assess your own health benefits. \n1. Open enrollment considerations based on health insurance type for cancer patients & survivors \n2. Common insurance concerns of cancer patients and survivors \n3. Resources available to assist patients to meet financial realities of cancer care \n\nRSVP: Send an email to cgotz@memorialcare.org
URL:https://lbmoms.com/event/memorialcare-navigating-health-insurance-event/
LOCATION:Zoom
CATEGORIES:City of Long Beach,Events,Free Events,Long Beach Moms,Online
ATTACH;FMTTYPE=image/png:https://lbmoms.com/wp-content/uploads/2023/11/navigating-insurance-webinar-FINAL.pdf-1.png
END:VEVENT
BEGIN:VEVENT
DTSTART;TZID=America/Los_Angeles:20211218T120000
DTEND;TZID=America/Los_Angeles:20211218T130000
DTSTAMP:20260421T100828
CREATED:20211217T233108Z
LAST-MODIFIED:20211217T233108Z
UID:9055-1639828800-1639832400@lbmoms.com
SUMMARY:Down Words--Online Event
DESCRIPTION:Down Words is a program for adult learners where we solve fun crossword puzzles while we share tips on how to improve your reading and writing. Email lbreads@lbpl.org to get the Zoom link! \n\n\n\n\nLocation\nOnline Event\n\n\nLibrary Location\nOnline Event\n\n\nEvent Type\nContinuing Education\n\n\nAudience\nAdults\, Adults (55+ years)\n\n\nContact Name\nAna Villalpando\n\n\nContact Email\nlbreads@lbpl.org\n\n\nContact Phone\n(562) 570-6959\n\n\nDepartment\nLong Beach Public Library\n\n\nLanguage Access\nTo request this information in an alternative format or to request a reasonable accommodation\, please contact the listed email or phone number. \nPara solicitar esta información en un formato alternativo o para pedir una adaptación razonable\, favor de comunicarse a través del correo electrónico o número de teléfono proporcionado. \nដើម្បីស្នើសុំព័ត៌មាននេះ​ ក្នុងទម្រង់ផ្សេង ឬស្នើសុំតាមតម្រូវការសមរម្យណាមួយ សូមទាក់ទងអ៊ីមែល ឬលេខទូរស័ព្ទ ដែលបានចុះនៅលើបញ្ជី។ \nPara maka-hiling ng impormasyon na ito sa isang alternatibong pormat o maka-hiling ng makatwirang akomodasyon\, maaari pong kontakin ang email o ang numero ng telepono na nakalista.
URL:https://lbmoms.com/event/down-words-online-event/
CATEGORIES:Free Events,Online
ATTACH;FMTTYPE=image/png:https://lbmoms.com/wp-content/uploads/2021/12/Screen-Shot-2021-12-13-at-6.16.30-PM.png
END:VEVENT
BEGIN:VEVENT
DTSTART;TZID=America/Los_Angeles:20210831T180000
DTEND;TZID=America/Los_Angeles:20210831T190000
DTSTAMP:20260421T100828
CREATED:20210813T150559Z
LAST-MODIFIED:20210819T033423Z
UID:8526-1630432800-1630436400@lbmoms.com
SUMMARY:Long Beach Moms + MemorialCare Miller's Children's & Women's Hospital Vaccine Q&A
DESCRIPTION:Have vaccine questions?\n\nThis event is for those who want to learn more or who have a specific question about the vaccine.\nJoin Pediatric Infectious Disease Specialist from MemorialCare Miller’s Children’s & Women’s Hospital Long Beach to learn more about vaccinations\, including the COVID-19 vaccine\, and get your questions answered.\n\nFor anonymous participation\, please email me your questions and RSVP via email to obtain the virtual link.\n\nangelica@yv0.5c2.myftpupload.com
URL:https://lbmoms.com/event/long-beach-moms-memorialcare-millers-childrens-womens-hospital-vaccine-qa/
CATEGORIES:Free Events,Miller's Children's Hospital,Online
ATTACH;FMTTYPE=image/png:https://lbmoms.com/wp-content/uploads/2021/08/LB-MOMS-Vaccine-QA-Aug.-31.png
END:VEVENT
BEGIN:VEVENT
DTSTART;TZID=America/Los_Angeles:20210608T180000
DTEND;TZID=America/Los_Angeles:20210608T190000
DTSTAMP:20260421T100828
CREATED:20210512T025527Z
LAST-MODIFIED:20210521T185920Z
UID:7524-1623175200-1623178800@lbmoms.com
SUMMARY:MemorialCare Miller's Children's and Women's Hospital: Creating Connections
DESCRIPTION:Think baby bonding\, and creating/maintaining connections\, incorporating balance in your life and seeking local resources. \nNurturing the New You + Free Parent and Baby Support \nJoin other birth parents and partners and pre-crawling infants in a supportive environment to help you learn to: \n\nreduce stress\nincrease self-confidence\nstrengthen the emotional connection to your baby\n\nThis support group will teach infant massage techniques\, while increasing your ability to respond optimally to your baby’s needs\, read your baby cues and strengthen infant-parent attachment. \nTransitioning into parenthood is a time of transformation. Being mindful and present to these changes can make the transition a more positive experience. \nThis is a free ongoing event.
URL:https://lbmoms.com/event/millers-childrens-hospital-creating-connections/
LOCATION:Online
CATEGORIES:Miller's Children's Hospital,Newborns,Online,Parenting
ATTACH;FMTTYPE=image/png:https://lbmoms.com/wp-content/uploads/2021/05/Copy-of-Copy-of-Estate-FB-Event.png
END:VEVENT
END:VCALENDAR