BEGIN:VCALENDAR
VERSION:2.0
PRODID:-//Long Beach Moms - ECPv6.15.20//NONSGML v1.0//EN
CALSCALE:GREGORIAN
METHOD:PUBLISH
X-WR-CALNAME:Long Beach Moms
X-ORIGINAL-URL:https://lbmoms.com
X-WR-CALDESC:Events for Long Beach Moms
REFRESH-INTERVAL;VALUE=DURATION:PT1H
X-Robots-Tag:noindex
X-PUBLISHED-TTL:PT1H
BEGIN:VTIMEZONE
TZID:America/Los_Angeles
BEGIN:DAYLIGHT
TZOFFSETFROM:-0800
TZOFFSETTO:-0700
TZNAME:PDT
DTSTART:20200308T100000
END:DAYLIGHT
BEGIN:STANDARD
TZOFFSETFROM:-0700
TZOFFSETTO:-0800
TZNAME:PST
DTSTART:20201101T090000
END:STANDARD
BEGIN:DAYLIGHT
TZOFFSETFROM:-0800
TZOFFSETTO:-0700
TZNAME:PDT
DTSTART:20210314T100000
END:DAYLIGHT
BEGIN:STANDARD
TZOFFSETFROM:-0700
TZOFFSETTO:-0800
TZNAME:PST
DTSTART:20211107T090000
END:STANDARD
BEGIN:DAYLIGHT
TZOFFSETFROM:-0800
TZOFFSETTO:-0700
TZNAME:PDT
DTSTART:20220313T100000
END:DAYLIGHT
BEGIN:STANDARD
TZOFFSETFROM:-0700
TZOFFSETTO:-0800
TZNAME:PST
DTSTART:20221106T090000
END:STANDARD
END:VTIMEZONE
BEGIN:VEVENT
DTSTART;VALUE=DATE:20210828
DTEND;VALUE=DATE:20210829
DTSTAMP:20260421T030402
CREATED:20210730T183519Z
LAST-MODIFIED:20210730T183611Z
UID:8456-1630108800-1630195199@lbmoms.com
SUMMARY:Scholars Collective Tech Lab Grand Opening!
DESCRIPTION:Scholars Collective is hosting their Grand Opening Event for their new Long Beach Tech Lab on August 28\, 2021. Downtown Long Beach Alliance will be there for a Ribbon Cutting Ceremony as well! \n  \nLocation + Time TBA.
URL:https://lbmoms.com/event/scholars-collective-tech-lab-grand-opening/
CATEGORIES:Grand Opening,Scholars Collective,STEM Events
ATTACH;FMTTYPE=image/png:https://lbmoms.com/wp-content/uploads/2021/07/Copy-of-Copy-of-Copy-of-CITY-OF-LONG-BEACH-PRESENTS-MOVIES-IN-THE-PARK-2.png
END:VEVENT
BEGIN:VEVENT
DTSTART;TZID=America/Los_Angeles:20210719T093000
DTEND;TZID=America/Los_Angeles:20210723T130000
DTSTAMP:20260421T030402
CREATED:20210720T231259Z
LAST-MODIFIED:20210720T231259Z
UID:8402-1626687000-1627045200@lbmoms.com
SUMMARY:Shared Science: Tech Girls Long Beach 2021
DESCRIPTION:Tech Girls Long Beach is a week-long empowering event for middle and high school girls to explore their interests in the sciences. \nShared Science is offering an engaging lineup of hands-on workshops covering biology\, robotics\, physics\, coding\, and engineering. \nRegistration fees are waived upon full attendance. To sign up\, visit http://ow.ly/I4Y250Ft0s5 \nQuestions?\nReach out to info@sharedsciencefun.org or call 562-285-3942
URL:https://lbmoms.com/event/shared-science-tech-girls-long-beach-2021/
CATEGORIES:Free Events,STEM Events
ATTACH;FMTTYPE=image/png:https://lbmoms.com/wp-content/uploads/2021/07/Copy-of-Copy-of-CITY-OF-LONG-BEACH-PRESENTS-MOVIES-IN-THE-PARK-6.png
ORGANIZER;CN="Shared Science":MAILTO:info@sharedsciencefun.org
END:VEVENT
END:VCALENDAR