BEGIN:VCALENDAR
VERSION:2.0
PRODID:-//Long Beach Moms - ECPv6.15.20//NONSGML v1.0//EN
CALSCALE:GREGORIAN
METHOD:PUBLISH
X-ORIGINAL-URL:https://lbmoms.com
X-WR-CALDESC:Events for Long Beach Moms
REFRESH-INTERVAL;VALUE=DURATION:PT1H
X-Robots-Tag:noindex
X-PUBLISHED-TTL:PT1H
BEGIN:VTIMEZONE
TZID:America/Los_Angeles
BEGIN:DAYLIGHT
TZOFFSETFROM:-0800
TZOFFSETTO:-0700
TZNAME:PDT
DTSTART:20240310T100000
END:DAYLIGHT
BEGIN:STANDARD
TZOFFSETFROM:-0700
TZOFFSETTO:-0800
TZNAME:PST
DTSTART:20241103T090000
END:STANDARD
BEGIN:DAYLIGHT
TZOFFSETFROM:-0800
TZOFFSETTO:-0700
TZNAME:PDT
DTSTART:20250309T100000
END:DAYLIGHT
BEGIN:STANDARD
TZOFFSETFROM:-0700
TZOFFSETTO:-0800
TZNAME:PST
DTSTART:20251102T090000
END:STANDARD
BEGIN:DAYLIGHT
TZOFFSETFROM:-0800
TZOFFSETTO:-0700
TZNAME:PDT
DTSTART:20260308T100000
END:DAYLIGHT
BEGIN:STANDARD
TZOFFSETFROM:-0700
TZOFFSETTO:-0800
TZNAME:PST
DTSTART:20261101T090000
END:STANDARD
END:VTIMEZONE
BEGIN:VEVENT
DTSTART;TZID=America/Los_Angeles:20251213T110000
DTEND;TZID=America/Los_Angeles:20251213T160000
DTSTAMP:20260421T131748
CREATED:20251211T170059Z
LAST-MODIFIED:20251211T170059Z
UID:18827-1765623600-1765641600@lbmoms.com
SUMMARY:4th Street Holiday Market
DESCRIPTION:In lieu of a December Fourth Friday\, 4th Street will host its annual Holiday Market on December 13! \nEnjoy the following: \n\nLocal artist pop-ups⁠\nLive entertainment⁠\nShops open late⁠\nFourth Fridays food\, service\, and shop specials⁠\n& more!⁠\n\nThe event takes place along 4th Street\, expanding from Temple to Cherry. Don’t feel like walking too far? The event has partnered with DRIVER to offer a free shuttle service for attendees and participants.
URL:https://lbmoms.com/event/4th-street-holiday-market/
LOCATION:2122 E 4th St Long Beach\, California 90814\, 2122 E 4th St\, Long Beach\, CA\, 90814\, United States
CATEGORIES:Events
ATTACH;FMTTYPE=image/png:https://lbmoms.com/wp-content/uploads/2025/12/Local.png
END:VEVENT
END:VCALENDAR