BEGIN:VCALENDAR
VERSION:2.0
PRODID:-//Long Beach Moms - ECPv6.15.20//NONSGML v1.0//EN
CALSCALE:GREGORIAN
METHOD:PUBLISH
X-ORIGINAL-URL:https://lbmoms.com
X-WR-CALDESC:Events for Long Beach Moms
REFRESH-INTERVAL;VALUE=DURATION:PT1H
X-Robots-Tag:noindex
X-PUBLISHED-TTL:PT1H
BEGIN:VTIMEZONE
TZID:America/Los_Angeles
BEGIN:DAYLIGHT
TZOFFSETFROM:-0800
TZOFFSETTO:-0700
TZNAME:PDT
DTSTART:20240310T100000
END:DAYLIGHT
BEGIN:STANDARD
TZOFFSETFROM:-0700
TZOFFSETTO:-0800
TZNAME:PST
DTSTART:20241103T090000
END:STANDARD
BEGIN:DAYLIGHT
TZOFFSETFROM:-0800
TZOFFSETTO:-0700
TZNAME:PDT
DTSTART:20250309T100000
END:DAYLIGHT
BEGIN:STANDARD
TZOFFSETFROM:-0700
TZOFFSETTO:-0800
TZNAME:PST
DTSTART:20251102T090000
END:STANDARD
BEGIN:DAYLIGHT
TZOFFSETFROM:-0800
TZOFFSETTO:-0700
TZNAME:PDT
DTSTART:20260308T100000
END:DAYLIGHT
BEGIN:STANDARD
TZOFFSETFROM:-0700
TZOFFSETTO:-0800
TZNAME:PST
DTSTART:20261101T090000
END:STANDARD
END:VTIMEZONE
BEGIN:VEVENT
DTSTART;TZID=America/Los_Angeles:20251108T130000
DTEND;TZID=America/Los_Angeles:20251108T163000
DTSTAMP:20260423T163259
CREATED:20251106T211842Z
LAST-MODIFIED:20251106T211842Z
UID:18501-1762606800-1762619400@lbmoms.com
SUMMARY:Holiday Shopping and Local Artisan Event
DESCRIPTION:Rancho Los Alamitos will host a holiday shopping event with local artisans! The Rancho’s decorated Museum Store will be well-stocked with fall and winter merchandise. \nBrowse the work of painters\, watercolor artists\, jewelers\, weavers\, and ceramicists. Also on Nov. 8\, the Rancho will be hosting its first cafe pop-up serving coffee from The June Brew and pastries from The Bread Lounge while you shop.
URL:https://lbmoms.com/event/holiday-shopping-and-local-artisan-event/
LOCATION:6400 E Bixby Hill Rd\, 6400 E Bixby Hill Rd\, Long Beach\, CA\, 90815\, United States
CATEGORIES:Events
ATTACH;FMTTYPE=image/png:https://lbmoms.com/wp-content/uploads/2025/11/Holiday.png
END:VEVENT
END:VCALENDAR