BEGIN:VCALENDAR
VERSION:2.0
PRODID:-//Long Beach Moms - ECPv6.15.20//NONSGML v1.0//EN
CALSCALE:GREGORIAN
METHOD:PUBLISH
X-ORIGINAL-URL:https://lbmoms.com
X-WR-CALDESC:Events for Long Beach Moms
REFRESH-INTERVAL;VALUE=DURATION:PT1H
X-Robots-Tag:noindex
X-PUBLISHED-TTL:PT1H
BEGIN:VTIMEZONE
TZID:America/Los_Angeles
BEGIN:DAYLIGHT
TZOFFSETFROM:-0800
TZOFFSETTO:-0700
TZNAME:PDT
DTSTART:20240310T100000
END:DAYLIGHT
BEGIN:STANDARD
TZOFFSETFROM:-0700
TZOFFSETTO:-0800
TZNAME:PST
DTSTART:20241103T090000
END:STANDARD
BEGIN:DAYLIGHT
TZOFFSETFROM:-0800
TZOFFSETTO:-0700
TZNAME:PDT
DTSTART:20250309T100000
END:DAYLIGHT
BEGIN:STANDARD
TZOFFSETFROM:-0700
TZOFFSETTO:-0800
TZNAME:PST
DTSTART:20251102T090000
END:STANDARD
BEGIN:DAYLIGHT
TZOFFSETFROM:-0800
TZOFFSETTO:-0700
TZNAME:PDT
DTSTART:20260308T100000
END:DAYLIGHT
BEGIN:STANDARD
TZOFFSETFROM:-0700
TZOFFSETTO:-0800
TZNAME:PST
DTSTART:20261101T090000
END:STANDARD
END:VTIMEZONE
BEGIN:VEVENT
DTSTART;TZID=America/Los_Angeles:20250615T120000
DTEND;TZID=America/Los_Angeles:20250615T150000
DTSTAMP:20260421T101225
CREATED:20250612T064123Z
LAST-MODIFIED:20250612T064123Z
UID:16816-1749988800-1749999600@lbmoms.com
SUMMARY:Cake Picnic with Kittens
DESCRIPTION:This free Cake Swap Party hosted by The Little Lion Foundation will feature a tent of adoptable kittens to play with\, a taco bar\, and pop-up shopping from craft & artisan businesses. \nThe Cake Picnic will have tables full of different types of cakes to try\, and you can take as many slices as you bring. To achieve this\, guests are encouraged to bring a cake to share and a utensil to serve it. \nYou must register to attend\, as only guests with wristbands can take pieces of cake. You can choose from these registration options: \n\nBring a cake\nPay for Cake\nAttend without a cake wristband\n\nFor full details and registration\, visit the Eventbrite page. See you on the event deck at Sports Basement Long Beach for an afternoon filled with sweetness and cuteness! ✨️ \n*June 15th is Father’s Day: bring your Dad\, Grandpop\, Cat Daddy\, kids and all of your family and friends!
URL:https://lbmoms.com/event/cake-picnic-with-kittens/
LOCATION:Sports Basement Long Beach
CATEGORIES:Events,Free Events
ATTACH;FMTTYPE=image/jpeg:https://lbmoms.com/wp-content/uploads/2025/06/CAKE.jpg
END:VEVENT
END:VCALENDAR