BEGIN:VCALENDAR
VERSION:2.0
PRODID:-//Long Beach Moms - ECPv6.15.20//NONSGML v1.0//EN
CALSCALE:GREGORIAN
METHOD:PUBLISH
X-WR-CALNAME:Long Beach Moms
X-ORIGINAL-URL:https://lbmoms.com
X-WR-CALDESC:Events for Long Beach Moms
REFRESH-INTERVAL;VALUE=DURATION:PT1H
X-Robots-Tag:noindex
X-PUBLISHED-TTL:PT1H
BEGIN:VTIMEZONE
TZID:America/Los_Angeles
BEGIN:DAYLIGHT
TZOFFSETFROM:-0800
TZOFFSETTO:-0700
TZNAME:PDT
DTSTART:20240310T100000
END:DAYLIGHT
BEGIN:STANDARD
TZOFFSETFROM:-0700
TZOFFSETTO:-0800
TZNAME:PST
DTSTART:20241103T090000
END:STANDARD
BEGIN:DAYLIGHT
TZOFFSETFROM:-0800
TZOFFSETTO:-0700
TZNAME:PDT
DTSTART:20250309T100000
END:DAYLIGHT
BEGIN:STANDARD
TZOFFSETFROM:-0700
TZOFFSETTO:-0800
TZNAME:PST
DTSTART:20251102T090000
END:STANDARD
BEGIN:DAYLIGHT
TZOFFSETFROM:-0800
TZOFFSETTO:-0700
TZNAME:PDT
DTSTART:20260308T100000
END:DAYLIGHT
BEGIN:STANDARD
TZOFFSETFROM:-0700
TZOFFSETTO:-0800
TZNAME:PST
DTSTART:20261101T090000
END:STANDARD
END:VTIMEZONE
BEGIN:VEVENT
DTSTART;TZID=America/Los_Angeles:20251107T183000
DTEND;TZID=America/Los_Angeles:20251107T213000
DTSTAMP:20260422T145851
CREATED:20251106T211353Z
LAST-MODIFIED:20251106T211353Z
UID:18494-1762540200-1762551000@lbmoms.com
SUMMARY:First Fridays in Bixby Knolls
DESCRIPTION:Bixby Knolls will host its annual Día de Los Muertos celebration at First Fridays on November 7. \nExpect live Mariachi music\, art pop-ups\, and a chance to honor loved ones at our community ofrenda. \nCome celebrate this beloved tradition with your neighbors; a night of music\, memory\, and magic awaits! \nVisit the event page for more details on art\, music\, and businesses with special offers and activities.
URL:https://lbmoms.com/event/first-fridays-in-bixby-knolls-6/
LOCATION:4321 Atlantic Ave\, 4321 Atlantic Ave\, Long Beach\, CA\, 90807\, United States
CATEGORIES:Events,Free Events
ATTACH;FMTTYPE=image/jpeg:https://lbmoms.com/wp-content/uploads/2025/11/First.jpg
END:VEVENT
END:VCALENDAR