BEGIN:VCALENDAR
VERSION:2.0
PRODID:-//Long Beach Moms - ECPv6.15.20//NONSGML v1.0//EN
CALSCALE:GREGORIAN
METHOD:PUBLISH
X-ORIGINAL-URL:https://lbmoms.com
X-WR-CALDESC:Events for Long Beach Moms
REFRESH-INTERVAL;VALUE=DURATION:PT1H
X-Robots-Tag:noindex
X-PUBLISHED-TTL:PT1H
BEGIN:VTIMEZONE
TZID:America/Los_Angeles
BEGIN:DAYLIGHT
TZOFFSETFROM:-0800
TZOFFSETTO:-0700
TZNAME:PDT
DTSTART:20240310T100000
END:DAYLIGHT
BEGIN:STANDARD
TZOFFSETFROM:-0700
TZOFFSETTO:-0800
TZNAME:PST
DTSTART:20241103T090000
END:STANDARD
BEGIN:DAYLIGHT
TZOFFSETFROM:-0800
TZOFFSETTO:-0700
TZNAME:PDT
DTSTART:20250309T100000
END:DAYLIGHT
BEGIN:STANDARD
TZOFFSETFROM:-0700
TZOFFSETTO:-0800
TZNAME:PST
DTSTART:20251102T090000
END:STANDARD
BEGIN:DAYLIGHT
TZOFFSETFROM:-0800
TZOFFSETTO:-0700
TZNAME:PDT
DTSTART:20260308T100000
END:DAYLIGHT
BEGIN:STANDARD
TZOFFSETFROM:-0700
TZOFFSETTO:-0800
TZNAME:PST
DTSTART:20261101T090000
END:STANDARD
END:VTIMEZONE
BEGIN:VEVENT
DTSTART;TZID=America/Los_Angeles:20250906T110000
DTEND;TZID=America/Los_Angeles:20250906T140000
DTSTAMP:20260422T150026
CREATED:20250828T162126Z
LAST-MODIFIED:20250828T162126Z
UID:17847-1757156400-1757167200@lbmoms.com
SUMMARY:Rooted In Us Summer Series Long Beach
DESCRIPTION:JOIN US FOR A DAY OF CELEBRATION & CONNECTION! \nThe L.A. County Department of Youth Development invites you\, your family\, and your community to our Rooted In Us Summer Series in Long Beach! \nThese FREE community events lead up to our Annual Countywide Youth Summit on November 14th — and you’re invited to help us kick things off locally! \nWhat to Expect: \n\nFree Food (while supplies last)\nYouth-Led Activities & Entertainment\nExciting Giveaways\nCommunity Dialogues\nResource Fair with Local Organizations\n\nFeaturing DJ D-Mast from Give A Beat. \nThis is more than an event — it’s a space to celebrate youth voices\, uplift our communities\, and build power together! \nREGISTER TODAY!\nAdmission is free. All ages are welcome! \nFollow @lacountyyouth on social media for updates\, and don’t forget to mark your calendar for the Countywide Youth Summit on November 14\, 2025! \nFor more information\, contact events@dyd.lacounty.gov.
URL:https://lbmoms.com/event/rooted-in-us-summer-series-long-beach/
LOCATION:4900 East 7th Street\, 6400 Pacific Coast Hwy\, Long Beach\, CA\, 90804\, United States
CATEGORIES:Free Events
ATTACH;FMTTYPE=image/jpeg:https://lbmoms.com/wp-content/uploads/2025/08/Rooted.jpeg
END:VEVENT
END:VCALENDAR