BEGIN:VCALENDAR
VERSION:2.0
PRODID:-//Long Beach Moms - ECPv6.15.20//NONSGML v1.0//EN
CALSCALE:GREGORIAN
METHOD:PUBLISH
X-ORIGINAL-URL:https://lbmoms.com
X-WR-CALDESC:Events for Long Beach Moms
REFRESH-INTERVAL;VALUE=DURATION:PT1H
X-Robots-Tag:noindex
X-PUBLISHED-TTL:PT1H
BEGIN:VTIMEZONE
TZID:America/Los_Angeles
BEGIN:DAYLIGHT
TZOFFSETFROM:-0800
TZOFFSETTO:-0700
TZNAME:PDT
DTSTART:20230312T100000
END:DAYLIGHT
BEGIN:STANDARD
TZOFFSETFROM:-0700
TZOFFSETTO:-0800
TZNAME:PST
DTSTART:20231105T090000
END:STANDARD
BEGIN:DAYLIGHT
TZOFFSETFROM:-0800
TZOFFSETTO:-0700
TZNAME:PDT
DTSTART:20240310T100000
END:DAYLIGHT
BEGIN:STANDARD
TZOFFSETFROM:-0700
TZOFFSETTO:-0800
TZNAME:PST
DTSTART:20241103T090000
END:STANDARD
BEGIN:DAYLIGHT
TZOFFSETFROM:-0800
TZOFFSETTO:-0700
TZNAME:PDT
DTSTART:20250309T100000
END:DAYLIGHT
BEGIN:STANDARD
TZOFFSETFROM:-0700
TZOFFSETTO:-0800
TZNAME:PST
DTSTART:20251102T090000
END:STANDARD
END:VTIMEZONE
BEGIN:VEVENT
DTSTART;TZID=America/Los_Angeles:20241204T170000
DTEND;TZID=America/Los_Angeles:20241204T200000
DTSTAMP:20260424T155615
CREATED:20241128T222103Z
LAST-MODIFIED:20241128T222103Z
UID:15329-1733331600-1733342400@lbmoms.com
SUMMARY:Long Beach Christmas Tree Lighting 2024
DESCRIPTION:Celebrate the holiday season in Downtown Long Beach at the 10th annual Christmas Tree Lighting! \nWith a 67-foot tall Christmas tree and more than 500\,000 lights illuminating the Terrace Plaza\, this dazzling Tree Lighting shouldn’t be missed! \nFestive Activities \n\nFireworks: Marvel at the night sky a it comes alive with an impressive fireworks display.\nLive Music: Listen to enchanting melodies as musicians perform throughout the evening.\nLocal Food Trucks: Satisfy your taste buds with tempting bites from local food trucks.\nPhotos with Santa: Bring Santa your holiday wishes and pose for a special keepsake photo.\nSelfie Stations: Capture the magic of the season at holiday-themed selfie stations.\nTrain Rides: Hop on a charming holiday train for an enchanting journey.
URL:https://lbmoms.com/event/long-beach-christmas-tree-lighting-2024/
LOCATION:Terrace Plaza\, 300 E Ocean Blvd\, Long Beach\, CA\, 90802\, United States
CATEGORIES:City of Long Beach,Events,Free Events,Holiday Events
ATTACH;FMTTYPE=image/png:https://lbmoms.com/wp-content/uploads/2024/11/Toddler-Time-7.png
END:VEVENT
BEGIN:VEVENT
DTSTART;TZID=America/Los_Angeles:20241213T101500
DTEND;TZID=America/Los_Angeles:20241213T111500
DTSTAMP:20260424T155615
CREATED:20241211T070122Z
LAST-MODIFIED:20241211T070122Z
UID:15440-1734084900-1734088500@lbmoms.com
SUMMARY:Toddler Storytime @ Michelle Obama
DESCRIPTION:Join us for a storytime full of songs\, rhymes\, puppets and fingerplays! For toddlers 1-4 and their caregivers. No registration necessary.
URL:https://lbmoms.com/event/toddler-storytime-michelle-obama-2/
LOCATION:Michelle Obama Neighborhood Library\, 5870 Atlantic Ave\, Long Beach\, CA\, United States
CATEGORIES:City of Long Beach,Events,Free Events,Long Beach Moms,Parenting,Playdate
ATTACH;FMTTYPE=image/png:https://lbmoms.com/wp-content/uploads/2024/12/Toddler-Time-10.png
END:VEVENT
BEGIN:VEVENT
DTSTART;TZID=America/Los_Angeles:20241214T170000
DTEND;TZID=America/Los_Angeles:20241214T190000
DTSTAMP:20260424T155615
CREATED:20241212T221026Z
LAST-MODIFIED:20241212T221026Z
UID:15454-1734195600-1734202800@lbmoms.com
SUMMARY:70th Annual Daisy Lane Parade
DESCRIPTION:The 70th Annual Daisy Parade presented by the City of Long Beach and Councilmember Roberto Uranga is Saturday\, December 14\, 2024\, at 5pm. on Daisy Avenue. \nThe parade will start on Daisy Avenue at West Burnett Street and will travel south\, loop around Pacific Coast Highway and travel back up north\, ending near West Hill Street and Maine Avenue.
URL:https://lbmoms.com/event/70th-annual-daisy-lane-parade/
CATEGORIES:Events,Free Events,Holiday Events
ATTACH;FMTTYPE=image/png:https://lbmoms.com/wp-content/uploads/2024/12/2024-Q4-PS-Guide-IG-Carousel.png
END:VEVENT
BEGIN:VEVENT
DTSTART;TZID=America/Los_Angeles:20241214T173000
DTEND;TZID=America/Los_Angeles:20241214T193000
DTSTAMP:20260424T155615
CREATED:20241211T071559Z
LAST-MODIFIED:20241211T071559Z
UID:15446-1734197400-1734204600@lbmoms.com
SUMMARY:Shoreline Yacht Club Boat Parade 2024
DESCRIPTION:The Shoreline Yacht Club’s Christmas boat parade VIEWING PARTY offers an exciting experience with prime views of the scenic Long Beach waterfrontThe viewing party held at Shoreline Village\, known for its charming coastal atmosphere\, gives guests an ideal vantage point to take in the parade\, marina and city lights. \nEvent Schedule: 12/14/24\, 5:30-7:30pm  \n\nDJ with dancing\nBalloon Twister\nLive Holiday Music\nYMCA holiday photo booth (at an additional cost)\nSnow in the village (during the parade)\n\nSHORELINE YATCH CLUB’S ANNUAL CHRISTMAS BOAT PARADE\n5:30pm -7:00 pm (should arrive at Shoreline Village between 6/7pm) \nParade route: Shoreline Marina & Rainbow Harbor \nViewing Locations:\nFrom the restaurants\, the boardwalk at Shoreline Village and the Marina break wall behind Shoreline Village \nFREE\, NO TICKETS REQUIRED
URL:https://lbmoms.com/event/shoreline-yacht-club-boat-parade-2024/
LOCATION:Shoreline Village\, 401-435 Shoreline Village Drive\, Long Beach\, CA\, 90802\, United States
CATEGORIES:Events,Free Events,Holiday Events,Long Beach Moms,Playdate
ATTACH;FMTTYPE=image/png:https://lbmoms.com/wp-content/uploads/2024/12/Toddler-Time-12.png
END:VEVENT
BEGIN:VEVENT
DTSTART;TZID=America/Los_Angeles:20241222T103000
DTEND;TZID=America/Los_Angeles:20241222T113000
DTSTAMP:20260424T155615
CREATED:20241220T180340Z
LAST-MODIFIED:20241221T162211Z
UID:15499-1734863400-1734867000@lbmoms.com
SUMMARY:Long Beach Moms Seal Beach Pier Discovery
DESCRIPTION:Discover Seal Beach Pier with Long Beach Moms \nHey mamas! Ready for some fresh air and fun? \nJoin us for a relaxed discovery at the Seal Beach Pier! \nBring your little ones and let’s explore together. 🦋 There is a playground south of the pier. \n🗓️ When: Sunday\, Dec 22th\, 10:30 AM\n📍 Where: Seal Beach Pier (Meet at the playground south of the pier)\n👟 Dress Code: Comfy shoes\, layers & sun protection \nWe’ll enjoy a casual meet up\, explore found objects in the sand\, and most likely head to the water to explore sea creatures and shells. \nPlease bring an extra bag to capture trash and one for found seashells and more! \nDon’t forget your sunblock\, hats\, snacks\, and water! 💧 There is street parking and select parking too on the sand. \nLook for me\, usually dressed in all black stretching out by the circle of logs—and if you’re running late\, I’m sure you will see me – I’ll be wearing my large sun hat. \nCan’t wait to explore with you all! 💚 \nLearn more about Long Beach Moms and upcoming events at lbmoms.org!\n#LongBeachMoms #DiscoverSealBeach #MomLife #ExploreOutdoors #MamaMeetup #Community
URL:https://lbmoms.com/event/long-beach-moms-seal-beach-pier-discovery/
LOCATION:Seal Beach Pier\, 900 Ocean Ave\, Seal Beach\, CA\, 90740\, United States
CATEGORIES:Free Events,Long Beach Moms,Playdate
ATTACH;FMTTYPE=image/png:https://lbmoms.com/wp-content/uploads/2024/12/Seal-Beach-Meet-UP-FB-Cover-1.png
END:VEVENT
END:VCALENDAR