BEGIN:VCALENDAR
VERSION:2.0
PRODID:-//Long Beach Moms - ECPv6.15.20//NONSGML v1.0//EN
CALSCALE:GREGORIAN
METHOD:PUBLISH
X-WR-CALNAME:Long Beach Moms
X-ORIGINAL-URL:https://lbmoms.com
X-WR-CALDESC:Events for Long Beach Moms
REFRESH-INTERVAL;VALUE=DURATION:PT1H
X-Robots-Tag:noindex
X-PUBLISHED-TTL:PT1H
BEGIN:VTIMEZONE
TZID:America/Los_Angeles
BEGIN:DAYLIGHT
TZOFFSETFROM:-0800
TZOFFSETTO:-0700
TZNAME:PDT
DTSTART:20240310T100000
END:DAYLIGHT
BEGIN:STANDARD
TZOFFSETFROM:-0700
TZOFFSETTO:-0800
TZNAME:PST
DTSTART:20241103T090000
END:STANDARD
BEGIN:DAYLIGHT
TZOFFSETFROM:-0800
TZOFFSETTO:-0700
TZNAME:PDT
DTSTART:20250309T100000
END:DAYLIGHT
BEGIN:STANDARD
TZOFFSETFROM:-0700
TZOFFSETTO:-0800
TZNAME:PST
DTSTART:20251102T090000
END:STANDARD
BEGIN:DAYLIGHT
TZOFFSETFROM:-0800
TZOFFSETTO:-0700
TZNAME:PDT
DTSTART:20260308T100000
END:DAYLIGHT
BEGIN:STANDARD
TZOFFSETFROM:-0700
TZOFFSETTO:-0800
TZNAME:PST
DTSTART:20261101T090000
END:STANDARD
END:VTIMEZONE
BEGIN:VEVENT
DTSTART;TZID=America/Los_Angeles:20250524T110000
DTEND;TZID=America/Los_Angeles:20250524T130000
DTSTAMP:20260423T104136
CREATED:20250515T043354Z
LAST-MODIFIED:20250515T043354Z
UID:16480-1748084400-1748091600@lbmoms.com
SUMMARY:Water Safety Day
DESCRIPTION:Water Safety Day will educate children and families on how to stay safe in and around the water by learning essential water smart skills for the upcoming summer season. Learn about survival floating\, participate in a swim lesson evaluation\, and obtain swim lesson information. Participants will learn how to perform hands only CPR\, assist someone who needs help in the water\, and how to call 911 for help. Those in attendance are invited to stay for a free recreation swim from 1-3 p.m. at either location. Participants should plan to bring a swimsuit and towel. Registration is free!
URL:https://lbmoms.com/event/water-safety-day/
LOCATION:4320 Olympic Plaza and Silverado Park Pool\, 4320 Olympic Plaza\, 1540 W. 32nd St\, CA\, 90803\, United States
CATEGORIES:City of Long Beach,Events,Free Events
ATTACH;FMTTYPE=image/png:https://lbmoms.com/wp-content/uploads/2025/05/Water.png
END:VEVENT
END:VCALENDAR