BEGIN:VCALENDAR
VERSION:2.0
PRODID:-//Long Beach Moms - ECPv6.15.20//NONSGML v1.0//EN
CALSCALE:GREGORIAN
METHOD:PUBLISH
X-ORIGINAL-URL:https://lbmoms.com
X-WR-CALDESC:Events for Long Beach Moms
REFRESH-INTERVAL;VALUE=DURATION:PT1H
X-Robots-Tag:noindex
X-PUBLISHED-TTL:PT1H
BEGIN:VTIMEZONE
TZID:America/Los_Angeles
BEGIN:DAYLIGHT
TZOFFSETFROM:-0800
TZOFFSETTO:-0700
TZNAME:PDT
DTSTART:20240310T100000
END:DAYLIGHT
BEGIN:STANDARD
TZOFFSETFROM:-0700
TZOFFSETTO:-0800
TZNAME:PST
DTSTART:20241103T090000
END:STANDARD
BEGIN:DAYLIGHT
TZOFFSETFROM:-0800
TZOFFSETTO:-0700
TZNAME:PDT
DTSTART:20250309T100000
END:DAYLIGHT
BEGIN:STANDARD
TZOFFSETFROM:-0700
TZOFFSETTO:-0800
TZNAME:PST
DTSTART:20251102T090000
END:STANDARD
BEGIN:DAYLIGHT
TZOFFSETFROM:-0800
TZOFFSETTO:-0700
TZNAME:PDT
DTSTART:20260308T100000
END:DAYLIGHT
BEGIN:STANDARD
TZOFFSETFROM:-0700
TZOFFSETTO:-0800
TZNAME:PST
DTSTART:20261101T090000
END:STANDARD
END:VTIMEZONE
BEGIN:VEVENT
DTSTART;TZID=America/Los_Angeles:20250814T133000
DTEND;TZID=America/Los_Angeles:20250814T160000
DTSTAMP:20260422T235435
CREATED:20250806T214514Z
LAST-MODIFIED:20250806T214514Z
UID:17552-1755178200-1755187200@lbmoms.com
SUMMARY:Cool Crafts Roundup at the Rancho
DESCRIPTION:At Cool Crafts Roundup at Rancho Los Alamitos\, kids of all ages and adults will get the opportunity to hear stories\, roll up their sleeves\, and be creative! Crafts and stories are inspired by the environment around the Rancho and offer a multitude of perspectives to create a meaningful and engaging experience. \nNo reservations required; free admission. Drop in anytime. \nCool Crafts happens from 1:30 to 4:00 PM on the 2nd Thursday of the month April through August 2025.
URL:https://lbmoms.com/event/cool-crafts-roundup-at-the-rancho/
LOCATION:Rancho Los Alamitos\, 6400 E. Bixby Hill Road\, Long Beach\, CA\, 90815\, United States
CATEGORIES:Free Events
ATTACH;FMTTYPE=image/png:https://lbmoms.com/wp-content/uploads/2025/08/Crafts.png
END:VEVENT
BEGIN:VEVENT
DTSTART;TZID=America/Los_Angeles:20250816T120000
DTEND;TZID=America/Los_Angeles:20250816T180000
DTSTAMP:20260422T235435
CREATED:20250806T215004Z
LAST-MODIFIED:20250806T215004Z
UID:17556-1755345600-1755367200@lbmoms.com
SUMMARY:World Honey Bee Day at 2ND & PCH
DESCRIPTION:Celebrate World Honey Bee Day at 2ND & PCH during the 714 Market on Saturday\, August 16! \nActivities include: \n\nPollinator Scavenger Hunt: From 1:00 p.m. to 3:00 p.m.\, children can explore the center to uncover bee-inspired fun facts hidden among storefronts. Stop by the information booth near Beachwood Brewery to join the scavenger hunt. Participants who complete the hunt will receive a special gift (while supplies last) and be entered into a drawing for a chance to win one of six exclusive gift card prizes.\nExclusive Honey Giveaway: A limited supply of honey produced from the center’s on-site hives will be gifted to participants who complete the scavenger hunt (while supplies last).\nBeekeeper Meet & Greet: From 2:00 p.m. to 3:00 p.m.\, meet a professional beekeeper from Best Bees and learn all about the bees\, their role in our ecosystem and get your questions answered by an expert. Note – No bees will be tagging along—just the buzz without the buzzers!\n\n2ND & PCH is proud of its continued partnership with Best Bees Company\, a national leader in beekeeping and pollinator research. Through this partnership\, Best Bees maintains two beehives at 2nd & PCH\, supporting educational efforts to raise awareness about pollinators and contributing to ongoing research on biodiversity and ecosystem health. The center has carefully placed hives in discrete locations\, away from foot traffic\, to protect both bees and guests. \nThe hives at 2ND & PCH produce between 10 and 20 pounds of honey annually. As the honey reflects the flora from which the bees collect pollen\, the harvest from the property has a distinct flavor profile\, reinforcing the unique sense of place that the lifestyle center offers. The partnership with Best Bees reflects 2ND & PCH’s commitment to sustainability and environmental stewardship through initiatives that also include solar energy use\, recycling programs\, and year-round cultural programming that connects the community.
URL:https://lbmoms.com/event/world-honey-bee-day-at-2nd-pch/
LOCATION:2nd & PCH\, 6400 Pacific Coast Hwy\, Long Beach\, CA\, 90803\, United States
CATEGORIES:Free Events
ATTACH;FMTTYPE=image/png:https://lbmoms.com/wp-content/uploads/2025/08/Newsletter-Event-Graphics-4.png
END:VEVENT
BEGIN:VEVENT
DTSTART;TZID=America/Los_Angeles:20250816T160000
DTEND;TZID=America/Los_Angeles:20250816T220000
DTSTAMP:20260422T235435
CREATED:20250814T215537Z
LAST-MODIFIED:20250814T215537Z
UID:17674-1755360000-1755381600@lbmoms.com
SUMMARY:Taste of Downtown: Bevs\, Bites & Beats with KCRW
DESCRIPTION:The first-ever Taste of Downtown “Bevs\, Bites & Beats” event will be held in partnership with KCRW radio\, so plan on ending your summer with a bang! Enjoy an electrifying night of craft beverages at this beer & wine fest-style evening while enjoying delicious bites\, KCRW DJs\, and activities. \nThe final Taste of Downtown event of the season\, Bevs\, Bites & Beats\, will feature live music from Manuel the Band and KCRW DJs Jeremy Sole & DJ Nobody\, bite-size food samples\, beer\, wine\, and cocktails from Downtown’s rich community of creatives\, chefs\, brewers\, and mixologists\, along with activities and experiences highlighting the waterfront. \nThis event will take over the green space in front of The Pike’s ferris wheel & carousel. It’s a jam-packed day of music\, fun\, friends\, and tasty bites and drinks! This is your last chance to use up your Taste tickets\, so you won’t want to miss this one!
URL:https://lbmoms.com/event/taste-of-downtown-bevs-bites-beats-with-kcrw/
LOCATION:21 W Shoreline Dr\, 6400 Pacific Coast Hwy\, Long Beach\, CA\, 90802\, United States
CATEGORIES:Events
ATTACH;FMTTYPE=image/jpeg:https://lbmoms.com/wp-content/uploads/2025/08/Bevs.jpg
END:VEVENT
END:VCALENDAR