BEGIN:VCALENDAR
VERSION:2.0
PRODID:-//Long Beach Moms - ECPv6.15.20//NONSGML v1.0//EN
CALSCALE:GREGORIAN
METHOD:PUBLISH
X-WR-CALNAME:Long Beach Moms
X-ORIGINAL-URL:https://lbmoms.com
X-WR-CALDESC:Events for Long Beach Moms
REFRESH-INTERVAL;VALUE=DURATION:PT1H
X-Robots-Tag:noindex
X-PUBLISHED-TTL:PT1H
BEGIN:VTIMEZONE
TZID:America/Los_Angeles
BEGIN:DAYLIGHT
TZOFFSETFROM:-0800
TZOFFSETTO:-0700
TZNAME:PDT
DTSTART:20240310T100000
END:DAYLIGHT
BEGIN:STANDARD
TZOFFSETFROM:-0700
TZOFFSETTO:-0800
TZNAME:PST
DTSTART:20241103T090000
END:STANDARD
BEGIN:DAYLIGHT
TZOFFSETFROM:-0800
TZOFFSETTO:-0700
TZNAME:PDT
DTSTART:20250309T100000
END:DAYLIGHT
BEGIN:STANDARD
TZOFFSETFROM:-0700
TZOFFSETTO:-0800
TZNAME:PST
DTSTART:20251102T090000
END:STANDARD
BEGIN:DAYLIGHT
TZOFFSETFROM:-0800
TZOFFSETTO:-0700
TZNAME:PDT
DTSTART:20260308T100000
END:DAYLIGHT
BEGIN:STANDARD
TZOFFSETFROM:-0700
TZOFFSETTO:-0800
TZNAME:PST
DTSTART:20261101T090000
END:STANDARD
END:VTIMEZONE
BEGIN:VEVENT
DTSTART;TZID=America/Los_Angeles:20250913T080000
DTEND;TZID=America/Los_Angeles:20250913T170000
DTSTAMP:20260422T221220
CREATED:20250911T184029Z
LAST-MODIFIED:20250911T184029Z
UID:18012-1757750400-1757782800@lbmoms.com
SUMMARY:Vida Latina: Take & Make DIY Lotería Cards
DESCRIPTION:Celebrate the start of Vida Latina by picking up your own Take & Make Craft Kit to create DIY Lotería Cards! The kits are available at all branches starting September 13\, while supplies last. \nEach kit is limited to one per family and includes materials to create four unique single Lotería cards\, a box of 10 markers\, and scrap craft materials. \n\n¡Celebra el inicio de Vida Latina adquiriendo tu propio kit de manualidades Take & Make para crear tarjetas de lotería DIY! Los kits estarán disponibles en todas las sucursales a partir del 13 de septiembre\, hasta agotar existencias.  \nCada kit está limitado a uno por familia e incluye materiales para crear cuatro tarjetas de lotería únicas\, una caja de 10 marcadores y materiales de manualidades. \n\n\n\n\nAddress\nAll locations\n\n\nLibrary Location\nAlamitos\, Bach\, Bay Shore\, Billie Jean King\, Brewitt\, Burnett\, Dana\, El Dorado\, Harte\, Los Altos\, Mark Twain\, Michelle Obama\n\n\nEvent Type\nArts and Crafts\, Cultural Event\, Vida Latina\n\n\nAudience\nAll Ages\n\n\nContact Name\nNancy Garcia Ramirez\n\n\nContact Email\nnancy.garciaramirez@longbeach.gov\n\n\nContact Phone\n562-570-1046\n\n\nDepartment\nLong Beach Public Library
URL:https://lbmoms.com/event/vida-latina-take-make-diy-loteria-cards/
LOCATION:CA
CATEGORIES:Free Events
ATTACH;FMTTYPE=image/png:https://lbmoms.com/wp-content/uploads/2025/09/Newsletter-Event-Graphics-8.png
END:VEVENT
END:VCALENDAR