BEGIN:VCALENDAR
VERSION:2.0
PRODID:-//Long Beach Moms - ECPv6.15.20//NONSGML v1.0//EN
CALSCALE:GREGORIAN
METHOD:PUBLISH
X-ORIGINAL-URL:https://lbmoms.com
X-WR-CALDESC:Events for Long Beach Moms
REFRESH-INTERVAL;VALUE=DURATION:PT1H
X-Robots-Tag:noindex
X-PUBLISHED-TTL:PT1H
BEGIN:VTIMEZONE
TZID:America/Los_Angeles
BEGIN:DAYLIGHT
TZOFFSETFROM:-0800
TZOFFSETTO:-0700
TZNAME:PDT
DTSTART:20230312T100000
END:DAYLIGHT
BEGIN:STANDARD
TZOFFSETFROM:-0700
TZOFFSETTO:-0800
TZNAME:PST
DTSTART:20231105T090000
END:STANDARD
BEGIN:DAYLIGHT
TZOFFSETFROM:-0800
TZOFFSETTO:-0700
TZNAME:PDT
DTSTART:20240310T100000
END:DAYLIGHT
BEGIN:STANDARD
TZOFFSETFROM:-0700
TZOFFSETTO:-0800
TZNAME:PST
DTSTART:20241103T090000
END:STANDARD
BEGIN:DAYLIGHT
TZOFFSETFROM:-0800
TZOFFSETTO:-0700
TZNAME:PDT
DTSTART:20250309T100000
END:DAYLIGHT
BEGIN:STANDARD
TZOFFSETFROM:-0700
TZOFFSETTO:-0800
TZNAME:PST
DTSTART:20251102T090000
END:STANDARD
END:VTIMEZONE
BEGIN:VEVENT
DTSTART;TZID=America/Los_Angeles:20241213T101500
DTEND;TZID=America/Los_Angeles:20241213T111500
DTSTAMP:20260424T173605
CREATED:20241211T070122Z
LAST-MODIFIED:20241211T070122Z
UID:15440-1734084900-1734088500@lbmoms.com
SUMMARY:Toddler Storytime @ Michelle Obama
DESCRIPTION:Join us for a storytime full of songs\, rhymes\, puppets and fingerplays! For toddlers 1-4 and their caregivers. No registration necessary.
URL:https://lbmoms.com/event/toddler-storytime-michelle-obama-2/
LOCATION:Michelle Obama Neighborhood Library\, 5870 Atlantic Ave\, Long Beach\, CA\, United States
CATEGORIES:City of Long Beach,Events,Free Events,Long Beach Moms,Parenting,Playdate
ATTACH;FMTTYPE=image/png:https://lbmoms.com/wp-content/uploads/2024/12/Toddler-Time-10.png
END:VEVENT
BEGIN:VEVENT
DTSTART;TZID=America/Los_Angeles:20241214T170000
DTEND;TZID=America/Los_Angeles:20241214T190000
DTSTAMP:20260424T173605
CREATED:20241212T221026Z
LAST-MODIFIED:20241212T221026Z
UID:15454-1734195600-1734202800@lbmoms.com
SUMMARY:70th Annual Daisy Lane Parade
DESCRIPTION:The 70th Annual Daisy Parade presented by the City of Long Beach and Councilmember Roberto Uranga is Saturday\, December 14\, 2024\, at 5pm. on Daisy Avenue. \nThe parade will start on Daisy Avenue at West Burnett Street and will travel south\, loop around Pacific Coast Highway and travel back up north\, ending near West Hill Street and Maine Avenue.
URL:https://lbmoms.com/event/70th-annual-daisy-lane-parade/
CATEGORIES:Events,Free Events,Holiday Events
ATTACH;FMTTYPE=image/png:https://lbmoms.com/wp-content/uploads/2024/12/2024-Q4-PS-Guide-IG-Carousel.png
END:VEVENT
END:VCALENDAR