BEGIN:VCALENDAR
VERSION:2.0
PRODID:-//Long Beach Moms - ECPv6.15.20//NONSGML v1.0//EN
CALSCALE:GREGORIAN
METHOD:PUBLISH
X-WR-CALNAME:Long Beach Moms
X-ORIGINAL-URL:https://lbmoms.com
X-WR-CALDESC:Events for Long Beach Moms
REFRESH-INTERVAL;VALUE=DURATION:PT1H
X-Robots-Tag:noindex
X-PUBLISHED-TTL:PT1H
BEGIN:VTIMEZONE
TZID:America/Los_Angeles
BEGIN:DAYLIGHT
TZOFFSETFROM:-0800
TZOFFSETTO:-0700
TZNAME:PDT
DTSTART:20240310T100000
END:DAYLIGHT
BEGIN:STANDARD
TZOFFSETFROM:-0700
TZOFFSETTO:-0800
TZNAME:PST
DTSTART:20241103T090000
END:STANDARD
BEGIN:DAYLIGHT
TZOFFSETFROM:-0800
TZOFFSETTO:-0700
TZNAME:PDT
DTSTART:20250309T100000
END:DAYLIGHT
BEGIN:STANDARD
TZOFFSETFROM:-0700
TZOFFSETTO:-0800
TZNAME:PST
DTSTART:20251102T090000
END:STANDARD
BEGIN:DAYLIGHT
TZOFFSETFROM:-0800
TZOFFSETTO:-0700
TZNAME:PDT
DTSTART:20260308T100000
END:DAYLIGHT
BEGIN:STANDARD
TZOFFSETFROM:-0700
TZOFFSETTO:-0800
TZNAME:PST
DTSTART:20261101T090000
END:STANDARD
END:VTIMEZONE
BEGIN:VEVENT
DTSTART;TZID=America/Los_Angeles:20250620T180000
DTEND;TZID=America/Los_Angeles:20250620T210000
DTSTAMP:20260421T095718
CREATED:20250619T205328Z
LAST-MODIFIED:20250619T205328Z
UID:16861-1750442400-1750453200@lbmoms.com
SUMMARY:Campaign Kick-Off Fundraiser for Vivian Malauulu
DESCRIPTION:💔 These are difficult times for many of our neighbors across the country—and the weight of it is being felt right here at home. \n♥️ Even in the midst of uncertainty\, I still believe that community is our greatest strength\, and that progress is always possible when we work together. \n🌅 That belief is what’s driving me to run for Long Beach City Council\, District 7—which includes the culturally rich neighborhoods of West Long Beach and the economic engine that is the Port of Long Beach. \n🎉 I’d be honored if you’d join me and our ILWU family for the official kickoff of our people-powered campaign on Friday\, June 20th. We’ll celebrate our roots\, lift up our shared values\, and launch a new chapter for District 7—together. \n🗓️ Date:\nFriday\, June 20\, 2025 \n🕕 Time:\n6 PM start\n7 PM program \n📍 Location:\nPort Town Brewery\n285 West 7th Street\nSan Pedro\, CA 90731 \n✊🏼 Hosts:\nILWU Locals 13\, 63\, 94\, and SoCal District Council \n✔️ Paid for by:\nVivian Malauulu for City Council FPPC #1479357\nLabor donated. \n👩🏻‍🏫 As a career educator\,\n👷🏻‍♀️ longshore worker\,\n🙋🏻‍♀️ union leader\,\n👩🏻‍⚖️ elected trustee of the Long Beach Community College District\, and\n💃🏻 wife and mother\, \n💪🏼 I’ve spent the past 30 years fighting for educational access\, defending working families\, expanding opportunity in underserved neighborhoods\, and building community partnerships that deliver real results. \n📈 We’ve seen firsthand what our community can accomplish when we invest in people’s potential\, advocate for working families\, and revitalize our streets with smart development and small business support. \n🏢 Now\, I’m ready to take that same commitment and passion to City Hall—where fresh energy\, a bold vision\, and intentional leadership can move our city forward. \n✨ Together\, we can elevate our district\, lead with purpose\, and approach every decision with the care and urgency our vibrant community deserves—for our neighborhoods\, our local businesses\, and our collective future. \n🔌 The West Long Beach we dream of is loading—and you are the power source we need to launch it. \n📋 We’re expecting a great turnout\, so be sure to RSVP to get on the list. Dinner will be provided. The first 100 guests to RSVP will receive a premium drink voucher. \n🤗 Even if you can’t make it\, RSVP “no” and you will be added to the list for campaign updates and future events. We have lots of fun things planned! \n🔗 RSVP: https://docs.google.com/forms/d/e/1FAIpQLSer7JVykmJ2Lf7JmVLkLOjPSVSw6oTYZNR3wD43PsCEjk5Y6A/viewform
URL:https://lbmoms.com/event/campaign-kick-off-fundraiser-for-vivian-malauulu/
LOCATION:285 West 7th Street\, 285 West 7th Street\, San Pedro\, CA\, 90731\, United States
CATEGORIES:Events
ATTACH;FMTTYPE=image/png:https://lbmoms.com/wp-content/uploads/2025/06/4-Vivian-Malauulu-Campaign-Kick-Off-Fundraiser-06-20-2025.png.png
END:VEVENT
END:VCALENDAR