BEGIN:VCALENDAR
VERSION:2.0
PRODID:-//Long Beach Moms - ECPv6.15.20//NONSGML v1.0//EN
CALSCALE:GREGORIAN
METHOD:PUBLISH
X-WR-CALNAME:Long Beach Moms
X-ORIGINAL-URL:https://lbmoms.com
X-WR-CALDESC:Events for Long Beach Moms
REFRESH-INTERVAL;VALUE=DURATION:PT1H
X-Robots-Tag:noindex
X-PUBLISHED-TTL:PT1H
BEGIN:VTIMEZONE
TZID:America/Los_Angeles
BEGIN:DAYLIGHT
TZOFFSETFROM:-0800
TZOFFSETTO:-0700
TZNAME:PDT
DTSTART:20240310T100000
END:DAYLIGHT
BEGIN:STANDARD
TZOFFSETFROM:-0700
TZOFFSETTO:-0800
TZNAME:PST
DTSTART:20241103T090000
END:STANDARD
BEGIN:DAYLIGHT
TZOFFSETFROM:-0800
TZOFFSETTO:-0700
TZNAME:PDT
DTSTART:20250309T100000
END:DAYLIGHT
BEGIN:STANDARD
TZOFFSETFROM:-0700
TZOFFSETTO:-0800
TZNAME:PST
DTSTART:20251102T090000
END:STANDARD
BEGIN:DAYLIGHT
TZOFFSETFROM:-0800
TZOFFSETTO:-0700
TZNAME:PDT
DTSTART:20260308T100000
END:DAYLIGHT
BEGIN:STANDARD
TZOFFSETFROM:-0700
TZOFFSETTO:-0800
TZNAME:PST
DTSTART:20261101T090000
END:STANDARD
END:VTIMEZONE
BEGIN:VEVENT
DTSTART;TZID=America/Los_Angeles:20251221T120000
DTEND;TZID=America/Los_Angeles:20251221T160000
DTSTAMP:20260421T231609
CREATED:20251218T214803Z
LAST-MODIFIED:20251218T214826Z
UID:18961-1766318400-1766332800@lbmoms.com
SUMMARY:Honoring Love\, Holding Loss: A Holiday Grief Gathering
DESCRIPTION:Join us for a special holiday drive where grieving families can connect and bond with free food and fun activities.\n\n\n\nHonoring Love\, Holding Loss: A Holiday Grief Gathering \nHosted by 2.18 Vision \nPart of our annual Holiday Drive & Daughters Connect initiative \nThe holiday season can feel different when someone we love is no longer here. This gathering is a gentle space to reflect\, breathe\, honor our loved ones\, and be supported by community. There is no program to perform\, no expectation to speak — simply a place to come as you are. \nThis gathering is open to anyone experiencing grief\, whether your loss is recent or from years past. You are welcome to sit quietly\, connect with others\, or simply receive the warmth of shared presence. \nSpecial Recognition \nAs part of our Daughters Connect tradition\, we will hold a tender moment to honor daughters who have lost their fathers in 2025. Each daughter will receive a special gift and acknowledgment of her journey through this first season of “different.” \nIf you know a daughter who has lost her father this year\, you may nominate her to receive a gift here: Click here to nominate for a free gift \nWhat to Expect \n\nA calm and supportive environment\nSoft music and grounding reflection\nSpace to share (optional)\nLight refreshments\nA moment of collective remembrance\nSpecial acknowledgment for daughters who have experienced father loss this year\n\nThis is not a holiday party. \nIt is a space to be held\, seen\, and supported. \nFree to attend. \nRSVP required so we can prepare with care and gifts. \nWe honor your presence. \nWe honor your story. \nWe honor the love that continues.
URL:https://lbmoms.com/event/honoring-love-holding-loss-a-holiday-grief-gathering/
LOCATION:4401 Atlantic Avenue\, 4401 Atlantic Avenue\, Long Beach\, CA\, 90807\, United States
CATEGORIES:Free Events
ATTACH;FMTTYPE=image/jpeg:https://lbmoms.com/wp-content/uploads/2025/12/Grief.jpeg
END:VEVENT
END:VCALENDAR