BEGIN:VCALENDAR
VERSION:2.0
PRODID:-//Long Beach Moms - ECPv6.15.20//NONSGML v1.0//EN
CALSCALE:GREGORIAN
METHOD:PUBLISH
X-ORIGINAL-URL:https://lbmoms.com
X-WR-CALDESC:Events for Long Beach Moms
REFRESH-INTERVAL;VALUE=DURATION:PT1H
X-Robots-Tag:noindex
X-PUBLISHED-TTL:PT1H
BEGIN:VTIMEZONE
TZID:America/Los_Angeles
BEGIN:DAYLIGHT
TZOFFSETFROM:-0800
TZOFFSETTO:-0700
TZNAME:PDT
DTSTART:20230312T100000
END:DAYLIGHT
BEGIN:STANDARD
TZOFFSETFROM:-0700
TZOFFSETTO:-0800
TZNAME:PST
DTSTART:20231105T090000
END:STANDARD
BEGIN:DAYLIGHT
TZOFFSETFROM:-0800
TZOFFSETTO:-0700
TZNAME:PDT
DTSTART:20240310T100000
END:DAYLIGHT
BEGIN:STANDARD
TZOFFSETFROM:-0700
TZOFFSETTO:-0800
TZNAME:PST
DTSTART:20241103T090000
END:STANDARD
BEGIN:DAYLIGHT
TZOFFSETFROM:-0800
TZOFFSETTO:-0700
TZNAME:PDT
DTSTART:20250309T100000
END:DAYLIGHT
BEGIN:STANDARD
TZOFFSETFROM:-0700
TZOFFSETTO:-0800
TZNAME:PST
DTSTART:20251102T090000
END:STANDARD
END:VTIMEZONE
BEGIN:VEVENT
DTSTART;TZID=America/Los_Angeles:20241019T160000
DTEND;TZID=America/Los_Angeles:20241019T210000
DTSTAMP:20260423T223641
CREATED:20241003T055511Z
LAST-MODIFIED:20241010T053834Z
UID:15094-1729353600-1729371600@lbmoms.com
SUMMARY:Shoreline Village Zombie Walk
DESCRIPTION:Shoreline Village’s annual Long Beach Zombie Walk + Halloween Party returns\nSaturday\, October 19th! \nFestivities kick off at 4pm! Join fellow flesh-eaters for an all-day\, family-friendly festival. \nKids Area:\n(in the grassy area near the Yarhouse) \n4-7 pm DJ Rome\n4-7 pm Yard Games\n4-7 pm Free Halloween Jumper (children only)\n4-7 pm Free Face Painting (children only)\n5-7 pm Free Balloon Twister (children only) \n-More to come- \nAdult Area:\n(along Shoreline Village’s boardwalk) \n6-10 pm DJ Impeccable Styles\nTBA Thrill the World dancers (performing Thriller) \n7:00 pm Costume Contest \n7:30 pm Pie Eating Contest\n7-10 pm DJ Del\n7-9 pm Meet the Monsters (photo op with cosplayers \n7-9 pm Novelty Acts\n7-10 pm Revolve 360 Photo Booth (donation based)\n7-9 pm Roaming Scarers\n8 pm ZOMBIE WALK \n-More to come- \nFREE Community Event! More info to come \nNO TICKETS ARE REQUIRED. \n##Please note\, this event will be scary with costumes and people surprising/scaring others.\nPlease do not bring infants or dogs that can get scared.##
URL:https://lbmoms.com/event/shoreline-village-zombie-walk/
LOCATION:Shoreline Village\, 401-435 Shoreline Village Drive\, Long Beach\, CA\, 90802\, United States
CATEGORIES:City of Long Beach,Events,Free Events
ATTACH;FMTTYPE=image/png:https://lbmoms.com/wp-content/uploads/2024/10/Shoreline-Village-Zombie-Walk-1.png
END:VEVENT
END:VCALENDAR