BEGIN:VCALENDAR
VERSION:2.0
PRODID:-//Long Beach Moms - ECPv6.15.20//NONSGML v1.0//EN
CALSCALE:GREGORIAN
METHOD:PUBLISH
X-ORIGINAL-URL:https://lbmoms.com
X-WR-CALDESC:Events for Long Beach Moms
REFRESH-INTERVAL;VALUE=DURATION:PT1H
X-Robots-Tag:noindex
X-PUBLISHED-TTL:PT1H
BEGIN:VTIMEZONE
TZID:America/Los_Angeles
BEGIN:DAYLIGHT
TZOFFSETFROM:-0800
TZOFFSETTO:-0700
TZNAME:PDT
DTSTART:20240310T100000
END:DAYLIGHT
BEGIN:STANDARD
TZOFFSETFROM:-0700
TZOFFSETTO:-0800
TZNAME:PST
DTSTART:20241103T090000
END:STANDARD
BEGIN:DAYLIGHT
TZOFFSETFROM:-0800
TZOFFSETTO:-0700
TZNAME:PDT
DTSTART:20250309T100000
END:DAYLIGHT
BEGIN:STANDARD
TZOFFSETFROM:-0700
TZOFFSETTO:-0800
TZNAME:PST
DTSTART:20251102T090000
END:STANDARD
BEGIN:DAYLIGHT
TZOFFSETFROM:-0800
TZOFFSETTO:-0700
TZNAME:PDT
DTSTART:20260308T100000
END:DAYLIGHT
BEGIN:STANDARD
TZOFFSETFROM:-0700
TZOFFSETTO:-0800
TZNAME:PST
DTSTART:20261101T090000
END:STANDARD
END:VTIMEZONE
BEGIN:VEVENT
DTSTART;TZID=America/Los_Angeles:20251213T170000
DTEND;TZID=America/Los_Angeles:20251213T180000
DTSTAMP:20260421T173935
CREATED:20251211T170751Z
LAST-MODIFIED:20251211T170751Z
UID:18838-1765645200-1765648800@lbmoms.com
SUMMARY:Daisy Lane Christmas Parade
DESCRIPTION:The annual Daisy Parade presented by the City of Long Beach and Councilmember Roberto Uranga is Saturday\, December 13\, 2025\, at 5pm. on Daisy Avenue. \nThe parade will start on Daisy Avenue at West Burnett Street and will travel south\, loop around Pacific Coast Highway and travel back up north\, ending near West Hill Street and Maine Avenue.
URL:https://lbmoms.com/event/daisy-lane-christmas-parade/
LOCATION:Daisy Avenue\, Daisy Avenue\, Long Beach\, CA\, 90806\, United States
ATTACH;FMTTYPE=image/png:https://lbmoms.com/wp-content/uploads/2025/12/Daisy.png
END:VEVENT
END:VCALENDAR