BEGIN:VCALENDAR
VERSION:2.0
PRODID:-//Long Beach Moms - ECPv6.15.20//NONSGML v1.0//EN
CALSCALE:GREGORIAN
METHOD:PUBLISH
X-ORIGINAL-URL:https://lbmoms.com
X-WR-CALDESC:Events for Long Beach Moms
REFRESH-INTERVAL;VALUE=DURATION:PT1H
X-Robots-Tag:noindex
X-PUBLISHED-TTL:PT1H
BEGIN:VTIMEZONE
TZID:America/Los_Angeles
BEGIN:DAYLIGHT
TZOFFSETFROM:-0800
TZOFFSETTO:-0700
TZNAME:PDT
DTSTART:20240310T100000
END:DAYLIGHT
BEGIN:STANDARD
TZOFFSETFROM:-0700
TZOFFSETTO:-0800
TZNAME:PST
DTSTART:20241103T090000
END:STANDARD
BEGIN:DAYLIGHT
TZOFFSETFROM:-0800
TZOFFSETTO:-0700
TZNAME:PDT
DTSTART:20250309T100000
END:DAYLIGHT
BEGIN:STANDARD
TZOFFSETFROM:-0700
TZOFFSETTO:-0800
TZNAME:PST
DTSTART:20251102T090000
END:STANDARD
BEGIN:DAYLIGHT
TZOFFSETFROM:-0800
TZOFFSETTO:-0700
TZNAME:PDT
DTSTART:20260308T100000
END:DAYLIGHT
BEGIN:STANDARD
TZOFFSETFROM:-0700
TZOFFSETTO:-0800
TZNAME:PST
DTSTART:20261101T090000
END:STANDARD
END:VTIMEZONE
BEGIN:VEVENT
DTSTART;TZID=America/Los_Angeles:20251129T120000
DTEND;TZID=America/Los_Angeles:20251129T180000
DTSTAMP:20260423T194153
CREATED:20251126T060041Z
LAST-MODIFIED:20251126T060041Z
UID:18709-1764417600-1764439200@lbmoms.com
SUMMARY:908 Holiday Fair
DESCRIPTION:Get ready for the ultimate holiday shopping experience at the 908 Holiday Fair – filled with festive cheer\, unique gifts\, and tasty treats!\n\n\n\nWelcome to the 908 Holiday Fair! \nBring your friends and family along for a day of holiday cheer! The massive top floor event space at Sports Basement Long Beach will turn into East Long Beach’s biggest holiday market and fair! \n· Get a head start on your holiday shopping with a variety of vendors offering unique gifts and goodies. \n· Enjoy festive drinks including holiday cocktails from Port City Tavern\, local brews\, hot chocolate\, coffee\, or hot apple cider. \n· Listen to holiday classics with performances by community choirs \n· Kids can enjoy photos with Santa and festive crafts and games!
URL:https://lbmoms.com/event/908-holiday-fair/
LOCATION:2100 North Bellflower Boulevard\, 2100 North Bellflower Boulevard\, Long Beach\, CA\, 90815\, United States
CATEGORIES:Events
ATTACH;FMTTYPE=image/jpeg:https://lbmoms.com/wp-content/uploads/2025/11/908.jpeg
END:VEVENT
END:VCALENDAR