BEGIN:VCALENDAR
VERSION:2.0
PRODID:-//Long Beach Moms - ECPv6.15.20//NONSGML v1.0//EN
CALSCALE:GREGORIAN
METHOD:PUBLISH
X-ORIGINAL-URL:https://lbmoms.com
X-WR-CALDESC:Events for Long Beach Moms
REFRESH-INTERVAL;VALUE=DURATION:PT1H
X-Robots-Tag:noindex
X-PUBLISHED-TTL:PT1H
BEGIN:VTIMEZONE
TZID:America/Los_Angeles
BEGIN:DAYLIGHT
TZOFFSETFROM:-0800
TZOFFSETTO:-0700
TZNAME:PDT
DTSTART:20240310T100000
END:DAYLIGHT
BEGIN:STANDARD
TZOFFSETFROM:-0700
TZOFFSETTO:-0800
TZNAME:PST
DTSTART:20241103T090000
END:STANDARD
BEGIN:DAYLIGHT
TZOFFSETFROM:-0800
TZOFFSETTO:-0700
TZNAME:PDT
DTSTART:20250309T100000
END:DAYLIGHT
BEGIN:STANDARD
TZOFFSETFROM:-0700
TZOFFSETTO:-0800
TZNAME:PST
DTSTART:20251102T090000
END:STANDARD
BEGIN:DAYLIGHT
TZOFFSETFROM:-0800
TZOFFSETTO:-0700
TZNAME:PDT
DTSTART:20260308T100000
END:DAYLIGHT
BEGIN:STANDARD
TZOFFSETFROM:-0700
TZOFFSETTO:-0800
TZNAME:PST
DTSTART:20261101T090000
END:STANDARD
END:VTIMEZONE
BEGIN:VEVENT
DTSTART;TZID=America/Los_Angeles:20250614T140000
DTEND;TZID=America/Los_Angeles:20250614T153000
DTSTAMP:20260421T061131
CREATED:20250612T063412Z
LAST-MODIFIED:20250612T063412Z
UID:16808-1749909600-1749915000@lbmoms.com
SUMMARY:Blippi: Join the Band Tour!
DESCRIPTION:C’mon and join Blippi to make music in your hometown in the brand new live Blippi: Join the Band Tour! Blippi will be joined onstage by Meekah\, their singing and dancing buddies and LIVE musicians to explore what makes music\, including sounds\, rhythms and instruments\, through all your favorite Blippi hits. So grab your drumsticks\, tune up your guitar\, and move those feet with Blippi and get ready for a musical performance that’s fun for the whole family! \nChildren under 2 years of age do not require a ticket.
URL:https://lbmoms.com/event/blippi-join-the-band-tour/
LOCATION:Terrace Theater\, 300 E Ocean Blvd\, Long Beach\, 90802\, United States
CATEGORIES:Events
ATTACH;FMTTYPE=image/jpeg:https://lbmoms.com/wp-content/uploads/2025/06/BLIPPI.jpeg
END:VEVENT
END:VCALENDAR