BEGIN:VCALENDAR
VERSION:2.0
PRODID:-//Long Beach Moms - ECPv6.15.20//NONSGML v1.0//EN
CALSCALE:GREGORIAN
METHOD:PUBLISH
X-ORIGINAL-URL:https://lbmoms.com
X-WR-CALDESC:Events for Long Beach Moms
REFRESH-INTERVAL;VALUE=DURATION:PT1H
X-Robots-Tag:noindex
X-PUBLISHED-TTL:PT1H
BEGIN:VTIMEZONE
TZID:America/Los_Angeles
BEGIN:DAYLIGHT
TZOFFSETFROM:-0800
TZOFFSETTO:-0700
TZNAME:PDT
DTSTART:20240310T100000
END:DAYLIGHT
BEGIN:STANDARD
TZOFFSETFROM:-0700
TZOFFSETTO:-0800
TZNAME:PST
DTSTART:20241103T090000
END:STANDARD
BEGIN:DAYLIGHT
TZOFFSETFROM:-0800
TZOFFSETTO:-0700
TZNAME:PDT
DTSTART:20250309T100000
END:DAYLIGHT
BEGIN:STANDARD
TZOFFSETFROM:-0700
TZOFFSETTO:-0800
TZNAME:PST
DTSTART:20251102T090000
END:STANDARD
BEGIN:DAYLIGHT
TZOFFSETFROM:-0800
TZOFFSETTO:-0700
TZNAME:PDT
DTSTART:20260308T100000
END:DAYLIGHT
BEGIN:STANDARD
TZOFFSETFROM:-0700
TZOFFSETTO:-0800
TZNAME:PST
DTSTART:20261101T090000
END:STANDARD
END:VTIMEZONE
BEGIN:VEVENT
DTSTART;TZID=America/Los_Angeles:20250720T110000
DTEND;TZID=America/Los_Angeles:20250720T120000
DTSTAMP:20260421T112644
CREATED:20250717T190210Z
LAST-MODIFIED:20250717T190210Z
UID:17245-1753009200-1753012800@lbmoms.com
SUMMARY:Kidical Mass Bike Ride
DESCRIPTION:Summer is here\, and we’re hitting the streets! ☀️ Join us for our Kidical Mass community bike ride and kick off the season with sunshine\, smiles\, and a whole lot of fun on wheels. 🚲🌻\n🚲 Ride departs at 11 AM\n📍 Pixie Toys (Back parking lot – 3914 Atlantic Ave\, Long Beach) \nKids & adults of all ages welcome.\nPlease don’t forget your helmets! \nWe’ll have free treats to keep the good vibes rolling! Bring a buddy or meet some new friends along the route. Let’s ride\, connect\, and celebrate the season together! 🌈🚴‍♀️🍦
URL:https://lbmoms.com/event/kidical-mass-bike-ride-3/
LOCATION:Pixie Toys\, 3914 Atlantic Ave\, Long Beach\, CA\, 90807\, United States
CATEGORIES:Free Events
ATTACH;FMTTYPE=image/png:https://lbmoms.com/wp-content/uploads/2025/07/Bike.png
END:VEVENT
END:VCALENDAR