BEGIN:VCALENDAR
VERSION:2.0
PRODID:-//Long Beach Moms - ECPv6.15.20//NONSGML v1.0//EN
CALSCALE:GREGORIAN
METHOD:PUBLISH
X-ORIGINAL-URL:https://lbmoms.com
X-WR-CALDESC:Events for Long Beach Moms
REFRESH-INTERVAL;VALUE=DURATION:PT1H
X-Robots-Tag:noindex
X-PUBLISHED-TTL:PT1H
BEGIN:VTIMEZONE
TZID:America/Los_Angeles
BEGIN:DAYLIGHT
TZOFFSETFROM:-0800
TZOFFSETTO:-0700
TZNAME:PDT
DTSTART:20240310T100000
END:DAYLIGHT
BEGIN:STANDARD
TZOFFSETFROM:-0700
TZOFFSETTO:-0800
TZNAME:PST
DTSTART:20241103T090000
END:STANDARD
BEGIN:DAYLIGHT
TZOFFSETFROM:-0800
TZOFFSETTO:-0700
TZNAME:PDT
DTSTART:20250309T100000
END:DAYLIGHT
BEGIN:STANDARD
TZOFFSETFROM:-0700
TZOFFSETTO:-0800
TZNAME:PST
DTSTART:20251102T090000
END:STANDARD
BEGIN:DAYLIGHT
TZOFFSETFROM:-0800
TZOFFSETTO:-0700
TZNAME:PDT
DTSTART:20260308T100000
END:DAYLIGHT
BEGIN:STANDARD
TZOFFSETFROM:-0700
TZOFFSETTO:-0800
TZNAME:PST
DTSTART:20261101T090000
END:STANDARD
END:VTIMEZONE
BEGIN:VEVENT
DTSTART;TZID=America/Los_Angeles:20250531T170000
DTEND;TZID=America/Los_Angeles:20250531T183000
DTSTAMP:20260421T083327
CREATED:20250529T033417Z
LAST-MODIFIED:20250529T033417Z
UID:16618-1748710800-1748716200@lbmoms.com
SUMMARY:Sing-a-Long Beach
DESCRIPTION:Come sing with your neighbors\, family\, and friends at Sing-a-Long Beach\, hosted by the Rec Park Band Shell at 7th Street and Park Avenue. \nAt this free\, kid-friendly concert sponsored by Long Beach Youth Chorus\, sing rock-n-roll anthems\, movie themes\, and maybe even some popular campfire songs. \nVisit the Long Beach Youth Chorus website for lyrics. \nFor details on the concert\, visit forpbs.org.
URL:https://lbmoms.com/event/sing-a-long-beach/
LOCATION:701-939 Federation Dr. Long Beach\, California 90804\, 701-939 Federation Dr.\, Long Beach\, CA\, 90804\, United States
CATEGORIES:Free Events
ATTACH;FMTTYPE=image/png:https://lbmoms.com/wp-content/uploads/2025/05/Sing.png
END:VEVENT
END:VCALENDAR