BEGIN:VCALENDAR
VERSION:2.0
PRODID:-//Long Beach Moms - ECPv6.15.20//NONSGML v1.0//EN
CALSCALE:GREGORIAN
METHOD:PUBLISH
X-ORIGINAL-URL:https://lbmoms.com
X-WR-CALDESC:Events for Long Beach Moms
REFRESH-INTERVAL;VALUE=DURATION:PT1H
X-Robots-Tag:noindex
X-PUBLISHED-TTL:PT1H
BEGIN:VTIMEZONE
TZID:America/Los_Angeles
BEGIN:DAYLIGHT
TZOFFSETFROM:-0800
TZOFFSETTO:-0700
TZNAME:PDT
DTSTART:20240310T100000
END:DAYLIGHT
BEGIN:STANDARD
TZOFFSETFROM:-0700
TZOFFSETTO:-0800
TZNAME:PST
DTSTART:20241103T090000
END:STANDARD
BEGIN:DAYLIGHT
TZOFFSETFROM:-0800
TZOFFSETTO:-0700
TZNAME:PDT
DTSTART:20250309T100000
END:DAYLIGHT
BEGIN:STANDARD
TZOFFSETFROM:-0700
TZOFFSETTO:-0800
TZNAME:PST
DTSTART:20251102T090000
END:STANDARD
BEGIN:DAYLIGHT
TZOFFSETFROM:-0800
TZOFFSETTO:-0700
TZNAME:PDT
DTSTART:20260308T100000
END:DAYLIGHT
BEGIN:STANDARD
TZOFFSETFROM:-0700
TZOFFSETTO:-0800
TZNAME:PST
DTSTART:20261101T090000
END:STANDARD
END:VTIMEZONE
BEGIN:VEVENT
DTSTART;TZID=America/Los_Angeles:20250706T093000
DTEND;TZID=America/Los_Angeles:20250706T103000
DTSTAMP:20260422T190344
CREATED:20250604T222844Z
LAST-MODIFIED:20250623T224629Z
UID:16723-1751794200-1751797800@lbmoms.com
SUMMARY:A Vocal Toning Journey Through the Chakras
DESCRIPTION:A Vocal Toning Journey Through the Chakras \nYour voice holds power beyond words…it is vibration\, medicine\, and truth. \nIn this active meditation class\, we’ll explore the healing resonance of vocal toning to move energy through the chakras\, awaken inner alignment\, and reconnect with the wisdom of the body. This is a sacred space to sound\, release\, and remember who you are beneath the noise. \nWe’ll journey through: \n\nRoot to crown chakra vocal toning\nBreathwork to soften the body and open energetic flow\nSomatic awareness + gentle movement\nCrystal bowls and holographic sound healing\nMeditation + integration to harmonize and restore\n\nNo singing experience is necessary\, just a willingness to meet yourself through sound. \nCome home to the voice of your soul. \nNo experience needed. Just come as you are\, and give yourself the gift of space. \nTicket Price: $30 \nVenmo: Angelica-Wheaton\nZelle: angelica@lbmoms.org\nCredit Card: includes processing fee https://buy.stripe.com/7sI16egoYaWl1fGcN1\n 
URL:https://lbmoms.com/event/a-vocal-toning-journey-through-the-chakras/
LOCATION:FreedOhm Wellness\, 5555 E Stearns St #108\, Long Beach\, CA\, 90815
CATEGORIES:Long Beach Moms
ATTACH;FMTTYPE=image/png:https://lbmoms.com/wp-content/uploads/2025/06/MNO-IG-FEED-VIEW-2.png
END:VEVENT
END:VCALENDAR