BEGIN:VCALENDAR
VERSION:2.0
PRODID:-//Long Beach Moms - ECPv6.15.20//NONSGML v1.0//EN
CALSCALE:GREGORIAN
METHOD:PUBLISH
X-ORIGINAL-URL:https://lbmoms.com
X-WR-CALDESC:Events for Long Beach Moms
REFRESH-INTERVAL;VALUE=DURATION:PT1H
X-Robots-Tag:noindex
X-PUBLISHED-TTL:PT1H
BEGIN:VTIMEZONE
TZID:America/Los_Angeles
BEGIN:DAYLIGHT
TZOFFSETFROM:-0800
TZOFFSETTO:-0700
TZNAME:PDT
DTSTART:20240310T100000
END:DAYLIGHT
BEGIN:STANDARD
TZOFFSETFROM:-0700
TZOFFSETTO:-0800
TZNAME:PST
DTSTART:20241103T090000
END:STANDARD
BEGIN:DAYLIGHT
TZOFFSETFROM:-0800
TZOFFSETTO:-0700
TZNAME:PDT
DTSTART:20250309T100000
END:DAYLIGHT
BEGIN:STANDARD
TZOFFSETFROM:-0700
TZOFFSETTO:-0800
TZNAME:PST
DTSTART:20251102T090000
END:STANDARD
BEGIN:DAYLIGHT
TZOFFSETFROM:-0800
TZOFFSETTO:-0700
TZNAME:PDT
DTSTART:20260308T100000
END:DAYLIGHT
BEGIN:STANDARD
TZOFFSETFROM:-0700
TZOFFSETTO:-0800
TZNAME:PST
DTSTART:20261101T090000
END:STANDARD
END:VTIMEZONE
BEGIN:VEVENT
DTSTART;TZID=America/Los_Angeles:20251020T080000
DTEND;TZID=America/Los_Angeles:20251023T170000
DTSTAMP:20260423T162611
CREATED:20250820T183320Z
LAST-MODIFIED:20250820T183320Z
UID:17737-1760947200-1761238800@lbmoms.com
SUMMARY:Beginner Mah Jongg Retreat at Miraval
DESCRIPTION:Crak Your Bags and Mahj Club invite you to join us for our beginner-friendly Mah Jongg retreat! This relaxing\, learn-as-you-play getaway will be led by Sara Linden: Mahj Club founder and esteemed instructor with over 15 years of experience teaching players of all levels.  She’ll bring her expertise to Miraval\, creating the perfect blend of self-care and discovery. \nTucked away in the rolling hills of the Balcones Canyonlands Preserve\, Miraval Austin Resort blends luxurious wellness with the peaceful Texas hills. You’ll experience a daily schedule of enriching activities including yoga\, meditation\, fitness\, outdoor adventures\, culinary demonstrations – and the incredible spa! You will also enjoy daily Mah Jongg sessions as part of your retreat. The choices are endless and tailored to your intentions. \nWhat You’ll Experience:● Learn the Game: Explore the fundamentals of American Mah Jongg\, following official National Mah Jongg League (NMJL) standards.● Hands-On Instruction: Master tile identification\, table etiquette\, and winning strategies with expert guidance.● All Materials Included: Your NMJL card and all game supplies are provided.● Relaxing Environment: Enjoy the calm and inviting spa setting while learning a timeless\, social game. \nWho It’s For:Perfect for beginners or anyone who has some experience and is looking for a solid foundation to level up their skills—no prior experience required. \nBy the End of the Series:You’ll gain the skills to start playing with friends\, community groups\, and local clubs. \n​Your spa vacation includes… \n​✔Accommodations \n✔ Healthy\, gourmet meals  \n✔ Full access to the Life in Balance Spa \n✔ $525 resort credit for spa treatments \n✔ Daily & Nightly Mah Jongg sessions \n✔Transfer from Austin Bergstrom Airport to resort \n✔A few days that will leave you relaxed\, rejuvenated and refreshed
URL:https://lbmoms.com/event/beginner-mah-jongg-retreat-at-miraval/
CATEGORIES:Events
ATTACH;FMTTYPE=image/png:https://lbmoms.com/wp-content/uploads/2025/08/Newsletter-Event-Graphics-5.png
END:VEVENT
END:VCALENDAR