BEGIN:VCALENDAR
VERSION:2.0
PRODID:-//Long Beach Moms - ECPv6.15.20//NONSGML v1.0//EN
CALSCALE:GREGORIAN
METHOD:PUBLISH
X-ORIGINAL-URL:https://lbmoms.com
X-WR-CALDESC:Events for Long Beach Moms
REFRESH-INTERVAL;VALUE=DURATION:PT1H
X-Robots-Tag:noindex
X-PUBLISHED-TTL:PT1H
BEGIN:VTIMEZONE
TZID:America/Los_Angeles
BEGIN:DAYLIGHT
TZOFFSETFROM:-0800
TZOFFSETTO:-0700
TZNAME:PDT
DTSTART:20240310T100000
END:DAYLIGHT
BEGIN:STANDARD
TZOFFSETFROM:-0700
TZOFFSETTO:-0800
TZNAME:PST
DTSTART:20241103T090000
END:STANDARD
BEGIN:DAYLIGHT
TZOFFSETFROM:-0800
TZOFFSETTO:-0700
TZNAME:PDT
DTSTART:20250309T100000
END:DAYLIGHT
BEGIN:STANDARD
TZOFFSETFROM:-0700
TZOFFSETTO:-0800
TZNAME:PST
DTSTART:20251102T090000
END:STANDARD
BEGIN:DAYLIGHT
TZOFFSETFROM:-0800
TZOFFSETTO:-0700
TZNAME:PDT
DTSTART:20260308T100000
END:DAYLIGHT
BEGIN:STANDARD
TZOFFSETFROM:-0700
TZOFFSETTO:-0800
TZNAME:PST
DTSTART:20261101T090000
END:STANDARD
END:VTIMEZONE
BEGIN:VEVENT
DTSTART;TZID=America/Los_Angeles:20251026T160000
DTEND;TZID=America/Los_Angeles:20251026T190000
DTSTAMP:20260420T215532
CREATED:20250930T171128Z
LAST-MODIFIED:20250930T171128Z
UID:18236-1761494400-1761505200@lbmoms.com
SUMMARY:March of Dimes: Signature Chefs Culinary Experience
DESCRIPTION:Join us at the annual March of Dimes: Signature Chefs Culinary Experience on Sunday\, October 26th\, at the iconic Pacific Design Center. You\, along with other distinguished guests\, will experience an exclusive afternoon of culinary excellence – featuring both notable and up-and coming chefs\, a dynamic live auction\, and inspiring program about the lasting impact you can make for years to come. \nThe US is facing a maternal and infant health crisis. About 700 women die each year from pregnancy-related complications\, making the U.S. among the most dangerous developed nations for childbirth. 2 babies die every hour. \n​But with your commitment and support\, we can create a world where every family has the best possible start. We so hope you’ll consider joining us on our mission to fight for the health of all moms and babies. \n  \n​WHEN:  Sunday\, October 26\, 2025 | 4:00 PM – 7:00 PM \nWHERE: Pacific Design Center\, 8687 Melrose Ave.\, West Hollywood \n  \nEarly Bird Tables + Sponsorships are now available for purchase\, but hurry – the deadline to receive VIP perks\, including access to the VIP Reception and special acknowledgments prior to- and during the event ends September 15th. \nFor more event information\, visit our event page\, or please contact Tanya Adolph for at tadolph@marchofdimes.org or 213-374-1567.
URL:https://lbmoms.com/event/march-of-dimes-signature-chefs-culinary-experience-2/
LOCATION:8687 Melrose Ave.\, West Hollywood\, 8687 Melrose Ave\, Los Angeles\, CA\, 90069\, United States
CATEGORIES:Events
ATTACH;FMTTYPE=image/png:https://lbmoms.com/wp-content/uploads/2025/09/Instagram-Posts-28-scaled.png
END:VEVENT
END:VCALENDAR